Workbook

Sheet Final
A1: SN | B1: Numara | C1: Adı-Soyadı | D1: Ad-Soyad | E1: Kalan Dersler | F1: Cerrahi | G1: Dahiliye | H1: Cerrahi | I1: Dahiliye | J1: Notu | K1: Sisteme Girilecek
A2: 1 | D2: =IFERROR(IF(COUNT(FIND(" ",C2,FIND(" ",C2)+1))>0,LEFT(C2,2)&REPT("*",FIND(" ",C2,1)-3)&MID(C2,FIND(" ",C2,1),3)&REPT("*",FIND(" ",C2,FIND(" ",C2)+1)-FIND(" ",C2,1)-3)&MID(C2,FIND(" ",C2,FIND(" ",C2)+1),3)&REPT("*",LEN(C2)-2-FIND(" ",C2,FIND(" ",C2)+1)),LEFT(C2,2)&REPT("*",FIND(" ",C2,1)-3)&MID(C2,FIND(" ",C2)+1,2)&REPT("*",LEN(C2)-2-FIND(" ",C2))),"") | E2: =IF(C2="","",TRIM(SUBSTITUTE(SUBSTITUTE(SUBSTITUTE(IF(H2="G",$H$1,"-")&", "&IF(H2="D",$H$1&"(Devamsız)","-")&", "&IF(H2<60,$H$1,"-")&", "&IF(I2="G",$I$1,"-")&", "&IF(I2="D",$I$1&"(Devamsız)","-")&", "&IF(I2<60,$I$1,"-"),", -",""),"-,",""),"-",""))) | F2: =IF(OR(H2="D",H2="G"),-1,H2) -> 0 | G2: =IF(OR(I2="D",I2="G"),-1,I2) -> 0 | J2: =IF(D2="","",IF(OR(H2="D",I2="D"),"D",IF(OR(H2="G",I2="G"),"G",IF(OR(H2<60,I2<60),11,(H2+I2)/2)))) | K2: =IF(J2="D","D",IF(J2="G","G",J2)) | M2: G: | N2: Girmedi
A3: 2 | D3: =IFERROR(IF(COUNT(FIND(" ",C3,FIND(" ",C3)+1))>0,LEFT(C3,2)&REPT("*",FIND(" ",C3,1)-3)&MID(C3,FIND(" ",C3,1),3)&REPT("*",FIND(" ",C3,FIND(" ",C3)+1)-FIND(" ",C3,1)-3)&MID(C3,FIND(" ",C3,FIND(" ",C3)+1),3)&REPT("*",LEN(C3)-2-FIND(" ",C3,FIND(" ",C3)+1)),LEFT(C3,2)&REPT("*",FIND(" ",C3,1)-3)&MID(C3,FIND(" ",C3)+1,2)&REPT("*",LEN(C3)-2-FIND(" ",C3))),"") | E3: =IF(C3="","",TRIM(SUBSTITUTE(SUBSTITUTE(SUBSTITUTE(IF(H3="G",$H$1,"-")&", "&IF(H3="D",$H$1&"(Devamsız)","-")&", "&IF(H3<60,$H$1,"-")&", "&IF(I3="G",$I$1,"-")&", "&IF(I3="D",$I$1&"(Devamsız)","-")&", "&IF(I3<60,$I$1,"-"),", -",""),"-,",""),"-",""))) | F3: =IF(OR(H3="D",H3="G"),-1,H3) -> 0 | G3: =IF(OR(I3="D",I3="G"),-1,I3) -> 0 | J3: =IF(D3="","",IF(OR(H3="D",I3="D"),"D",IF(OR(H3="G",I3="G"),"G",IF(OR(H3<60,I3<60),11,(H3+I3)/2)))) | K3: =IF(J3="D","D",IF(J3="G","G",J3)) | M3: D: | N3: Devamsız
A4: 3 | D4: =IFERROR(IF(COUNT(FIND(" ",C4,FIND(" ",C4)+1))>0,LEFT(C4,2)&REPT("*",FIND(" ",C4,1)-3)&MID(C4,FIND(" ",C4,1),3)&REPT("*",FIND(" ",C4,FIND(" ",C4)+1)-FIND(" ",C4,1)-3)&MID(C4,FIND(" ",C4,FIND(" ",C4)+1),3)&REPT("*",LEN(C4)-2-FIND(" ",C4,FIND(" ",C4)+1)),LEFT(C4,2)&REPT("*",FIND(" ",C4,1)-3)&MID(C4,FIND(" ",C4)+1,2)&REPT("*",LEN(C4)-2-FIND(" ",C4))),"") | E4: =IF(C4="","",TRIM(SUBSTITUTE(SUBSTITUTE(SUBSTITUTE(IF(H4="G",$H$1,"-")&", "&IF(H4="D",$H$1&"(Devamsız)","-")&", "&IF(H4<60,$H$1,"-")&", "&IF(I4="G",$I$1,"-")&", "&IF(I4="D",$I$1&"(Devamsız)","-")&", "&IF(I4<60,$I$1,"-"),", -",""),"-,",""),"-",""))) | F4: =IF(OR(H4="D",H4="G"),-1,H4) -> 0 | G4: =IF(OR(I4="D",I4="G"),-1,I4) -> 0 | J4: =IF(D4="","",IF(OR(H4="D",I4="D"),"D",IF(OR(H4="G",I4="G"),"G",IF(OR(H4<60,I4<60),11,(H4+I4)/2)))) | K4: =IF(J4="D","D",IF(J4="G","G",J4))
A5: 4 | D5: =IFERROR(IF(COUNT(FIND(" ",C5,FIND(" ",C5)+1))>0,LEFT(C5,2)&REPT("*",FIND(" ",C5,1)-3)&MID(C5,FIND(" ",C5,1),3)&REPT("*",FIND(" ",C5,FIND(" ",C5)+1)-FIND(" ",C5,1)-3)&MID(C5,FIND(" ",C5,FIND(" ",C5)+1),3)&REPT("*",LEN(C5)-2-FIND(" ",C5,FIND(" ",C5)+1)),LEFT(C5,2)&REPT("*",FIND(" ",C5,1)-3)&MID(C5,FIND(" ",C5)+1,2)&REPT("*",LEN(C5)-2-FIND(" ",C5))),"") | E5: =IF(C5="","",TRIM(SUBSTITUTE(SUBSTITUTE(SUBSTITUTE(IF(H5="G",$H$1,"-")&", "&IF(H5="D",$H$1&"(Devamsız)","-")&", "&IF(H5<60,$H$1,"-")&", "&IF(I5="G",$I$1,"-")&", "&IF(I5="D",$I$1&"(Devamsız)","-")&", "&IF(I5<60,$I$1,"-"),", -",""),"-,",""),"-",""))) | F5: =IF(OR(H5="D",H5="G"),-1,H5) -> 0 | G5: =IF(OR(I5="D",I5="G"),-1,I5) -> 0 | J5: =IF(D5="","",IF(OR(H5="D",I5="D"),"D",IF(OR(H5="G",I5="G"),"G",IF(OR(H5<60,I5<60),11,(H5+I5)/2)))) | K5: =IF(J5="D","D",IF(J5="G","G",J5))
A6: 5 | D6: =IFERROR(IF(COUNT(FIND(" ",C6,FIND(" ",C6)+1))>0,LEFT(C6,2)&REPT("*",FIND(" ",C6,1)-3)&MID(C6,FIND(" ",C6,1),3)&REPT("*",FIND(" ",C6,FIND(" ",C6)+1)-FIND(" ",C6,1)-3)&MID(C6,FIND(" ",C6,FIND(" ",C6)+1),3)&REPT("*",LEN(C6)-2-FIND(" ",C6,FIND(" ",C6)+1)),LEFT(C6,2)&REPT("*",FIND(" ",C6,1)-3)&MID(C6,FIND(" ",C6)+1,2)&REPT("*",LEN(C6)-2-FIND(" ",C6))),"") | E6: =IF(C6="","",TRIM(SUBSTITUTE(SUBSTITUTE(SUBSTITUTE(IF(H6="G",$H$1,"-")&", "&IF(H6="D",$H$1&"(Devamsız)","-")&", "&IF(H6<60,$H$1,"-")&", "&IF(I6="G",$I$1,"-")&", "&IF(I6="D",$I$1&"(Devamsız)","-")&", "&IF(I6<60,$I$1,"-"),", -",""),"-,",""),"-",""))) | F6: =IF(OR(H6="D",H6="G"),-1,H6) -> 0 | G6: =IF(OR(I6="D",I6="G"),-1,I6) -> 0 | J6: =IF(D6="","",IF(OR(H6="D",I6="D"),"D",IF(OR(H6="G",I6="G"),"G",IF(OR(H6<60,I6<60),11,(H6+I6)/2)))) | K6: =IF(J6="D","D",IF(J6="G","G",J6))
A7: 6 | D7: =IFERROR(IF(COUNT(FIND(" ",C7,FIND(" ",C7)+1))>0,LEFT(C7,2)&REPT("*",FIND(" ",C7,1)-3)&MID(C7,FIND(" ",C7,1),3)&REPT("*",FIND(" ",C7,FIND(" ",C7)+1)-FIND(" ",C7,1)-3)&MID(C7,FIND(" ",C7,FIND(" ",C7)+1),3)&REPT("*",LEN(C7)-2-FIND(" ",C7,FIND(" ",C7)+1)),LEFT(C7,2)&REPT("*",FIND(" ",C7,1)-3)&MID(C7,FIND(" ",C7)+1,2)&REPT("*",LEN(C7)-2-FIND(" ",C7))),"") | E7: =IF(C7="","",TRIM(SUBSTITUTE(SUBSTITUTE(SUBSTITUTE(IF(H7="G",$H$1,"-")&", "&IF(H7="D",$H$1&"(Devamsız)","-")&", "&IF(H7<60,$H$1,"-")&", "&IF(I7="G",$I$1,"-")&", "&IF(I7="D",$I$1&"(Devamsız)","-")&", "&IF(I7<60,$I$1,"-"),", -",""),"-,",""),"-",""))) | F7: =IF(OR(H7="D",H7="G"),-1,H7) -> 0 | G7: =IF(OR(I7="D",I7="G"),-1,I7) -> 0 | J7: =IF(D7="","",IF(OR(H7="D",I7="D"),"D",IF(OR(H7="G",I7="G"),"G",IF(OR(H7<60,I7<60),11,(H7+I7)/2)))) | K7: =IF(J7="D","D",IF(J7="G","G",J7))
A8: 7 | D8: =IFERROR(IF(COUNT(FIND(" ",C8,FIND(" ",C8)+1))>0,LEFT(C8,2)&REPT("*",FIND(" ",C8,1)-3)&MID(C8,FIND(" ",C8,1),3)&REPT("*",FIND(" ",C8,FIND(" ",C8)+1)-FIND(" ",C8,1)-3)&MID(C8,FIND(" ",C8,FIND(" ",C8)+1),3)&REPT("*",LEN(C8)-2-FIND(" ",C8,FIND(" ",C8)+1)),LEFT(C8,2)&REPT("*",FIND(" ",C8,1)-3)&MID(C8,FIND(" ",C8)+1,2)&REPT("*",LEN(C8)-2-FIND(" ",C8))),"") | E8: =IF(C8="","",TRIM(SUBSTITUTE(SUBSTITUTE(SUBSTITUTE(IF(H8="G",$H$1,"-")&", "&IF(H8="D",$H$1&"(Devamsız)","-")&", "&IF(H8<60,$H$1,"-")&", "&IF(I8="G",$I$1,"-")&", "&IF(I8="D",$I$1&"(Devamsız)","-")&", "&IF(I8<60,$I$1,"-"),", -",""),"-,",""),"-",""))) | F8: =IF(OR(H8="D",H8="G"),-1,H8) -> 0 | G8: =IF(OR(I8="D",I8="G"),-1,I8) -> 0 | J8: =IF(D8="","",IF(OR(H8="D",I8="D"),"D",IF(OR(H8="G",I8="G"),"G",IF(OR(H8<60,I8<60),11,(H8+I8)/2)))) | K8: =IF(J8="D","D",IF(J8="G","G",J8))
A9: 8 | D9: =IFERROR(IF(COUNT(FIND(" ",C9,FIND(" ",C9)+1))>0,LEFT(C9,2)&REPT("*",FIND(" ",C9,1)-3)&MID(C9,FIND(" ",C9,1),3)&REPT("*",FIND(" ",C9,FIND(" ",C9)+1)-FIND(" ",C9,1)-3)&MID(C9,FIND(" ",C9,FIND(" ",C9)+1),3)&REPT("*",LEN(C9)-2-FIND(" ",C9,FIND(" ",C9)+1)),LEFT(C9,2)&REPT("*",FIND(" ",C9,1)-3)&MID(C9,FIND(" ",C9)+1,2)&REPT("*",LEN(C9)-2-FIND(" ",C9))),"") | E9: =IF(C9="","",TRIM(SUBSTITUTE(SUBSTITUTE(SUBSTITUTE(IF(H9="G",$H$1,"-")&", "&IF(H9="D",$H$1&"(Devamsız)","-")&", "&IF(H9<60,$H$1,"-")&", "&IF(I9="G",$I$1,"-")&", "&IF(I9="D",$I$1&"(Devamsız)","-")&", "&IF(I9<60,$I$1,"-"),", -",""),"-,",""),"-",""))) | F9: =IF(OR(H9="D",H9="G"),-1,H9) -> 0 | G9: =IF(OR(I9="D",I9="G"),-1,I9) -> 0 | J9: =IF(D9="","",IF(OR(H9="D",I9="D"),"D",IF(OR(H9="G",I9="G"),"G",IF(OR(H9<60,I9<60),11,(H9+I9)/2)))) | K9: =IF(J9="D","D",IF(J9="G","G",J9))
A10: 9 | D10: =IFERROR(IF(COUNT(FIND(" ",C10,FIND(" ",C10)+1))>0,LEFT(C10,2)&REPT("*",FIND(" ",C10,1)-3)&MID(C10,FIND(" ",C10,1),3)&REPT("*",FIND(" ",C10,FIND(" ",C10)+1)-FIND(" ",C10,1)-3)&MID(C10,FIND(" ",C10,FIND(" ",C10)+1),3)&REPT("*",LEN(C10)-2-FIND(" ",C10,FIND(" ",C10)+1)),LEFT(C10,2)&REPT("*",FIND(" ",C10,1)-3)&MID(C10,FIND(" ",C10)+1,2)&REPT("*",LEN(C10)-2-FIND(" ",C10))),"") | E10: =IF(C10="","",TRIM(SUBSTITUTE(SUBSTITUTE(SUBSTITUTE(IF(H10="G",$H$1,"-")&", "&IF(H10="D",$H$1&"(Devamsız)","-")&", "&IF(H10<60,$H$1,"-")&", "&IF(I10="G",$I$1,"-")&", "&IF(I10="D",$I$1&"(Devamsız)","-")&", "&IF(I10<60,$I$1,"-"),", -",""),"-,",""),"-",""))) | F10: =IF(OR(H10="D",H10="G"),-1,H10) -> 0 | G10: =IF(OR(I10="D",I10="G"),-1,I10) -> 0 | J10: =IF(D10="","",IF(OR(H10="D",I10="D"),"D",IF(OR(H10="G",I10="G"),"G",IF(OR(H10<60,I10<60),11,(H10+I10)/2)))) | K10: =IF(J10="D","D",IF(J10="G","G",J10))
A11: 10 | D11: =IFERROR(IF(COUNT(FIND(" ",C11,FIND(" ",C11)+1))>0,LEFT(C11,2)&REPT("*",FIND(" ",C11,1)-3)&MID(C11,FIND(" ",C11,1),3)&REPT("*",FIND(" ",C11,FIND(" ",C11)+1)-FIND(" ",C11,1)-3)&MID(C11,FIND(" ",C11,FIND(" ",C11)+1),3)&REPT("*",LEN(C11)-2-FIND(" ",C11,FIND(" ",C11)+1)),LEFT(C11,2)&REPT("*",FIND(" ",C11,1)-3)&MID(C11,FIND(" ",C11)+1,2)&REPT("*",LEN(C11)-2-FIND(" ",C11))),"") | E11: =IF(C11="","",TRIM(SUBSTITUTE(SUBSTITUTE(SUBSTITUTE(IF(H11="G",$H$1,"-")&", "&IF(H11="D",$H$1&"(Devamsız)","-")&", "&IF(H11<60,$H$1,"-")&", "&IF(I11="G",$I$1,"-")&", "&IF(I11="D",$I$1&"(Devamsız)","-")&", "&IF(I11<60,$I$1,"-"),", -",""),"-,",""),"-",""))) | F11: =IF(OR(H11="D",H11="G"),-1,H11) -> 0 | G11: =IF(OR(I11="D",I11="G"),-1,I11) -> 0 | J11: =IF(D11="","",IF(OR(H11="D",I11="D"),"D",IF(OR(H11="G",I11="G"),"G",IF(OR(H11<60,I11<60),11,(H11+I11)/2)))) | K11: =IF(J11="D","D",IF(J11="G","G",J11))
A12: 11 | D12: =IFERROR(IF(COUNT(FIND(" ",C12,FIND(" ",C12)+1))>0,LEFT(C12,2)&REPT("*",FIND(" ",C12,1)-3)&MID(C12,FIND(" ",C12,1),3)&REPT("*",FIND(" ",C12,FIND(" ",C12)+1)-FIND(" ",C12,1)-3)&MID(C12,FIND(" ",C12,FIND(" ",C12)+1),3)&REPT("*",LEN(C12)-2-FIND(" ",C12,FIND(" ",C12)+1)),LEFT(C12,2)&REPT("*",FIND(" ",C12,1)-3)&MID(C12,FIND(" ",C12)+1,2)&REPT("*",LEN(C12)-2-FIND(" ",C12))),"") | E12: =IF(C12="","",TRIM(SUBSTITUTE(SUBSTITUTE(SUBSTITUTE(IF(H12="G",$H$1,"-")&", "&IF(H12="D",$H$1&"(Devamsız)","-")&", "&IF(H12<60,$H$1,"-")&", "&IF(I12="G",$I$1,"-")&", "&IF(I12="D",$I$1&"(Devamsız)","-")&", "&IF(I12<60,$I$1,"-"),", -",""),"-,",""),"-",""))) | F12: =IF(OR(H12="D",H12="G"),-1,H12) -> 0 | G12: =IF(OR(I12="D",I12="G"),-1,I12) -> 0 | J12: =IF(D12="","",IF(OR(H12="D",I12="D"),"D",IF(OR(H12="G",I12="G"),"G",IF(OR(H12<60,I12<60),11,(H12+I12)/2)))) | K12: =IF(J12="D","D",IF(J12="G","G",J12))
A13: 12 | D13: =IFERROR(IF(COUNT(FIND(" ",C13,FIND(" ",C13)+1))>0,LEFT(C13,2)&REPT("*",FIND(" ",C13,1)-3)&MID(C13,FIND(" ",C13,1),3)&REPT("*",FIND(" ",C13,FIND(" ",C13)+1)-FIND(" ",C13,1)-3)&MID(C13,FIND(" ",C13,FIND(" ",C13)+1),3)&REPT("*",LEN(C13)-2-FIND(" ",C13,FIND(" ",C13)+1)),LEFT(C13,2)&REPT("*",FIND(" ",C13,1)-3)&MID(C13,FIND(" ",C13)+1,2)&REPT("*",LEN(C13)-2-FIND(" ",C13))),"") | E13: =IF(C13="","",TRIM(SUBSTITUTE(SUBSTITUTE(SUBSTITUTE(IF(H13="G",$H$1,"-")&", "&IF(H13="D",$H$1&"(Devamsız)","-")&", "&IF(H13<60,$H$1,"-")&", "&IF(I13="G",$I$1,"-")&", "&IF(I13="D",$I$1&"(Devamsız)","-")&", "&IF(I13<60,$I$1,"-"),", -",""),"-,",""),"-",""))) | F13: =IF(OR(H13="D",H13="G"),-1,H13) -> 0 | G13: =IF(OR(I13="D",I13="G"),-1,I13) -> 0 | J13: =IF(D13="","",IF(OR(H13="D",I13="D"),"D",IF(OR(H13="G",I13="G"),"G",IF(OR(H13<60,I13<60),11,(H13+I13)/2)))) | K13: =IF(J13="D","D",IF(J13="G","G",J13))
A14: 13 | D14: =IFERROR(IF(COUNT(FIND(" ",C14,FIND(" ",C14)+1))>0,LEFT(C14,2)&REPT("*",FIND(" ",C14,1)-3)&MID(C14,FIND(" ",C14,1),3)&REPT("*",FIND(" ",C14,FIND(" ",C14)+1)-FIND(" ",C14,1)-3)&MID(C14,FIND(" ",C14,FIND(" ",C14)+1),3)&REPT("*",LEN(C14)-2-FIND(" ",C14,FIND(" ",C14)+1)),LEFT(C14,2)&REPT("*",FIND(" ",C14,1)-3)&MID(C14,FIND(" ",C14)+1,2)&REPT("*",LEN(C14)-2-FIND(" ",C14))),"") | E14: =IF(C14="","",TRIM(SUBSTITUTE(SUBSTITUTE(SUBSTITUTE(IF(H14="G",$H$1,"-")&", "&IF(H14="D",$H$1&"(Devamsız)","-")&", "&IF(H14<60,$H$1,"-")&", "&IF(I14="G",$I$1,"-")&", "&IF(I14="D",$I$1&"(Devamsız)","-")&", "&IF(I14<60,$I$1,"-"),", -",""),"-,",""),"-",""))) | F14: =IF(OR(H14="D",H14="G"),-1,H14) -> 0 | G14: =IF(OR(I14="D",I14="G"),-1,I14) -> 0 | J14: =IF(D14="","",IF(OR(H14="D",I14="D"),"D",IF(OR(H14="G",I14="G"),"G",IF(OR(H14<60,I14<60),11,(H14+I14)/2)))) | K14: =IF(J14="D","D",IF(J14="G","G",J14))
A15: 14 | D15: =IFERROR(IF(COUNT(FIND(" ",C15,FIND(" ",C15)+1))>0,LEFT(C15,2)&REPT("*",FIND(" ",C15,1)-3)&MID(C15,FIND(" ",C15,1),3)&REPT("*",FIND(" ",C15,FIND(" ",C15)+1)-FIND(" ",C15,1)-3)&MID(C15,FIND(" ",C15,FIND(" ",C15)+1),3)&REPT("*",LEN(C15)-2-FIND(" ",C15,FIND(" ",C15)+1)),LEFT(C15,2)&REPT("*",FIND(" ",C15,1)-3)&MID(C15,FIND(" ",C15)+1,2)&REPT("*",LEN(C15)-2-FIND(" ",C15))),"") | E15: =IF(C15="","",TRIM(SUBSTITUTE(SUBSTITUTE(SUBSTITUTE(IF(H15="G",$H$1,"-")&", "&IF(H15="D",$H$1&"(Devamsız)","-")&", "&IF(H15<60,$H$1,"-")&", "&IF(I15="G",$I$1,"-")&", "&IF(I15="D",$I$1&"(Devamsız)","-")&", "&IF(I15<60,$I$1,"-"),", -",""),"-,",""),"-",""))) | F15: =IF(OR(H15="D",H15="G"),-1,H15) -> 0 | G15: =IF(OR(I15="D",I15="G"),-1,I15) -> 0 | J15: =IF(D15="","",IF(OR(H15="D",I15="D"),"D",IF(OR(H15="G",I15="G"),"G",IF(OR(H15<60,I15<60),11,(H15+I15)/2)))) | K15: =IF(J15="D","D",IF(J15="G","G",J15))
... A201: 200 | D201: =IFERROR(IF(COUNT(FIND(" ",C201,FIND(" ",C201)+1))>0,LEFT(C201,2)&REPT("*",FIND(" ",C201,1)-3)&MID(C201,FIND(" ",C201,1),3)&REPT("*",FIND(" ",C201,FIND(" ",C201)+1)-FIND(" ",C201,1)-3)&MID(C201,FIND(" ",C201,FIND(" ",C201)+1),3)&REPT("*",LEN(C201)-2-FIND(" ",C201,FIND(" ",C201)+1)),LEFT(C201,2)&REPT("*",FIND(" ",C201,1)-3)&MID(C201,FIND(" ",C201)+1,2)&REPT("*",LEN(C201)-2-FIND(" ",C201))),"") | E201: =IF(C201="","",TRIM(SUBSTITUTE(SUBSTITUTE(SUBSTITUTE(IF(H201="G",$H$1,"-")&", "&IF(H201="D",$H$1&"(Devamsız)","-")&", "&IF(H201<60,$H$1,"-")&", "&IF(I201="G",$I$1,"-")&", "&IF(I201="D",$I$1&"(Devamsız)","-")&", "&IF(I201<60,$I$1,"-"),", -",""),"-,",""),"-",""))) | F201: =IF(OR(H201="D",H201="G"),-1,H201) -> 0 | G201: =IF(OR(I201="D",I201="G"),-1,I201) -> 0 | J201: =IF(D201="","",IF(OR(H201="D",I201="D"),"D",IF(OR(H201="G",I201="G"),"G",IF(OR(H201<60,I201<60),11,(H201+I201)/2)))) | K201: =IF(J201="D","D",IF(J201="G","G",J201))

Sheet Ders-Öğrenci
A2: SN | B2: Cerrahi | C2: Dahiliye
A3: 1 | B3: {=IFERROR(INDEX(Final!$C$2:$C$152,SMALL(IF(Final!F$2:F$152<60,ROW(Final!$C$2:$C$152)-ROW(Final!$C$2)+1),ROWS(B$4:B4))),"")} -> 0 | C3: {=IFERROR(INDEX(Final!$C$2:$C$152,SMALL(IF(Final!G$2:G$152<60,ROW(Final!$C$2:$C$152)-ROW(Final!$C$2)+1),ROWS(C$4:C4))),"")} -> 0
A4: 2 | B4: {=IFERROR(INDEX(Final!$C$2:$C$152,SMALL(IF(Final!F$2:F$152<60,ROW(Final!$C$2:$C$152)-ROW(Final!$C$2)+1),ROWS(B$4:B5))),"")} -> 0 | C4: {=IFERROR(INDEX(Final!$C$2:$C$152,SMALL(IF(Final!G$2:G$152<60,ROW(Final!$C$2:$C$152)-ROW(Final!$C$2)+1),ROWS(C$4:C5))),"")} -> 0
A5: 3 | B5: {=IFERROR(INDEX(Final!$C$2:$C$152,SMALL(IF(Final!F$2:F$152<60,ROW(Final!$C$2:$C$152)-ROW(Final!$C$2)+1),ROWS(B$4:B6))),"")} -> 0 | C5: {=IFERROR(INDEX(Final!$C$2:$C$152,SMALL(IF(Final!G$2:G$152<60,ROW(Final!$C$2:$C$152)-ROW(Final!$C$2)+1),ROWS(C$4:C6))),"")} -> 0
A6: 4 | B6: {=IFERROR(INDEX(Final!$C$2:$C$152,SMALL(IF(Final!F$2:F$152<60,ROW(Final!$C$2:$C$152)-ROW(Final!$C$2)+1),ROWS(B$4:B7))),"")} -> 0 | C6: {=IFERROR(INDEX(Final!$C$2:$C$152,SMALL(IF(Final!G$2:G$152<60,ROW(Final!$C$2:$C$152)-ROW(Final!$C$2)+1),ROWS(C$4:C7))),"")} -> 0
A7: 5 | B7: {=IFERROR(INDEX(Final!$C$2:$C$152,SMALL(IF(Final!F$2:F$152<60,ROW(Final!$C$2:$C$152)-ROW(Final!$C$2)+1),ROWS(B$4:B8))),"")} -> 0 | C7: {=IFERROR(INDEX(Final!$C$2:$C$152,SMALL(IF(Final!G$2:G$152<60,ROW(Final!$C$2:$C$152)-ROW(Final!$C$2)+1),ROWS(C$4:C8))),"")} -> 0
A8: 6 | B8: {=IFERROR(INDEX(Final!$C$2:$C$152,SMALL(IF(Final!F$2:F$152<60,ROW(Final!$C$2:$C$152)-ROW(Final!$C$2)+1),ROWS(B$4:B9))),"")} -> 0 | C8: {=IFERROR(INDEX(Final!$C$2:$C$152,SMALL(IF(Final!G$2:G$152<60,ROW(Final!$C$2:$C$152)-ROW(Final!$C$2)+1),ROWS(C$4:C9))),"")} -> 0
A9: 7 | B9: {=IFERROR(INDEX(Final!$C$2:$C$152,SMALL(IF(Final!F$2:F$152<60,ROW(Final!$C$2:$C$152)-ROW(Final!$C$2)+1),ROWS(B$4:B10))),"")} -> 0 | C9: {=IFERROR(INDEX(Final!$C$2:$C$152,SMALL(IF(Final!G$2:G$152<60,ROW(Final!$C$2:$C$152)-ROW(Final!$C$2)+1),ROWS(C$4:C10))),"")} -> 0
A10: 8 | B10: {=IFERROR(INDEX(Final!$C$2:$C$152,SMALL(IF(Final!F$2:F$152<60,ROW(Final!$C$2:$C$152)-ROW(Final!$C$2)+1),ROWS(B$4:B11))),"")} -> 0 | C10: {=IFERROR(INDEX(Final!$C$2:$C$152,SMALL(IF(Final!G$2:G$152<60,ROW(Final!$C$2:$C$152)-ROW(Final!$C$2)+1),ROWS(C$4:C11))),"")} -> 0
A11: 9 | B11: {=IFERROR(INDEX(Final!$C$2:$C$152,SMALL(IF(Final!F$2:F$152<60,ROW(Final!$C$2:$C$152)-ROW(Final!$C$2)+1),ROWS(B$4:B12))),"")} -> 0 | C11: {=IFERROR(INDEX(Final!$C$2:$C$152,SMALL(IF(Final!G$2:G$152<60,ROW(Final!$C$2:$C$152)-ROW(Final!$C$2)+1),ROWS(C$4:C12))),"")} -> 0
A12: 10 | B12: {=IFERROR(INDEX(Final!$C$2:$C$152,SMALL(IF(Final!F$2:F$152<60,ROW(Final!$C$2:$C$152)-ROW(Final!$C$2)+1),ROWS(B$4:B13))),"")} -> 0 | C12: {=IFERROR(INDEX(Final!$C$2:$C$152,SMALL(IF(Final!G$2:G$152<60,ROW(Final!$C$2:$C$152)-ROW(Final!$C$2)+1),ROWS(C$4:C13))),"")} -> 0
A13: 11 | B13: {=IFERROR(INDEX(Final!$C$2:$C$152,SMALL(IF(Final!F$2:F$152<60,ROW(Final!$C$2:$C$152)-ROW(Final!$C$2)+1),ROWS(B$4:B14))),"")} -> 0 | C13: {=IFERROR(INDEX(Final!$C$2:$C$152,SMALL(IF(Final!G$2:G$152<60,ROW(Final!$C$2:$C$152)-ROW(Final!$C$2)+1),ROWS(C$4:C14))),"")} -> 0
A14: 12 | B14: {=IFERROR(INDEX(Final!$C$2:$C$152,SMALL(IF(Final!F$2:F$152<60,ROW(Final!$C$2:$C$152)-ROW(Final!$C$2)+1),ROWS(B$4:B15))),"")} -> 0 | C14: {=IFERROR(INDEX(Final!$C$2:$C$152,SMALL(IF(Final!G$2:G$152<60,ROW(Final!$C$2:$C$152)-ROW(Final!$C$2)+1),ROWS(C$4:C15))),"")} -> 0
... A202: 200 | B202: {=IFERROR(INDEX(Final!$C$2:$C$152,SMALL(IF(Final!F$2:F$152<60,ROW(Final!$C$2:$C$152)-ROW(Final!$C$2)+1),ROWS(B$4:B203))),"")} | C202: {=IFERROR(INDEX(Final!$C$2:$C$152,SMALL(IF(Final!G$2:G$152<60,ROW(Final!$C$2:$C$152)-ROW(Final!$C$2)+1),ROWS(C$4:C203))),"")}

Sheet Ders-Öğrenci(YILDIZ)
A2: SN | B2: Cerrahi | C2: Dahiliye
A3: 1 | B3: =IFERROR(IF(COUNT(FIND(" ",'Ders-Öğrenci'!B3,FIND(" ",'Ders-Öğrenci'!B3)+1))>0,LEFT('Ders-Öğrenci'!B3,2)&REPT("*",FIND(" ",'Ders-Öğrenci'!B3,1)-3)&MID('Ders-Öğrenci'!B3,FIND(" ",'Ders-Öğrenci'!B3,1),3)&REPT("*",FIND(" ",'Ders-Öğrenci'!B3,FIND(" ",'Ders-Öğrenci'!B3)+1)-FIND(" ",'Ders-Öğrenci'!B3,1)-3)&MID('Ders-Öğrenci'!B3,FIND(" ",'Ders-Öğrenci'!B3,FIND(" ",'Ders-Öğrenci'!B3)+1),3)&REPT("*",LEN('Ders-Öğrenci'!B3)-2-FIND(" ",'Ders-Öğrenci'!B3,FIND(" ",'Ders-Öğrenci'!B3)+1)),LEFT('Ders-Öğrenci'!B3,2)&REPT("*",FIND(" ",'Ders-Öğrenci'!B3,1)-3)&MID('Ders-Öğrenci'!B3,FIND(" ",'Ders-Öğrenci'!B3)+1,2)&REPT("*",LEN('Ders-Öğrenci'!B3)-2-FIND(" ",'Ders-Öğrenci'!B3))),"") | C3: =IFERROR(IF(COUNT(FIND(" ",'Ders-Öğrenci'!C3,FIND(" ",'Ders-Öğrenci'!C3)+1))>0,LEFT('Ders-Öğrenci'!C3,2)&REPT("*",FIND(" ",'Ders-Öğrenci'!C3,1)-3)&MID('Ders-Öğrenci'!C3,FIND(" ",'Ders-Öğrenci'!C3,1),3)&REPT("*",FIND(" ",'Ders-Öğrenci'!C3,FIND(" ",'Ders-Öğrenci'!C3)+1)-FIND(" ",'Ders-Öğrenci'!C3,1)-3)&MID('Ders-Öğrenci'!C3,FIND(" ",'Ders-Öğrenci'!C3,FIND(" ",'Ders-Öğrenci'!C3)+1),3)&REPT("*",LEN('Ders-Öğrenci'!C3)-2-FIND(" ",'Ders-Öğrenci'!C3,FIND(" ",'Ders-Öğrenci'!C3)+1)),LEFT('Ders-Öğrenci'!C3,2)&REPT("*",FIND(" ",'Ders-Öğrenci'!C3,1)-3)&MID('Ders-Öğrenci'!C3,FIND(" ",'Ders-Öğrenci'!C3)+1,2)&REPT("*",LEN('Ders-Öğrenci'!C3)-2-FIND(" ",'Ders-Öğrenci'!C3))),"")
A4: 2 | B4: =IFERROR(IF(COUNT(FIND(" ",'Ders-Öğrenci'!B4,FIND(" ",'Ders-Öğrenci'!B4)+1))>0,LEFT('Ders-Öğrenci'!B4,2)&REPT("*",FIND(" ",'Ders-Öğrenci'!B4,1)-3)&MID('Ders-Öğrenci'!B4,FIND(" ",'Ders-Öğrenci'!B4,1),3)&REPT("*",FIND(" ",'Ders-Öğrenci'!B4,FIND(" ",'Ders-Öğrenci'!B4)+1)-FIND(" ",'Ders-Öğrenci'!B4,1)-3)&MID('Ders-Öğrenci'!B4,FIND(" ",'Ders-Öğrenci'!B4,FIND(" ",'Ders-Öğrenci'!B4)+1),3)&REPT("*",LEN('Ders-Öğrenci'!B4)-2-FIND(" ",'Ders-Öğrenci'!B4,FIND(" ",'Ders-Öğrenci'!B4)+1)),LEFT('Ders-Öğrenci'!B4,2)&REPT("*",FIND(" ",'Ders-Öğrenci'!B4,1)-3)&MID('Ders-Öğrenci'!B4,FIND(" ",'Ders-Öğrenci'!B4)+1,2)&REPT("*",LEN('Ders-Öğrenci'!B4)-2-FIND(" ",'Ders-Öğrenci'!B4))),"") | C4: =IFERROR(IF(COUNT(FIND(" ",'Ders-Öğrenci'!C4,FIND(" ",'Ders-Öğrenci'!C4)+1))>0,LEFT('Ders-Öğrenci'!C4,2)&REPT("*",FIND(" ",'Ders-Öğrenci'!C4,1)-3)&MID('Ders-Öğrenci'!C4,FIND(" ",'Ders-Öğrenci'!C4,1),3)&REPT("*",FIND(" ",'Ders-Öğrenci'!C4,FIND(" ",'Ders-Öğrenci'!C4)+1)-FIND(" ",'Ders-Öğrenci'!C4,1)-3)&MID('Ders-Öğrenci'!C4,FIND(" ",'Ders-Öğrenci'!C4,FIND(" ",'Ders-Öğrenci'!C4)+1),3)&REPT("*",LEN('Ders-Öğrenci'!C4)-2-FIND(" ",'Ders-Öğrenci'!C4,FIND(" ",'Ders-Öğrenci'!C4)+1)),LEFT('Ders-Öğrenci'!C4,2)&REPT("*",FIND(" ",'Ders-Öğrenci'!C4,1)-3)&MID('Ders-Öğrenci'!C4,FIND(" ",'Ders-Öğrenci'!C4)+1,2)&REPT("*",LEN('Ders-Öğrenci'!C4)-2-FIND(" ",'Ders-Öğrenci'!C4))),"")
A5: 3 | B5: =IFERROR(IF(COUNT(FIND(" ",'Ders-Öğrenci'!B5,FIND(" ",'Ders-Öğrenci'!B5)+1))>0,LEFT('Ders-Öğrenci'!B5,2)&REPT("*",FIND(" ",'Ders-Öğrenci'!B5,1)-3)&MID('Ders-Öğrenci'!B5,FIND(" ",'Ders-Öğrenci'!B5,1),3)&REPT("*",FIND(" ",'Ders-Öğrenci'!B5,FIND(" ",'Ders-Öğrenci'!B5)+1)-FIND(" ",'Ders-Öğrenci'!B5,1)-3)&MID('Ders-Öğrenci'!B5,FIND(" ",'Ders-Öğrenci'!B5,FIND(" ",'Ders-Öğrenci'!B5)+1),3)&REPT("*",LEN('Ders-Öğrenci'!B5)-2-FIND(" ",'Ders-Öğrenci'!B5,FIND(" ",'Ders-Öğrenci'!B5)+1)),LEFT('Ders-Öğrenci'!B5,2)&REPT("*",FIND(" ",'Ders-Öğrenci'!B5,1)-3)&MID('Ders-Öğrenci'!B5,FIND(" ",'Ders-Öğrenci'!B5)+1,2)&REPT("*",LEN('Ders-Öğrenci'!B5)-2-FIND(" ",'Ders-Öğrenci'!B5))),"") | C5: =IFERROR(IF(COUNT(FIND(" ",'Ders-Öğrenci'!C5,FIND(" ",'Ders-Öğrenci'!C5)+1))>0,LEFT('Ders-Öğrenci'!C5,2)&REPT("*",FIND(" ",'Ders-Öğrenci'!C5,1)-3)&MID('Ders-Öğrenci'!C5,FIND(" ",'Ders-Öğrenci'!C5,1),3)&REPT("*",FIND(" ",'Ders-Öğrenci'!C5,FIND(" ",'Ders-Öğrenci'!C5)+1)-FIND(" ",'Ders-Öğrenci'!C5,1)-3)&MID('Ders-Öğrenci'!C5,FIND(" ",'Ders-Öğrenci'!C5,FIND(" ",'Ders-Öğrenci'!C5)+1),3)&REPT("*",LEN('Ders-Öğrenci'!C5)-2-FIND(" ",'Ders-Öğrenci'!C5,FIND(" ",'Ders-Öğrenci'!C5)+1)),LEFT('Ders-Öğrenci'!C5,2)&REPT("*",FIND(" ",'Ders-Öğrenci'!C5,1)-3)&MID('Ders-Öğrenci'!C5,FIND(" ",'Ders-Öğrenci'!C5)+1,2)&REPT("*",LEN('Ders-Öğrenci'!C5)-2-FIND(" ",'Ders-Öğrenci'!C5))),"")
A6: 4 | B6: =IFERROR(IF(COUNT(FIND(" ",'Ders-Öğrenci'!B6,FIND(" ",'Ders-Öğrenci'!B6)+1))>0,LEFT('Ders-Öğrenci'!B6,2)&REPT("*",FIND(" ",'Ders-Öğrenci'!B6,1)-3)&MID('Ders-Öğrenci'!B6,FIND(" ",'Ders-Öğrenci'!B6,1),3)&REPT("*",FIND(" ",'Ders-Öğrenci'!B6,FIND(" ",'Ders-Öğrenci'!B6)+1)-FIND(" ",'Ders-Öğrenci'!B6,1)-3)&MID('Ders-Öğrenci'!B6,FIND(" ",'Ders-Öğrenci'!B6,FIND(" ",'Ders-Öğrenci'!B6)+1),3)&REPT("*",LEN('Ders-Öğrenci'!B6)-2-FIND(" ",'Ders-Öğrenci'!B6,FIND(" ",'Ders-Öğrenci'!B6)+1)),LEFT('Ders-Öğrenci'!B6,2)&REPT("*",FIND(" ",'Ders-Öğrenci'!B6,1)-3)&MID('Ders-Öğrenci'!B6,FIND(" ",'Ders-Öğrenci'!B6)+1,2)&REPT("*",LEN('Ders-Öğrenci'!B6)-2-FIND(" ",'Ders-Öğrenci'!B6))),"") | C6: =IFERROR(IF(COUNT(FIND(" ",'Ders-Öğrenci'!C6,FIND(" ",'Ders-Öğrenci'!C6)+1))>0,LEFT('Ders-Öğrenci'!C6,2)&REPT("*",FIND(" ",'Ders-Öğrenci'!C6,1)-3)&MID('Ders-Öğrenci'!C6,FIND(" ",'Ders-Öğrenci'!C6,1),3)&REPT("*",FIND(" ",'Ders-Öğrenci'!C6,FIND(" ",'Ders-Öğrenci'!C6)+1)-FIND(" ",'Ders-Öğrenci'!C6,1)-3)&MID('Ders-Öğrenci'!C6,FIND(" ",'Ders-Öğrenci'!C6,FIND(" ",'Ders-Öğrenci'!C6)+1),3)&REPT("*",LEN('Ders-Öğrenci'!C6)-2-FIND(" ",'Ders-Öğrenci'!C6,FIND(" ",'Ders-Öğrenci'!C6)+1)),LEFT('Ders-Öğrenci'!C6,2)&REPT("*",FIND(" ",'Ders-Öğrenci'!C6,1)-3)&MID('Ders-Öğrenci'!C6,FIND(" ",'Ders-Öğrenci'!C6)+1,2)&REPT("*",LEN('Ders-Öğrenci'!C6)-2-FIND(" ",'Ders-Öğrenci'!C6))),"")
A7: 5 | B7: =IFERROR(IF(COUNT(FIND(" ",'Ders-Öğrenci'!B7,FIND(" ",'Ders-Öğrenci'!B7)+1))>0,LEFT('Ders-Öğrenci'!B7,2)&REPT("*",FIND(" ",'Ders-Öğrenci'!B7,1)-3)&MID('Ders-Öğrenci'!B7,FIND(" ",'Ders-Öğrenci'!B7,1),3)&REPT("*",FIND(" ",'Ders-Öğrenci'!B7,FIND(" ",'Ders-Öğrenci'!B7)+1)-FIND(" ",'Ders-Öğrenci'!B7,1)-3)&MID('Ders-Öğrenci'!B7,FIND(" ",'Ders-Öğrenci'!B7,FIND(" ",'Ders-Öğrenci'!B7)+1),3)&REPT("*",LEN('Ders-Öğrenci'!B7)-2-FIND(" ",'Ders-Öğrenci'!B7,FIND(" ",'Ders-Öğrenci'!B7)+1)),LEFT('Ders-Öğrenci'!B7,2)&REPT("*",FIND(" ",'Ders-Öğrenci'!B7,1)-3)&MID('Ders-Öğrenci'!B7,FIND(" ",'Ders-Öğrenci'!B7)+1,2)&REPT("*",LEN('Ders-Öğrenci'!B7)-2-FIND(" ",'Ders-Öğrenci'!B7))),"") | C7: =IFERROR(IF(COUNT(FIND(" ",'Ders-Öğrenci'!C7,FIND(" ",'Ders-Öğrenci'!C7)+1))>0,LEFT('Ders-Öğrenci'!C7,2)&REPT("*",FIND(" ",'Ders-Öğrenci'!C7,1)-3)&MID('Ders-Öğrenci'!C7,FIND(" ",'Ders-Öğrenci'!C7,1),3)&REPT("*",FIND(" ",'Ders-Öğrenci'!C7,FIND(" ",'Ders-Öğrenci'!C7)+1)-FIND(" ",'Ders-Öğrenci'!C7,1)-3)&MID('Ders-Öğrenci'!C7,FIND(" ",'Ders-Öğrenci'!C7,FIND(" ",'Ders-Öğrenci'!C7)+1),3)&REPT("*",LEN('Ders-Öğrenci'!C7)-2-FIND(" ",'Ders-Öğrenci'!C7,FIND(" ",'Ders-Öğrenci'!C7)+1)),LEFT('Ders-Öğrenci'!C7,2)&REPT("*",FIND(" ",'Ders-Öğrenci'!C7,1)-3)&MID('Ders-Öğrenci'!C7,FIND(" ",'Ders-Öğrenci'!C7)+1,2)&REPT("*",LEN('Ders-Öğrenci'!C7)-2-FIND(" ",'Ders-Öğrenci'!C7))),"")
A8: 6 | B8: =IFERROR(IF(COUNT(FIND(" ",'Ders-Öğrenci'!B8,FIND(" ",'Ders-Öğrenci'!B8)+1))>0,LEFT('Ders-Öğrenci'!B8,2)&REPT("*",FIND(" ",'Ders-Öğrenci'!B8,1)-3)&MID('Ders-Öğrenci'!B8,FIND(" ",'Ders-Öğrenci'!B8,1),3)&REPT("*",FIND(" ",'Ders-Öğrenci'!B8,FIND(" ",'Ders-Öğrenci'!B8)+1)-FIND(" ",'Ders-Öğrenci'!B8,1)-3)&MID('Ders-Öğrenci'!B8,FIND(" ",'Ders-Öğrenci'!B8,FIND(" ",'Ders-Öğrenci'!B8)+1),3)&REPT("*",LEN('Ders-Öğrenci'!B8)-2-FIND(" ",'Ders-Öğrenci'!B8,FIND(" ",'Ders-Öğrenci'!B8)+1)),LEFT('Ders-Öğrenci'!B8,2)&REPT("*",FIND(" ",'Ders-Öğrenci'!B8,1)-3)&MID('Ders-Öğrenci'!B8,FIND(" ",'Ders-Öğrenci'!B8)+1,2)&REPT("*",LEN('Ders-Öğrenci'!B8)-2-FIND(" ",'Ders-Öğrenci'!B8))),"") | C8: =IFERROR(IF(COUNT(FIND(" ",'Ders-Öğrenci'!C8,FIND(" ",'Ders-Öğrenci'!C8)+1))>0,LEFT('Ders-Öğrenci'!C8,2)&REPT("*",FIND(" ",'Ders-Öğrenci'!C8,1)-3)&MID('Ders-Öğrenci'!C8,FIND(" ",'Ders-Öğrenci'!C8,1),3)&REPT("*",FIND(" ",'Ders-Öğrenci'!C8,FIND(" ",'Ders-Öğrenci'!C8)+1)-FIND(" ",'Ders-Öğrenci'!C8,1)-3)&MID('Ders-Öğrenci'!C8,FIND(" ",'Ders-Öğrenci'!C8,FIND(" ",'Ders-Öğrenci'!C8)+1),3)&REPT("*",LEN('Ders-Öğrenci'!C8)-2-FIND(" ",'Ders-Öğrenci'!C8,FIND(" ",'Ders-Öğrenci'!C8)+1)),LEFT('Ders-Öğrenci'!C8,2)&REPT("*",FIND(" ",'Ders-Öğrenci'!C8,1)-3)&MID('Ders-Öğrenci'!C8,FIND(" ",'Ders-Öğrenci'!C8)+1,2)&REPT("*",LEN('Ders-Öğrenci'!C8)-2-FIND(" ",'Ders-Öğrenci'!C8))),"")
A9: 7 | B9: =IFERROR(IF(COUNT(FIND(" ",'Ders-Öğrenci'!B9,FIND(" ",'Ders-Öğrenci'!B9)+1))>0,LEFT('Ders-Öğrenci'!B9,2)&REPT("*",FIND(" ",'Ders-Öğrenci'!B9,1)-3)&MID('Ders-Öğrenci'!B9,FIND(" ",'Ders-Öğrenci'!B9,1),3)&REPT("*",FIND(" ",'Ders-Öğrenci'!B9,FIND(" ",'Ders-Öğrenci'!B9)+1)-FIND(" ",'Ders-Öğrenci'!B9,1)-3)&MID('Ders-Öğrenci'!B9,FIND(" ",'Ders-Öğrenci'!B9,FIND(" ",'Ders-Öğrenci'!B9)+1),3)&REPT("*",LEN('Ders-Öğrenci'!B9)-2-FIND(" ",'Ders-Öğrenci'!B9,FIND(" ",'Ders-Öğrenci'!B9)+1)),LEFT('Ders-Öğrenci'!B9,2)&REPT("*",FIND(" ",'Ders-Öğrenci'!B9,1)-3)&MID('Ders-Öğrenci'!B9,FIND(" ",'Ders-Öğrenci'!B9)+1,2)&REPT("*",LEN('Ders-Öğrenci'!B9)-2-FIND(" ",'Ders-Öğrenci'!B9))),"") | C9: =IFERROR(IF(COUNT(FIND(" ",'Ders-Öğrenci'!C9,FIND(" ",'Ders-Öğrenci'!C9)+1))>0,LEFT('Ders-Öğrenci'!C9,2)&REPT("*",FIND(" ",'Ders-Öğrenci'!C9,1)-3)&MID('Ders-Öğrenci'!C9,FIND(" ",'Ders-Öğrenci'!C9,1),3)&REPT("*",FIND(" ",'Ders-Öğrenci'!C9,FIND(" ",'Ders-Öğrenci'!C9)+1)-FIND(" ",'Ders-Öğrenci'!C9,1)-3)&MID('Ders-Öğrenci'!C9,FIND(" ",'Ders-Öğrenci'!C9,FIND(" ",'Ders-Öğrenci'!C9)+1),3)&REPT("*",LEN('Ders-Öğrenci'!C9)-2-FIND(" ",'Ders-Öğrenci'!C9,FIND(" ",'Ders-Öğrenci'!C9)+1)),LEFT('Ders-Öğrenci'!C9,2)&REPT("*",FIND(" ",'Ders-Öğrenci'!C9,1)-3)&MID('Ders-Öğrenci'!C9,FIND(" ",'Ders-Öğrenci'!C9)+1,2)&REPT("*",LEN('Ders-Öğrenci'!C9)-2-FIND(" ",'Ders-Öğrenci'!C9))),"")
A10: 8 | B10: =IFERROR(IF(COUNT(FIND(" ",'Ders-Öğrenci'!B10,FIND(" ",'Ders-Öğrenci'!B10)+1))>0,LEFT('Ders-Öğrenci'!B10,2)&REPT("*",FIND(" ",'Ders-Öğrenci'!B10,1)-3)&MID('Ders-Öğrenci'!B10,FIND(" ",'Ders-Öğrenci'!B10,1),3)&REPT("*",FIND(" ",'Ders-Öğrenci'!B10,FIND(" ",'Ders-Öğrenci'!B10)+1)-FIND(" ",'Ders-Öğrenci'!B10,1)-3)&MID('Ders-Öğrenci'!B10,FIND(" ",'Ders-Öğrenci'!B10,FIND(" ",'Ders-Öğrenci'!B10)+1),3)&REPT("*",LEN('Ders-Öğrenci'!B10)-2-FIND(" ",'Ders-Öğrenci'!B10,FIND(" ",'Ders-Öğrenci'!B10)+1)),LEFT('Ders-Öğrenci'!B10,2)&REPT("*",FIND(" ",'Ders-Öğrenci'!B10,1)-3)&MID('Ders-Öğrenci'!B10,FIND(" ",'Ders-Öğrenci'!B10)+1,2)&REPT("*",LEN('Ders-Öğrenci'!B10)-2-FIND(" ",'Ders-Öğrenci'!B10))),"") | C10: =IFERROR(IF(COUNT(FIND(" ",'Ders-Öğrenci'!C10,FIND(" ",'Ders-Öğrenci'!C10)+1))>0,LEFT('Ders-Öğrenci'!C10,2)&REPT("*",FIND(" ",'Ders-Öğrenci'!C10,1)-3)&MID('Ders-Öğrenci'!C10,FIND(" ",'Ders-Öğrenci'!C10,1),3)&REPT("*",FIND(" ",'Ders-Öğrenci'!C10,FIND(" ",'Ders-Öğrenci'!C10)+1)-FIND(" ",'Ders-Öğrenci'!C10,1)-3)&MID('Ders-Öğrenci'!C10,FIND(" ",'Ders-Öğrenci'!C10,FIND(" ",'Ders-Öğrenci'!C10)+1),3)&REPT("*",LEN('Ders-Öğrenci'!C10)-2-FIND(" ",'Ders-Öğrenci'!C10,FIND(" ",'Ders-Öğrenci'!C10)+1)),LEFT('Ders-Öğrenci'!C10,2)&REPT("*",FIND(" ",'Ders-Öğrenci'!C10,1)-3)&MID('Ders-Öğrenci'!C10,FIND(" ",'Ders-Öğrenci'!C10)+1,2)&REPT("*",LEN('Ders-Öğrenci'!C10)-2-FIND(" ",'Ders-Öğrenci'!C10))),"")
A11: 9 | B11: =IFERROR(IF(COUNT(FIND(" ",'Ders-Öğrenci'!B11,FIND(" ",'Ders-Öğrenci'!B11)+1))>0,LEFT('Ders-Öğrenci'!B11,2)&REPT("*",FIND(" ",'Ders-Öğrenci'!B11,1)-3)&MID('Ders-Öğrenci'!B11,FIND(" ",'Ders-Öğrenci'!B11,1),3)&REPT("*",FIND(" ",'Ders-Öğrenci'!B11,FIND(" ",'Ders-Öğrenci'!B11)+1)-FIND(" ",'Ders-Öğrenci'!B11,1)-3)&MID('Ders-Öğrenci'!B11,FIND(" ",'Ders-Öğrenci'!B11,FIND(" ",'Ders-Öğrenci'!B11)+1),3)&REPT("*",LEN('Ders-Öğrenci'!B11)-2-FIND(" ",'Ders-Öğrenci'!B11,FIND(" ",'Ders-Öğrenci'!B11)+1)),LEFT('Ders-Öğrenci'!B11,2)&REPT("*",FIND(" ",'Ders-Öğrenci'!B11,1)-3)&MID('Ders-Öğrenci'!B11,FIND(" ",'Ders-Öğrenci'!B11)+1,2)&REPT("*",LEN('Ders-Öğrenci'!B11)-2-FIND(" ",'Ders-Öğrenci'!B11))),"") | C11: =IFERROR(IF(COUNT(FIND(" ",'Ders-Öğrenci'!C11,FIND(" ",'Ders-Öğrenci'!C11)+1))>0,LEFT('Ders-Öğrenci'!C11,2)&REPT("*",FIND(" ",'Ders-Öğrenci'!C11,1)-3)&MID('Ders-Öğrenci'!C11,FIND(" ",'Ders-Öğrenci'!C11,1),3)&REPT("*",FIND(" ",'Ders-Öğrenci'!C11,FIND(" ",'Ders-Öğrenci'!C11)+1)-FIND(" ",'Ders-Öğrenci'!C11,1)-3)&MID('Ders-Öğrenci'!C11,FIND(" ",'Ders-Öğrenci'!C11,FIND(" ",'Ders-Öğrenci'!C11)+1),3)&REPT("*",LEN('Ders-Öğrenci'!C11)-2-FIND(" ",'Ders-Öğrenci'!C11,FIND(" ",'Ders-Öğrenci'!C11)+1)),LEFT('Ders-Öğrenci'!C11,2)&REPT("*",FIND(" ",'Ders-Öğrenci'!C11,1)-3)&MID('Ders-Öğrenci'!C11,FIND(" ",'Ders-Öğrenci'!C11)+1,2)&REPT("*",LEN('Ders-Öğrenci'!C11)-2-FIND(" ",'Ders-Öğrenci'!C11))),"")
A12: 10 | B12: =IFERROR(IF(COUNT(FIND(" ",'Ders-Öğrenci'!B12,FIND(" ",'Ders-Öğrenci'!B12)+1))>0,LEFT('Ders-Öğrenci'!B12,2)&REPT("*",FIND(" ",'Ders-Öğrenci'!B12,1)-3)&MID('Ders-Öğrenci'!B12,FIND(" ",'Ders-Öğrenci'!B12,1),3)&REPT("*",FIND(" ",'Ders-Öğrenci'!B12,FIND(" ",'Ders-Öğrenci'!B12)+1)-FIND(" ",'Ders-Öğrenci'!B12,1)-3)&MID('Ders-Öğrenci'!B12,FIND(" ",'Ders-Öğrenci'!B12,FIND(" ",'Ders-Öğrenci'!B12)+1),3)&REPT("*",LEN('Ders-Öğrenci'!B12)-2-FIND(" ",'Ders-Öğrenci'!B12,FIND(" ",'Ders-Öğrenci'!B12)+1)),LEFT('Ders-Öğrenci'!B12,2)&REPT("*",FIND(" ",'Ders-Öğrenci'!B12,1)-3)&MID('Ders-Öğrenci'!B12,FIND(" ",'Ders-Öğrenci'!B12)+1,2)&REPT("*",LEN('Ders-Öğrenci'!B12)-2-FIND(" ",'Ders-Öğrenci'!B12))),"") | C12: =IFERROR(IF(COUNT(FIND(" ",'Ders-Öğrenci'!C12,FIND(" ",'Ders-Öğrenci'!C12)+1))>0,LEFT('Ders-Öğrenci'!C12,2)&REPT("*",FIND(" ",'Ders-Öğrenci'!C12,1)-3)&MID('Ders-Öğrenci'!C12,FIND(" ",'Ders-Öğrenci'!C12,1),3)&REPT("*",FIND(" ",'Ders-Öğrenci'!C12,FIND(" ",'Ders-Öğrenci'!C12)+1)-FIND(" ",'Ders-Öğrenci'!C12,1)-3)&MID('Ders-Öğrenci'!C12,FIND(" ",'Ders-Öğrenci'!C12,FIND(" ",'Ders-Öğrenci'!C12)+1),3)&REPT("*",LEN('Ders-Öğrenci'!C12)-2-FIND(" ",'Ders-Öğrenci'!C12,FIND(" ",'Ders-Öğrenci'!C12)+1)),LEFT('Ders-Öğrenci'!C12,2)&REPT("*",FIND(" ",'Ders-Öğrenci'!C12,1)-3)&MID('Ders-Öğrenci'!C12,FIND(" ",'Ders-Öğrenci'!C12)+1,2)&REPT("*",LEN('Ders-Öğrenci'!C12)-2-FIND(" ",'Ders-Öğrenci'!C12))),"")
A13: 11 | B13: =IFERROR(IF(COUNT(FIND(" ",'Ders-Öğrenci'!B13,FIND(" ",'Ders-Öğrenci'!B13)+1))>0,LEFT('Ders-Öğrenci'!B13,2)&REPT("*",FIND(" ",'Ders-Öğrenci'!B13,1)-3)&MID('Ders-Öğrenci'!B13,FIND(" ",'Ders-Öğrenci'!B13,1),3)&REPT("*",FIND(" ",'Ders-Öğrenci'!B13,FIND(" ",'Ders-Öğrenci'!B13)+1)-FIND(" ",'Ders-Öğrenci'!B13,1)-3)&MID('Ders-Öğrenci'!B13,FIND(" ",'Ders-Öğrenci'!B13,FIND(" ",'Ders-Öğrenci'!B13)+1),3)&REPT("*",LEN('Ders-Öğrenci'!B13)-2-FIND(" ",'Ders-Öğrenci'!B13,FIND(" ",'Ders-Öğrenci'!B13)+1)),LEFT('Ders-Öğrenci'!B13,2)&REPT("*",FIND(" ",'Ders-Öğrenci'!B13,1)-3)&MID('Ders-Öğrenci'!B13,FIND(" ",'Ders-Öğrenci'!B13)+1,2)&REPT("*",LEN('Ders-Öğrenci'!B13)-2-FIND(" ",'Ders-Öğrenci'!B13))),"") | C13: =IFERROR(IF(COUNT(FIND(" ",'Ders-Öğrenci'!C13,FIND(" ",'Ders-Öğrenci'!C13)+1))>0,LEFT('Ders-Öğrenci'!C13,2)&REPT("*",FIND(" ",'Ders-Öğrenci'!C13,1)-3)&MID('Ders-Öğrenci'!C13,FIND(" ",'Ders-Öğrenci'!C13,1),3)&REPT("*",FIND(" ",'Ders-Öğrenci'!C13,FIND(" ",'Ders-Öğrenci'!C13)+1)-FIND(" ",'Ders-Öğrenci'!C13,1)-3)&MID('Ders-Öğrenci'!C13,FIND(" ",'Ders-Öğrenci'!C13,FIND(" ",'Ders-Öğrenci'!C13)+1),3)&REPT("*",LEN('Ders-Öğrenci'!C13)-2-FIND(" ",'Ders-Öğrenci'!C13,FIND(" ",'Ders-Öğrenci'!C13)+1)),LEFT('Ders-Öğrenci'!C13,2)&REPT("*",FIND(" ",'Ders-Öğrenci'!C13,1)-3)&MID('Ders-Öğrenci'!C13,FIND(" ",'Ders-Öğrenci'!C13)+1,2)&REPT("*",LEN('Ders-Öğrenci'!C13)-2-FIND(" ",'Ders-Öğrenci'!C13))),"")
A14: 12 | B14: =IFERROR(IF(COUNT(FIND(" ",'Ders-Öğrenci'!B14,FIND(" ",'Ders-Öğrenci'!B14)+1))>0,LEFT('Ders-Öğrenci'!B14,2)&REPT("*",FIND(" ",'Ders-Öğrenci'!B14,1)-3)&MID('Ders-Öğrenci'!B14,FIND(" ",'Ders-Öğrenci'!B14,1),3)&REPT("*",FIND(" ",'Ders-Öğrenci'!B14,FIND(" ",'Ders-Öğrenci'!B14)+1)-FIND(" ",'Ders-Öğrenci'!B14,1)-3)&MID('Ders-Öğrenci'!B14,FIND(" ",'Ders-Öğrenci'!B14,FIND(" ",'Ders-Öğrenci'!B14)+1),3)&REPT("*",LEN('Ders-Öğrenci'!B14)-2-FIND(" ",'Ders-Öğrenci'!B14,FIND(" ",'Ders-Öğrenci'!B14)+1)),LEFT('Ders-Öğrenci'!B14,2)&REPT("*",FIND(" ",'Ders-Öğrenci'!B14,1)-3)&MID('Ders-Öğrenci'!B14,FIND(" ",'Ders-Öğrenci'!B14)+1,2)&REPT("*",LEN('Ders-Öğrenci'!B14)-2-FIND(" ",'Ders-Öğrenci'!B14))),"") | C14: =IFERROR(IF(COUNT(FIND(" ",'Ders-Öğrenci'!C14,FIND(" ",'Ders-Öğrenci'!C14)+1))>0,LEFT('Ders-Öğrenci'!C14,2)&REPT("*",FIND(" ",'Ders-Öğrenci'!C14,1)-3)&MID('Ders-Öğrenci'!C14,FIND(" ",'Ders-Öğrenci'!C14,1),3)&REPT("*",FIND(" ",'Ders-Öğrenci'!C14,FIND(" ",'Ders-Öğrenci'!C14)+1)-FIND(" ",'Ders-Öğrenci'!C14,1)-3)&MID('Ders-Öğrenci'!C14,FIND(" ",'Ders-Öğrenci'!C14,FIND(" ",'Ders-Öğrenci'!C14)+1),3)&REPT("*",LEN('Ders-Öğrenci'!C14)-2-FIND(" ",'Ders-Öğrenci'!C14,FIND(" ",'Ders-Öğrenci'!C14)+1)),LEFT('Ders-Öğrenci'!C14,2)&REPT("*",FIND(" ",'Ders-Öğrenci'!C14,1)-3)&MID('Ders-Öğrenci'!C14,FIND(" ",'Ders-Öğrenci'!C14)+1,2)&REPT("*",LEN('Ders-Öğrenci'!C14)-2-FIND(" ",'Ders-Öğrenci'!C14))),"")
... A202: 200 | B202: =IFERROR(IF(COUNT(FIND(" ",'Ders-Öğrenci'!B202,FIND(" ",'Ders-Öğrenci'!B202)+1))>0,LEFT('Ders-Öğrenci'!B202,2)&REPT("*",FIND(" ",'Ders-Öğrenci'!B202,1)-3)&MID('Ders-Öğrenci'!B202,FIND(" ",'Ders-Öğrenci'!B202,1),3)&REPT("*",FIND(" ",'Ders-Öğrenci'!B202,FIND(" ",'Ders-Öğrenci'!B202)+1)-FIND(" ",'Ders-Öğrenci'!B202,1)-3)&MID('Ders-Öğrenci'!B202,FIND(" ",'Ders-Öğrenci'!B202,FIND(" ",'Ders-Öğrenci'!B202)+1),3)&REPT("*",LEN('Ders-Öğrenci'!B202)-2-FIND(" ",'Ders-Öğrenci'!B202,FIND(" ",'Ders-Öğrenci'!B202)+1)),LEFT('Ders-Öğrenci'!B202,2)&REPT("*",FIND(" ",'Ders-Öğrenci'!B202,1)-3)&MID('Ders-Öğrenci'!B202,FIND(" ",'Ders-Öğrenci'!B202)+1,2)&REPT("*",LEN('Ders-Öğrenci'!B202)-2-FIND(" ",'Ders-Öğrenci'!B202))),"") | C202: =IFERROR(IF(COUNT(FIND(" ",'Ders-Öğrenci'!C202,FIND(" ",'Ders-Öğrenci'!C202)+1))>0,LEFT('Ders-Öğrenci'!C202,2)&REPT("*",FIND(" ",'Ders-Öğrenci'!C202,1)-3)&MID('Ders-Öğrenci'!C202,FIND(" ",'Ders-Öğrenci'!C202,1),3)&REPT("*",FIND(" ",'Ders-Öğrenci'!C202,FIND(" ",'Ders-Öğrenci'!C202)+1)-FIND(" ",'Ders-Öğrenci'!C202,1)-3)&MID('Ders-Öğrenci'!C202,FIND(" ",'Ders-Öğrenci'!C202,FIND(" ",'Ders-Öğrenci'!C202)+1),3)&REPT("*",LEN('Ders-Öğrenci'!C202)-2-FIND(" ",'Ders-Öğrenci'!C202,FIND(" ",'Ders-Öğrenci'!C202)+1)),LEFT('Ders-Öğrenci'!C202,2)&REPT("*",FIND(" ",'Ders-Öğrenci'!C202,1)-3)&MID('Ders-Öğrenci'!C202,FIND(" ",'Ders-Öğrenci'!C202)+1,2)&REPT("*",LEN('Ders-Öğrenci'!C202)-2-FIND(" ",'Ders-Öğrenci'!C202))),"")

Sheet ÖğrenciDers
A1: SN | B1: Numara | C1: Adı-Soyadı | D1: Adı-Soyadı | E1: Dersler
A2: 1 | B2: {=_xlfn._xlws.FILTER(Final!B2:E201,Final!E2:E201<>"","")}
A3: 2
A4: 3
A5: 4
A6: 5
A7: 6
A8: 7
A9: 8
A10: 9
A11: 10
A12: 11
A13: 12
A14: 13
... A201: 200
