Workbook

Sheet FinalSonucu
S1: 3 | T1: 3 | U1: 1.5 | V1: 1.5 | W1: 1 | X1: 1 | Y1: 1 | Z1: 1 | AA1: 1 | AB1: 1 | AC1: 1 | AD1: 1 | AE1: 1 | AF1: Kat Sayılar: | AG1: =SUM(S1:AE1) -> 18 | AI1: D: | AJ1: Devamsız
A2: SN | B2: Öğrenci No | C2: Adı Soyadı | D2: Adı Soyadı | E2: Kalan Dersler | F2: Cerrahi | G2: İç Hastalıkları | H2: Doğum ve Jinekoloji | I2: Patoloji | J2: Dölerme ve Suni Tohumlama | K2: Farmakoloji ve Toksikoloji | L2: Hayvan Besleme ve Beslenme Hastalıkları | M2: Zootekni | N2: Biyokimya | O2: Parazitoloji | P2: Mikrobiyoloji | Q2: Viroloji | R2: Veteriner Hekimlik tarihi ve Deontoloji | S2: Cerrahi | T2: İç Hastalıkları | U2: Doğum ve Jinekoloji | V2: Patoloji | W2: Dölerme ve Suni Tohumlama | X2: Farmakoloji ve Toksikoloji | Y2: Hayvan Besleme ve Beslenme Hastalıkları | Z2: Zootekni | AA2: Biyokimya | AB2: Parazitoloji | AC2: Mikrobiyoloji | AD2: Viroloji | AE2: Veteriner Hekimlik tarihi ve Deontoloji | AF2: Sonuç | AG2: Sisteme Gireliecek | AI2: G: | AJ2: Girmedi
A3: 1 | D3: =IFERROR(IF(COUNT(FIND(" ",C3,FIND(" ",C3)+1))>0,LEFT(C3,2)&REPT("*",FIND(" ",C3,1)-3)&MID(C3,FIND(" ",C3,1),3)&REPT("*",FIND(" ",C3,FIND(" ",C3)+1)-FIND(" ",C3,1)-3)&MID(C3,FIND(" ",C3,FIND(" ",C3)+1),3)&REPT("*",LEN(C3)-2-FIND(" ",C3,FIND(" ",C3)+1)),LEFT(C3,2)&REPT("*",FIND(" ",C3,1)-3)&MID(C3,FIND(" ",C3)+1,2)&REPT("*",LEN(C3)-2-FIND(" ",C3))),"") | E3: =IF(C3="","",TRIM(SUBSTITUTE(SUBSTITUTE(SUBSTITUTE(IF(S3="G",$S$2,"-")&", "&IF(S3="D",$S$2&"(Devamsız)","-")&", "&IF(S3<60,$S$2,"-")&", "&IF(T3="G",$T$2,"-")&", "&IF(T3="D",$T$2&"(Devamsız)","-")&", "&IF(T3<60,$T$2,"-")&", "&IF(U3="G",$U$2,"-")&", "&IF(U3="D",$U$2&"(Devamsız)","-")&", "&IF(U3<60,$U$2,"-")&", "&IF(V3="G",$V$2,"-")&", "&IF(V3="D",$V$2&"(Devamsız)","-")&", "&IF(V3<60,$V$2,"-")&", "&IF(W3="G",$W$2,"-")&", "&IF(W3="D",$W$2&"(Devamsız)","-")&", "&IF(W3<60,$W$2,"-")&", "&IF(X3="G",$X$2,"-")&", "&IF(X3="D",$X$2&"(Devamsız)","-")&", "&IF(X3<60,$X$2,"-")&", "&IF(Y3="G",$Y$2,"-")&", "&IF(Y3="D",$Y$2&"(Devamsız)","-")&", "&IF(Y3<60,$Y$2,"-")&", "&IF(Z3="G",$Z$2,"-")&", "&IF(Z3="D",$Z$2&"(Devamsız)","-")&", "&IF(Z3<60,$Z$2,"-")&", "&IF(AA3="G",$AA$2,"-")&", "&IF(AA3="D",$AA$2&"(Devamsız)","-")&", "&IF(AA3<60,$AA$2,"-")&", "&IF(AB3="G",$AB$2,"-")&", "&IF(AB3="D",$AB$2&"(Devamsız)","-")&", "&IF(AB3<60,$AB$2,"-")&", "&IF(AC3="G",$AC$2,"-")&", "&IF(AC3="D",$AC$2&"(Devamsız)","-")&", "&IF(AC3<60,$AC$2,"-")&", "&IF(AD3="G",$AD$2,"-")&", "&IF(AD3="D",$AD$2&"(Devamsız)","-")&", "&IF(AD3<60,$AD$2,"-")&", "&IF(AE3="G",$AE$2,"-")&", "&IF(AE3="D",$AE$2&"(Devamsız)","-")&", "&IF(AE3<60,$AE$2,"-"),", -",""),"-,",""),"-",""))) | F3: =IF(OR(S3="D",S3="G"),-1,S3) -> 0 | G3: =IF(OR(T3="D",T3="G"),-1,T3) -> 0 | H3: =IF(OR(U3="D",U3="G"),-1,U3) -> 0 | I3: =IF(OR(V3="D",V3="G"),-1,V3) -> 0 | J3: =IF(OR(W3="D",W3="G"),-1,W3) -> 0 | K3: =IF(OR(X3="D",X3="G"),-1,X3) -> 0 | L3: =IF(OR(Y3="D",Y3="G"),-1,Y3) -> 0 | M3: =IF(OR(Z3="D",Z3="G"),-1,Z3) -> 0 | ... R3: =IF(OR(AE3="D",AE3="G"),-1,AE3) -> 0 | AF3: =IF(D3="","",IF(OR(S3="D",T3="D",U3="D",V3="D",W3="D",X3="D",Y3="D",Z3="D",AA3="D",AB3="D",AC3="D",AD3="D",AE3="D"),"D",IF(OR(S3="G",T3="G",U3="G",V3="G",W3="G",X3="G",Y3="G",Z3="G",AA3="G",AB3="G",AC3="G",AD3="G",AE3="G"),"G",IF(OR(S3<60,T3<60,U3<60,V3<60,W3<60,X3<60,Y3<60,Z3<60,AA3<60,AB3<60,AC3<60,AD3<60,AE3<60),11,(IF(S3>59,($S$1*S3),0)+IF(T3>59,($T$1*T3),0)+IF(U3>59,($U$1*U3),0)+IF(V3>59,($V$1*V3),0)+IF(W3>59,($W$1*W3),0)+IF(X3>59,($X$1*X3),0)+IF(Y3>59,($Y$1*Y3),0)+IF(Z3>59,($Z$1*Z3),0)+IF(AA3>59,($AA$1*AA3),0)+IF(AB3>59,($AB$1*AB3),0)+IF(AC3>59,($AC$1*AC3),0)+IF(AD3>59,($AD$1*AD3),0)+IF(AE3>59,($AE$1*AE3),0))/18)))) | AG3: =IF(AF3="D","Devamsız",IF(AF3="G","Girmedi",AF3))
A4: 2 | D4: =IFERROR(IF(COUNT(FIND(" ",C4,FIND(" ",C4)+1))>0,LEFT(C4,2)&REPT("*",FIND(" ",C4,1)-3)&MID(C4,FIND(" ",C4,1),3)&REPT("*",FIND(" ",C4,FIND(" ",C4)+1)-FIND(" ",C4,1)-3)&MID(C4,FIND(" ",C4,FIND(" ",C4)+1),3)&REPT("*",LEN(C4)-2-FIND(" ",C4,FIND(" ",C4)+1)),LEFT(C4,2)&REPT("*",FIND(" ",C4,1)-3)&MID(C4,FIND(" ",C4)+1,2)&REPT("*",LEN(C4)-2-FIND(" ",C4))),"") | E4: =IF(C4="","",TRIM(SUBSTITUTE(SUBSTITUTE(SUBSTITUTE(IF(S4="G",$S$2,"-")&", "&IF(S4="D",$S$2&"(Devamsız)","-")&", "&IF(S4<60,$S$2,"-")&", "&IF(T4="G",$T$2,"-")&", "&IF(T4="D",$T$2&"(Devamsız)","-")&", "&IF(T4<60,$T$2,"-")&", "&IF(U4="G",$U$2,"-")&", "&IF(U4="D",$U$2&"(Devamsız)","-")&", "&IF(U4<60,$U$2,"-")&", "&IF(V4="G",$V$2,"-")&", "&IF(V4="D",$V$2&"(Devamsız)","-")&", "&IF(V4<60,$V$2,"-")&", "&IF(W4="G",$W$2,"-")&", "&IF(W4="D",$W$2&"(Devamsız)","-")&", "&IF(W4<60,$W$2,"-")&", "&IF(X4="G",$X$2,"-")&", "&IF(X4="D",$X$2&"(Devamsız)","-")&", "&IF(X4<60,$X$2,"-")&", "&IF(Y4="G",$Y$2,"-")&", "&IF(Y4="D",$Y$2&"(Devamsız)","-")&", "&IF(Y4<60,$Y$2,"-")&", "&IF(Z4="G",$Z$2,"-")&", "&IF(Z4="D",$Z$2&"(Devamsız)","-")&", "&IF(Z4<60,$Z$2,"-")&", "&IF(AA4="G",$AA$2,"-")&", "&IF(AA4="D",$AA$2&"(Devamsız)","-")&", "&IF(AA4<60,$AA$2,"-")&", "&IF(AB4="G",$AB$2,"-")&", "&IF(AB4="D",$AB$2&"(Devamsız)","-")&", "&IF(AB4<60,$AB$2,"-")&", "&IF(AC4="G",$AC$2,"-")&", "&IF(AC4="D",$AC$2&"(Devamsız)","-")&", "&IF(AC4<60,$AC$2,"-")&", "&IF(AD4="G",$AD$2,"-")&", "&IF(AD4="D",$AD$2&"(Devamsız)","-")&", "&IF(AD4<60,$AD$2,"-")&", "&IF(AE4="G",$AE$2,"-")&", "&IF(AE4="D",$AE$2&"(Devamsız)","-")&", "&IF(AE4<60,$AE$2,"-"),", -",""),"-,",""),"-",""))) | F4: =IF(OR(S4="D",S4="G"),-1,S4) -> 0 | G4: =IF(OR(T4="D",T4="G"),-1,T4) -> 0 | H4: =IF(OR(U4="D",U4="G"),-1,U4) -> 0 | I4: =IF(OR(V4="D",V4="G"),-1,V4) -> 0 | J4: =IF(OR(W4="D",W4="G"),-1,W4) -> 0 | K4: =IF(OR(X4="D",X4="G"),-1,X4) -> 0 | L4: =IF(OR(Y4="D",Y4="G"),-1,Y4) -> 0 | M4: =IF(OR(Z4="D",Z4="G"),-1,Z4) -> 0 | ... R4: =IF(OR(AE4="D",AE4="G"),-1,AE4) -> 0 | AF4: =IF(D4="","",IF(OR(S4="D",T4="D",U4="D",V4="D",W4="D",X4="D",Y4="D",Z4="D",AA4="D",AB4="D",AC4="D",AD4="D",AE4="D"),"D",IF(OR(S4="G",T4="G",U4="G",V4="G",W4="G",X4="G",Y4="G",Z4="G",AA4="G",AB4="G",AC4="G",AD4="G",AE4="G"),"G",IF(OR(S4<60,T4<60,U4<60,V4<60,W4<60,X4<60,Y4<60,Z4<60,AA4<60,AB4<60,AC4<60,AD4<60,AE4<60),11,(IF(S4>59,($S$1*S4),0)+IF(T4>59,($T$1*T4),0)+IF(U4>59,($U$1*U4),0)+IF(V4>59,($V$1*V4),0)+IF(W4>59,($W$1*W4),0)+IF(X4>59,($X$1*X4),0)+IF(Y4>59,($Y$1*Y4),0)+IF(Z4>59,($Z$1*Z4),0)+IF(AA4>59,($AA$1*AA4),0)+IF(AB4>59,($AB$1*AB4),0)+IF(AC4>59,($AC$1*AC4),0)+IF(AD4>59,($AD$1*AD4),0)+IF(AE4>59,($AE$1*AE4),0))/18)))) | AG4: =IF(AF4="D","Devamsız",IF(AF4="G","Girmedi",AF4))
A5: 3 | D5: =IFERROR(IF(COUNT(FIND(" ",C5,FIND(" ",C5)+1))>0,LEFT(C5,2)&REPT("*",FIND(" ",C5,1)-3)&MID(C5,FIND(" ",C5,1),3)&REPT("*",FIND(" ",C5,FIND(" ",C5)+1)-FIND(" ",C5,1)-3)&MID(C5,FIND(" ",C5,FIND(" ",C5)+1),3)&REPT("*",LEN(C5)-2-FIND(" ",C5,FIND(" ",C5)+1)),LEFT(C5,2)&REPT("*",FIND(" ",C5,1)-3)&MID(C5,FIND(" ",C5)+1,2)&REPT("*",LEN(C5)-2-FIND(" ",C5))),"") | E5: =IF(C5="","",TRIM(SUBSTITUTE(SUBSTITUTE(SUBSTITUTE(IF(S5="G",$S$2,"-")&", "&IF(S5="D",$S$2&"(Devamsız)","-")&", "&IF(S5<60,$S$2,"-")&", "&IF(T5="G",$T$2,"-")&", "&IF(T5="D",$T$2&"(Devamsız)","-")&", "&IF(T5<60,$T$2,"-")&", "&IF(U5="G",$U$2,"-")&", "&IF(U5="D",$U$2&"(Devamsız)","-")&", "&IF(U5<60,$U$2,"-")&", "&IF(V5="G",$V$2,"-")&", "&IF(V5="D",$V$2&"(Devamsız)","-")&", "&IF(V5<60,$V$2,"-")&", "&IF(W5="G",$W$2,"-")&", "&IF(W5="D",$W$2&"(Devamsız)","-")&", "&IF(W5<60,$W$2,"-")&", "&IF(X5="G",$X$2,"-")&", "&IF(X5="D",$X$2&"(Devamsız)","-")&", "&IF(X5<60,$X$2,"-")&", "&IF(Y5="G",$Y$2,"-")&", "&IF(Y5="D",$Y$2&"(Devamsız)","-")&", "&IF(Y5<60,$Y$2,"-")&", "&IF(Z5="G",$Z$2,"-")&", "&IF(Z5="D",$Z$2&"(Devamsız)","-")&", "&IF(Z5<60,$Z$2,"-")&", "&IF(AA5="G",$AA$2,"-")&", "&IF(AA5="D",$AA$2&"(Devamsız)","-")&", "&IF(AA5<60,$AA$2,"-")&", "&IF(AB5="G",$AB$2,"-")&", "&IF(AB5="D",$AB$2&"(Devamsız)","-")&", "&IF(AB5<60,$AB$2,"-")&", "&IF(AC5="G",$AC$2,"-")&", "&IF(AC5="D",$AC$2&"(Devamsız)","-")&", "&IF(AC5<60,$AC$2,"-")&", "&IF(AD5="G",$AD$2,"-")&", "&IF(AD5="D",$AD$2&"(Devamsız)","-")&", "&IF(AD5<60,$AD$2,"-")&", "&IF(AE5="G",$AE$2,"-")&", "&IF(AE5="D",$AE$2&"(Devamsız)","-")&", "&IF(AE5<60,$AE$2,"-"),", -",""),"-,",""),"-",""))) | F5: =IF(OR(S5="D",S5="G"),-1,S5) -> 0 | G5: =IF(OR(T5="D",T5="G"),-1,T5) -> 0 | H5: =IF(OR(U5="D",U5="G"),-1,U5) -> 0 | I5: =IF(OR(V5="D",V5="G"),-1,V5) -> 0 | J5: =IF(OR(W5="D",W5="G"),-1,W5) -> 0 | K5: =IF(OR(X5="D",X5="G"),-1,X5) -> 0 | L5: =IF(OR(Y5="D",Y5="G"),-1,Y5) -> 0 | M5: =IF(OR(Z5="D",Z5="G"),-1,Z5) -> 0 | ... R5: =IF(OR(AE5="D",AE5="G"),-1,AE5) -> 0 | AF5: =IF(D5="","",IF(OR(S5="D",T5="D",U5="D",V5="D",W5="D",X5="D",Y5="D",Z5="D",AA5="D",AB5="D",AC5="D",AD5="D",AE5="D"),"D",IF(OR(S5="G",T5="G",U5="G",V5="G",W5="G",X5="G",Y5="G",Z5="G",AA5="G",AB5="G",AC5="G",AD5="G",AE5="G"),"G",IF(OR(S5<60,T5<60,U5<60,V5<60,W5<60,X5<60,Y5<60,Z5<60,AA5<60,AB5<60,AC5<60,AD5<60,AE5<60),11,(IF(S5>59,($S$1*S5),0)+IF(T5>59,($T$1*T5),0)+IF(U5>59,($U$1*U5),0)+IF(V5>59,($V$1*V5),0)+IF(W5>59,($W$1*W5),0)+IF(X5>59,($X$1*X5),0)+IF(Y5>59,($Y$1*Y5),0)+IF(Z5>59,($Z$1*Z5),0)+IF(AA5>59,($AA$1*AA5),0)+IF(AB5>59,($AB$1*AB5),0)+IF(AC5>59,($AC$1*AC5),0)+IF(AD5>59,($AD$1*AD5),0)+IF(AE5>59,($AE$1*AE5),0))/18)))) | AG5: =IF(AF5="D","Devamsız",IF(AF5="G","Girmedi",AF5))
A6: 4 | D6: =IFERROR(IF(COUNT(FIND(" ",C6,FIND(" ",C6)+1))>0,LEFT(C6,2)&REPT("*",FIND(" ",C6,1)-3)&MID(C6,FIND(" ",C6,1),3)&REPT("*",FIND(" ",C6,FIND(" ",C6)+1)-FIND(" ",C6,1)-3)&MID(C6,FIND(" ",C6,FIND(" ",C6)+1),3)&REPT("*",LEN(C6)-2-FIND(" ",C6,FIND(" ",C6)+1)),LEFT(C6,2)&REPT("*",FIND(" ",C6,1)-3)&MID(C6,FIND(" ",C6)+1,2)&REPT("*",LEN(C6)-2-FIND(" ",C6))),"") | E6: =IF(C6="","",TRIM(SUBSTITUTE(SUBSTITUTE(SUBSTITUTE(IF(S6="G",$S$2,"-")&", "&IF(S6="D",$S$2&"(Devamsız)","-")&", "&IF(S6<60,$S$2,"-")&", "&IF(T6="G",$T$2,"-")&", "&IF(T6="D",$T$2&"(Devamsız)","-")&", "&IF(T6<60,$T$2,"-")&", "&IF(U6="G",$U$2,"-")&", "&IF(U6="D",$U$2&"(Devamsız)","-")&", "&IF(U6<60,$U$2,"-")&", "&IF(V6="G",$V$2,"-")&", "&IF(V6="D",$V$2&"(Devamsız)","-")&", "&IF(V6<60,$V$2,"-")&", "&IF(W6="G",$W$2,"-")&", "&IF(W6="D",$W$2&"(Devamsız)","-")&", "&IF(W6<60,$W$2,"-")&", "&IF(X6="G",$X$2,"-")&", "&IF(X6="D",$X$2&"(Devamsız)","-")&", "&IF(X6<60,$X$2,"-")&", "&IF(Y6="G",$Y$2,"-")&", "&IF(Y6="D",$Y$2&"(Devamsız)","-")&", "&IF(Y6<60,$Y$2,"-")&", "&IF(Z6="G",$Z$2,"-")&", "&IF(Z6="D",$Z$2&"(Devamsız)","-")&", "&IF(Z6<60,$Z$2,"-")&", "&IF(AA6="G",$AA$2,"-")&", "&IF(AA6="D",$AA$2&"(Devamsız)","-")&", "&IF(AA6<60,$AA$2,"-")&", "&IF(AB6="G",$AB$2,"-")&", "&IF(AB6="D",$AB$2&"(Devamsız)","-")&", "&IF(AB6<60,$AB$2,"-")&", "&IF(AC6="G",$AC$2,"-")&", "&IF(AC6="D",$AC$2&"(Devamsız)","-")&", "&IF(AC6<60,$AC$2,"-")&", "&IF(AD6="G",$AD$2,"-")&", "&IF(AD6="D",$AD$2&"(Devamsız)","-")&", "&IF(AD6<60,$AD$2,"-")&", "&IF(AE6="G",$AE$2,"-")&", "&IF(AE6="D",$AE$2&"(Devamsız)","-")&", "&IF(AE6<60,$AE$2,"-"),", -",""),"-,",""),"-",""))) | F6: =IF(OR(S6="D",S6="G"),-1,S6) -> 0 | G6: =IF(OR(T6="D",T6="G"),-1,T6) -> 0 | H6: =IF(OR(U6="D",U6="G"),-1,U6) -> 0 | I6: =IF(OR(V6="D",V6="G"),-1,V6) -> 0 | J6: =IF(OR(W6="D",W6="G"),-1,W6) -> 0 | K6: =IF(OR(X6="D",X6="G"),-1,X6) -> 0 | L6: =IF(OR(Y6="D",Y6="G"),-1,Y6) -> 0 | M6: =IF(OR(Z6="D",Z6="G"),-1,Z6) -> 0 | ... R6: =IF(OR(AE6="D",AE6="G"),-1,AE6) -> 0 | AF6: =IF(D6="","",IF(OR(S6="D",T6="D",U6="D",V6="D",W6="D",X6="D",Y6="D",Z6="D",AA6="D",AB6="D",AC6="D",AD6="D",AE6="D"),"D",IF(OR(S6="G",T6="G",U6="G",V6="G",W6="G",X6="G",Y6="G",Z6="G",AA6="G",AB6="G",AC6="G",AD6="G",AE6="G"),"G",IF(OR(S6<60,T6<60,U6<60,V6<60,W6<60,X6<60,Y6<60,Z6<60,AA6<60,AB6<60,AC6<60,AD6<60,AE6<60),11,(IF(S6>59,($S$1*S6),0)+IF(T6>59,($T$1*T6),0)+IF(U6>59,($U$1*U6),0)+IF(V6>59,($V$1*V6),0)+IF(W6>59,($W$1*W6),0)+IF(X6>59,($X$1*X6),0)+IF(Y6>59,($Y$1*Y6),0)+IF(Z6>59,($Z$1*Z6),0)+IF(AA6>59,($AA$1*AA6),0)+IF(AB6>59,($AB$1*AB6),0)+IF(AC6>59,($AC$1*AC6),0)+IF(AD6>59,($AD$1*AD6),0)+IF(AE6>59,($AE$1*AE6),0))/18)))) | AG6: =IF(AF6="D","Devamsız",IF(AF6="G","Girmedi",AF6))
A7: 5 | D7: =IFERROR(IF(COUNT(FIND(" ",C7,FIND(" ",C7)+1))>0,LEFT(C7,2)&REPT("*",FIND(" ",C7,1)-3)&MID(C7,FIND(" ",C7,1),3)&REPT("*",FIND(" ",C7,FIND(" ",C7)+1)-FIND(" ",C7,1)-3)&MID(C7,FIND(" ",C7,FIND(" ",C7)+1),3)&REPT("*",LEN(C7)-2-FIND(" ",C7,FIND(" ",C7)+1)),LEFT(C7,2)&REPT("*",FIND(" ",C7,1)-3)&MID(C7,FIND(" ",C7)+1,2)&REPT("*",LEN(C7)-2-FIND(" ",C7))),"") | E7: =IF(C7="","",TRIM(SUBSTITUTE(SUBSTITUTE(SUBSTITUTE(IF(S7="G",$S$2,"-")&", "&IF(S7="D",$S$2&"(Devamsız)","-")&", "&IF(S7<60,$S$2,"-")&", "&IF(T7="G",$T$2,"-")&", "&IF(T7="D",$T$2&"(Devamsız)","-")&", "&IF(T7<60,$T$2,"-")&", "&IF(U7="G",$U$2,"-")&", "&IF(U7="D",$U$2&"(Devamsız)","-")&", "&IF(U7<60,$U$2,"-")&", "&IF(V7="G",$V$2,"-")&", "&IF(V7="D",$V$2&"(Devamsız)","-")&", "&IF(V7<60,$V$2,"-")&", "&IF(W7="G",$W$2,"-")&", "&IF(W7="D",$W$2&"(Devamsız)","-")&", "&IF(W7<60,$W$2,"-")&", "&IF(X7="G",$X$2,"-")&", "&IF(X7="D",$X$2&"(Devamsız)","-")&", "&IF(X7<60,$X$2,"-")&", "&IF(Y7="G",$Y$2,"-")&", "&IF(Y7="D",$Y$2&"(Devamsız)","-")&", "&IF(Y7<60,$Y$2,"-")&", "&IF(Z7="G",$Z$2,"-")&", "&IF(Z7="D",$Z$2&"(Devamsız)","-")&", "&IF(Z7<60,$Z$2,"-")&", "&IF(AA7="G",$AA$2,"-")&", "&IF(AA7="D",$AA$2&"(Devamsız)","-")&", "&IF(AA7<60,$AA$2,"-")&", "&IF(AB7="G",$AB$2,"-")&", "&IF(AB7="D",$AB$2&"(Devamsız)","-")&", "&IF(AB7<60,$AB$2,"-")&", "&IF(AC7="G",$AC$2,"-")&", "&IF(AC7="D",$AC$2&"(Devamsız)","-")&", "&IF(AC7<60,$AC$2,"-")&", "&IF(AD7="G",$AD$2,"-")&", "&IF(AD7="D",$AD$2&"(Devamsız)","-")&", "&IF(AD7<60,$AD$2,"-")&", "&IF(AE7="G",$AE$2,"-")&", "&IF(AE7="D",$AE$2&"(Devamsız)","-")&", "&IF(AE7<60,$AE$2,"-"),", -",""),"-,",""),"-",""))) | F7: =IF(OR(S7="D",S7="G"),-1,S7) -> 0 | G7: =IF(OR(T7="D",T7="G"),-1,T7) -> 0 | H7: =IF(OR(U7="D",U7="G"),-1,U7) -> 0 | I7: =IF(OR(V7="D",V7="G"),-1,V7) -> 0 | J7: =IF(OR(W7="D",W7="G"),-1,W7) -> 0 | K7: =IF(OR(X7="D",X7="G"),-1,X7) -> 0 | L7: =IF(OR(Y7="D",Y7="G"),-1,Y7) -> 0 | M7: =IF(OR(Z7="D",Z7="G"),-1,Z7) -> 0 | ... R7: =IF(OR(AE7="D",AE7="G"),-1,AE7) -> 0 | AF7: =IF(D7="","",IF(OR(S7="D",T7="D",U7="D",V7="D",W7="D",X7="D",Y7="D",Z7="D",AA7="D",AB7="D",AC7="D",AD7="D",AE7="D"),"D",IF(OR(S7="G",T7="G",U7="G",V7="G",W7="G",X7="G",Y7="G",Z7="G",AA7="G",AB7="G",AC7="G",AD7="G",AE7="G"),"G",IF(OR(S7<60,T7<60,U7<60,V7<60,W7<60,X7<60,Y7<60,Z7<60,AA7<60,AB7<60,AC7<60,AD7<60,AE7<60),11,(IF(S7>59,($S$1*S7),0)+IF(T7>59,($T$1*T7),0)+IF(U7>59,($U$1*U7),0)+IF(V7>59,($V$1*V7),0)+IF(W7>59,($W$1*W7),0)+IF(X7>59,($X$1*X7),0)+IF(Y7>59,($Y$1*Y7),0)+IF(Z7>59,($Z$1*Z7),0)+IF(AA7>59,($AA$1*AA7),0)+IF(AB7>59,($AB$1*AB7),0)+IF(AC7>59,($AC$1*AC7),0)+IF(AD7>59,($AD$1*AD7),0)+IF(AE7>59,($AE$1*AE7),0))/18)))) | AG7: =IF(AF7="D","Devamsız",IF(AF7="G","Girmedi",AF7))
A8: 6 | D8: =IFERROR(IF(COUNT(FIND(" ",C8,FIND(" ",C8)+1))>0,LEFT(C8,2)&REPT("*",FIND(" ",C8,1)-3)&MID(C8,FIND(" ",C8,1),3)&REPT("*",FIND(" ",C8,FIND(" ",C8)+1)-FIND(" ",C8,1)-3)&MID(C8,FIND(" ",C8,FIND(" ",C8)+1),3)&REPT("*",LEN(C8)-2-FIND(" ",C8,FIND(" ",C8)+1)),LEFT(C8,2)&REPT("*",FIND(" ",C8,1)-3)&MID(C8,FIND(" ",C8)+1,2)&REPT("*",LEN(C8)-2-FIND(" ",C8))),"") | E8: =IF(C8="","",TRIM(SUBSTITUTE(SUBSTITUTE(SUBSTITUTE(IF(S8="G",$S$2,"-")&", "&IF(S8="D",$S$2&"(Devamsız)","-")&", "&IF(S8<60,$S$2,"-")&", "&IF(T8="G",$T$2,"-")&", "&IF(T8="D",$T$2&"(Devamsız)","-")&", "&IF(T8<60,$T$2,"-")&", "&IF(U8="G",$U$2,"-")&", "&IF(U8="D",$U$2&"(Devamsız)","-")&", "&IF(U8<60,$U$2,"-")&", "&IF(V8="G",$V$2,"-")&", "&IF(V8="D",$V$2&"(Devamsız)","-")&", "&IF(V8<60,$V$2,"-")&", "&IF(W8="G",$W$2,"-")&", "&IF(W8="D",$W$2&"(Devamsız)","-")&", "&IF(W8<60,$W$2,"-")&", "&IF(X8="G",$X$2,"-")&", "&IF(X8="D",$X$2&"(Devamsız)","-")&", "&IF(X8<60,$X$2,"-")&", "&IF(Y8="G",$Y$2,"-")&", "&IF(Y8="D",$Y$2&"(Devamsız)","-")&", "&IF(Y8<60,$Y$2,"-")&", "&IF(Z8="G",$Z$2,"-")&", "&IF(Z8="D",$Z$2&"(Devamsız)","-")&", "&IF(Z8<60,$Z$2,"-")&", "&IF(AA8="G",$AA$2,"-")&", "&IF(AA8="D",$AA$2&"(Devamsız)","-")&", "&IF(AA8<60,$AA$2,"-")&", "&IF(AB8="G",$AB$2,"-")&", "&IF(AB8="D",$AB$2&"(Devamsız)","-")&", "&IF(AB8<60,$AB$2,"-")&", "&IF(AC8="G",$AC$2,"-")&", "&IF(AC8="D",$AC$2&"(Devamsız)","-")&", "&IF(AC8<60,$AC$2,"-")&", "&IF(AD8="G",$AD$2,"-")&", "&IF(AD8="D",$AD$2&"(Devamsız)","-")&", "&IF(AD8<60,$AD$2,"-")&", "&IF(AE8="G",$AE$2,"-")&", "&IF(AE8="D",$AE$2&"(Devamsız)","-")&", "&IF(AE8<60,$AE$2,"-"),", -",""),"-,",""),"-",""))) | F8: =IF(OR(S8="D",S8="G"),-1,S8) -> 0 | G8: =IF(OR(T8="D",T8="G"),-1,T8) -> 0 | H8: =IF(OR(U8="D",U8="G"),-1,U8) -> 0 | I8: =IF(OR(V8="D",V8="G"),-1,V8) -> 0 | J8: =IF(OR(W8="D",W8="G"),-1,W8) -> 0 | K8: =IF(OR(X8="D",X8="G"),-1,X8) -> 0 | L8: =IF(OR(Y8="D",Y8="G"),-1,Y8) -> 0 | M8: =IF(OR(Z8="D",Z8="G"),-1,Z8) -> 0 | ... R8: =IF(OR(AE8="D",AE8="G"),-1,AE8) -> 0 | AF8: =IF(D8="","",IF(OR(S8="D",T8="D",U8="D",V8="D",W8="D",X8="D",Y8="D",Z8="D",AA8="D",AB8="D",AC8="D",AD8="D",AE8="D"),"D",IF(OR(S8="G",T8="G",U8="G",V8="G",W8="G",X8="G",Y8="G",Z8="G",AA8="G",AB8="G",AC8="G",AD8="G",AE8="G"),"G",IF(OR(S8<60,T8<60,U8<60,V8<60,W8<60,X8<60,Y8<60,Z8<60,AA8<60,AB8<60,AC8<60,AD8<60,AE8<60),11,(IF(S8>59,($S$1*S8),0)+IF(T8>59,($T$1*T8),0)+IF(U8>59,($U$1*U8),0)+IF(V8>59,($V$1*V8),0)+IF(W8>59,($W$1*W8),0)+IF(X8>59,($X$1*X8),0)+IF(Y8>59,($Y$1*Y8),0)+IF(Z8>59,($Z$1*Z8),0)+IF(AA8>59,($AA$1*AA8),0)+IF(AB8>59,($AB$1*AB8),0)+IF(AC8>59,($AC$1*AC8),0)+IF(AD8>59,($AD$1*AD8),0)+IF(AE8>59,($AE$1*AE8),0))/18)))) | AG8: =IF(AF8="D","Devamsız",IF(AF8="G","Girmedi",AF8))
A9: 7 | D9: =IFERROR(IF(COUNT(FIND(" ",C9,FIND(" ",C9)+1))>0,LEFT(C9,2)&REPT("*",FIND(" ",C9,1)-3)&MID(C9,FIND(" ",C9,1),3)&REPT("*",FIND(" ",C9,FIND(" ",C9)+1)-FIND(" ",C9,1)-3)&MID(C9,FIND(" ",C9,FIND(" ",C9)+1),3)&REPT("*",LEN(C9)-2-FIND(" ",C9,FIND(" ",C9)+1)),LEFT(C9,2)&REPT("*",FIND(" ",C9,1)-3)&MID(C9,FIND(" ",C9)+1,2)&REPT("*",LEN(C9)-2-FIND(" ",C9))),"") | E9: =IF(C9="","",TRIM(SUBSTITUTE(SUBSTITUTE(SUBSTITUTE(IF(S9="G",$S$2,"-")&", "&IF(S9="D",$S$2&"(Devamsız)","-")&", "&IF(S9<60,$S$2,"-")&", "&IF(T9="G",$T$2,"-")&", "&IF(T9="D",$T$2&"(Devamsız)","-")&", "&IF(T9<60,$T$2,"-")&", "&IF(U9="G",$U$2,"-")&", "&IF(U9="D",$U$2&"(Devamsız)","-")&", "&IF(U9<60,$U$2,"-")&", "&IF(V9="G",$V$2,"-")&", "&IF(V9="D",$V$2&"(Devamsız)","-")&", "&IF(V9<60,$V$2,"-")&", "&IF(W9="G",$W$2,"-")&", "&IF(W9="D",$W$2&"(Devamsız)","-")&", "&IF(W9<60,$W$2,"-")&", "&IF(X9="G",$X$2,"-")&", "&IF(X9="D",$X$2&"(Devamsız)","-")&", "&IF(X9<60,$X$2,"-")&", "&IF(Y9="G",$Y$2,"-")&", "&IF(Y9="D",$Y$2&"(Devamsız)","-")&", "&IF(Y9<60,$Y$2,"-")&", "&IF(Z9="G",$Z$2,"-")&", "&IF(Z9="D",$Z$2&"(Devamsız)","-")&", "&IF(Z9<60,$Z$2,"-")&", "&IF(AA9="G",$AA$2,"-")&", "&IF(AA9="D",$AA$2&"(Devamsız)","-")&", "&IF(AA9<60,$AA$2,"-")&", "&IF(AB9="G",$AB$2,"-")&", "&IF(AB9="D",$AB$2&"(Devamsız)","-")&", "&IF(AB9<60,$AB$2,"-")&", "&IF(AC9="G",$AC$2,"-")&", "&IF(AC9="D",$AC$2&"(Devamsız)","-")&", "&IF(AC9<60,$AC$2,"-")&", "&IF(AD9="G",$AD$2,"-")&", "&IF(AD9="D",$AD$2&"(Devamsız)","-")&", "&IF(AD9<60,$AD$2,"-")&", "&IF(AE9="G",$AE$2,"-")&", "&IF(AE9="D",$AE$2&"(Devamsız)","-")&", "&IF(AE9<60,$AE$2,"-"),", -",""),"-,",""),"-",""))) | F9: =IF(OR(S9="D",S9="G"),-1,S9) -> 0 | G9: =IF(OR(T9="D",T9="G"),-1,T9) -> 0 | H9: =IF(OR(U9="D",U9="G"),-1,U9) -> 0 | I9: =IF(OR(V9="D",V9="G"),-1,V9) -> 0 | J9: =IF(OR(W9="D",W9="G"),-1,W9) -> 0 | K9: =IF(OR(X9="D",X9="G"),-1,X9) -> 0 | L9: =IF(OR(Y9="D",Y9="G"),-1,Y9) -> 0 | M9: =IF(OR(Z9="D",Z9="G"),-1,Z9) -> 0 | ... R9: =IF(OR(AE9="D",AE9="G"),-1,AE9) -> 0 | AF9: =IF(D9="","",IF(OR(S9="D",T9="D",U9="D",V9="D",W9="D",X9="D",Y9="D",Z9="D",AA9="D",AB9="D",AC9="D",AD9="D",AE9="D"),"D",IF(OR(S9="G",T9="G",U9="G",V9="G",W9="G",X9="G",Y9="G",Z9="G",AA9="G",AB9="G",AC9="G",AD9="G",AE9="G"),"G",IF(OR(S9<60,T9<60,U9<60,V9<60,W9<60,X9<60,Y9<60,Z9<60,AA9<60,AB9<60,AC9<60,AD9<60,AE9<60),11,(IF(S9>59,($S$1*S9),0)+IF(T9>59,($T$1*T9),0)+IF(U9>59,($U$1*U9),0)+IF(V9>59,($V$1*V9),0)+IF(W9>59,($W$1*W9),0)+IF(X9>59,($X$1*X9),0)+IF(Y9>59,($Y$1*Y9),0)+IF(Z9>59,($Z$1*Z9),0)+IF(AA9>59,($AA$1*AA9),0)+IF(AB9>59,($AB$1*AB9),0)+IF(AC9>59,($AC$1*AC9),0)+IF(AD9>59,($AD$1*AD9),0)+IF(AE9>59,($AE$1*AE9),0))/18)))) | AG9: =IF(AF9="D","Devamsız",IF(AF9="G","Girmedi",AF9))
A10: 8 | D10: =IFERROR(IF(COUNT(FIND(" ",C10,FIND(" ",C10)+1))>0,LEFT(C10,2)&REPT("*",FIND(" ",C10,1)-3)&MID(C10,FIND(" ",C10,1),3)&REPT("*",FIND(" ",C10,FIND(" ",C10)+1)-FIND(" ",C10,1)-3)&MID(C10,FIND(" ",C10,FIND(" ",C10)+1),3)&REPT("*",LEN(C10)-2-FIND(" ",C10,FIND(" ",C10)+1)),LEFT(C10,2)&REPT("*",FIND(" ",C10,1)-3)&MID(C10,FIND(" ",C10)+1,2)&REPT("*",LEN(C10)-2-FIND(" ",C10))),"") | E10: =IF(C10="","",TRIM(SUBSTITUTE(SUBSTITUTE(SUBSTITUTE(IF(S10="G",$S$2,"-")&", "&IF(S10="D",$S$2&"(Devamsız)","-")&", "&IF(S10<60,$S$2,"-")&", "&IF(T10="G",$T$2,"-")&", "&IF(T10="D",$T$2&"(Devamsız)","-")&", "&IF(T10<60,$T$2,"-")&", "&IF(U10="G",$U$2,"-")&", "&IF(U10="D",$U$2&"(Devamsız)","-")&", "&IF(U10<60,$U$2,"-")&", "&IF(V10="G",$V$2,"-")&", "&IF(V10="D",$V$2&"(Devamsız)","-")&", "&IF(V10<60,$V$2,"-")&", "&IF(W10="G",$W$2,"-")&", "&IF(W10="D",$W$2&"(Devamsız)","-")&", "&IF(W10<60,$W$2,"-")&", "&IF(X10="G",$X$2,"-")&", "&IF(X10="D",$X$2&"(Devamsız)","-")&", "&IF(X10<60,$X$2,"-")&", "&IF(Y10="G",$Y$2,"-")&", "&IF(Y10="D",$Y$2&"(Devamsız)","-")&", "&IF(Y10<60,$Y$2,"-")&", "&IF(Z10="G",$Z$2,"-")&", "&IF(Z10="D",$Z$2&"(Devamsız)","-")&", "&IF(Z10<60,$Z$2,"-")&", "&IF(AA10="G",$AA$2,"-")&", "&IF(AA10="D",$AA$2&"(Devamsız)","-")&", "&IF(AA10<60,$AA$2,"-")&", "&IF(AB10="G",$AB$2,"-")&", "&IF(AB10="D",$AB$2&"(Devamsız)","-")&", "&IF(AB10<60,$AB$2,"-")&", "&IF(AC10="G",$AC$2,"-")&", "&IF(AC10="D",$AC$2&"(Devamsız)","-")&", "&IF(AC10<60,$AC$2,"-")&", "&IF(AD10="G",$AD$2,"-")&", "&IF(AD10="D",$AD$2&"(Devamsız)","-")&", "&IF(AD10<60,$AD$2,"-")&", "&IF(AE10="G",$AE$2,"-")&", "&IF(AE10="D",$AE$2&"(Devamsız)","-")&", "&IF(AE10<60,$AE$2,"-"),", -",""),"-,",""),"-",""))) | F10: =IF(OR(S10="D",S10="G"),-1,S10) -> 0 | G10: =IF(OR(T10="D",T10="G"),-1,T10) -> 0 | H10: =IF(OR(U10="D",U10="G"),-1,U10) -> 0 | I10: =IF(OR(V10="D",V10="G"),-1,V10) -> 0 | J10: =IF(OR(W10="D",W10="G"),-1,W10) -> 0 | K10: =IF(OR(X10="D",X10="G"),-1,X10) -> 0 | L10: =IF(OR(Y10="D",Y10="G"),-1,Y10) -> 0 | M10: =IF(OR(Z10="D",Z10="G"),-1,Z10) -> 0 | ... R10: =IF(OR(AE10="D",AE10="G"),-1,AE10) -> 0 | AF10: =IF(D10="","",IF(OR(S10="D",T10="D",U10="D",V10="D",W10="D",X10="D",Y10="D",Z10="D",AA10="D",AB10="D",AC10="D",AD10="D",AE10="D"),"D",IF(OR(S10="G",T10="G",U10="G",V10="G",W10="G",X10="G",Y10="G",Z10="G",AA10="G",AB10="G",AC10="G",AD10="G",AE10="G"),"G",IF(OR(S10<60,T10<60,U10<60,V10<60,W10<60,X10<60,Y10<60,Z10<60,AA10<60,AB10<60,AC10<60,AD10<60,AE10<60),11,(IF(S10>59,($S$1*S10),0)+IF(T10>59,($T$1*T10),0)+IF(U10>59,($U$1*U10),0)+IF(V10>59,($V$1*V10),0)+IF(W10>59,($W$1*W10),0)+IF(X10>59,($X$1*X10),0)+IF(Y10>59,($Y$1*Y10),0)+IF(Z10>59,($Z$1*Z10),0)+IF(AA10>59,($AA$1*AA10),0)+IF(AB10>59,($AB$1*AB10),0)+IF(AC10>59,($AC$1*AC10),0)+IF(AD10>59,($AD$1*AD10),0)+IF(AE10>59,($AE$1*AE10),0))/18)))) | AG10: =IF(AF10="D","Devamsız",IF(AF10="G","Girmedi",AF10))
A11: 9 | D11: =IFERROR(IF(COUNT(FIND(" ",C11,FIND(" ",C11)+1))>0,LEFT(C11,2)&REPT("*",FIND(" ",C11,1)-3)&MID(C11,FIND(" ",C11,1),3)&REPT("*",FIND(" ",C11,FIND(" ",C11)+1)-FIND(" ",C11,1)-3)&MID(C11,FIND(" ",C11,FIND(" ",C11)+1),3)&REPT("*",LEN(C11)-2-FIND(" ",C11,FIND(" ",C11)+1)),LEFT(C11,2)&REPT("*",FIND(" ",C11,1)-3)&MID(C11,FIND(" ",C11)+1,2)&REPT("*",LEN(C11)-2-FIND(" ",C11))),"") | E11: =IF(C11="","",TRIM(SUBSTITUTE(SUBSTITUTE(SUBSTITUTE(IF(S11="G",$S$2,"-")&", "&IF(S11="D",$S$2&"(Devamsız)","-")&", "&IF(S11<60,$S$2,"-")&", "&IF(T11="G",$T$2,"-")&", "&IF(T11="D",$T$2&"(Devamsız)","-")&", "&IF(T11<60,$T$2,"-")&", "&IF(U11="G",$U$2,"-")&", "&IF(U11="D",$U$2&"(Devamsız)","-")&", "&IF(U11<60,$U$2,"-")&", "&IF(V11="G",$V$2,"-")&", "&IF(V11="D",$V$2&"(Devamsız)","-")&", "&IF(V11<60,$V$2,"-")&", "&IF(W11="G",$W$2,"-")&", "&IF(W11="D",$W$2&"(Devamsız)","-")&", "&IF(W11<60,$W$2,"-")&", "&IF(X11="G",$X$2,"-")&", "&IF(X11="D",$X$2&"(Devamsız)","-")&", "&IF(X11<60,$X$2,"-")&", "&IF(Y11="G",$Y$2,"-")&", "&IF(Y11="D",$Y$2&"(Devamsız)","-")&", "&IF(Y11<60,$Y$2,"-")&", "&IF(Z11="G",$Z$2,"-")&", "&IF(Z11="D",$Z$2&"(Devamsız)","-")&", "&IF(Z11<60,$Z$2,"-")&", "&IF(AA11="G",$AA$2,"-")&", "&IF(AA11="D",$AA$2&"(Devamsız)","-")&", "&IF(AA11<60,$AA$2,"-")&", "&IF(AB11="G",$AB$2,"-")&", "&IF(AB11="D",$AB$2&"(Devamsız)","-")&", "&IF(AB11<60,$AB$2,"-")&", "&IF(AC11="G",$AC$2,"-")&", "&IF(AC11="D",$AC$2&"(Devamsız)","-")&", "&IF(AC11<60,$AC$2,"-")&", "&IF(AD11="G",$AD$2,"-")&", "&IF(AD11="D",$AD$2&"(Devamsız)","-")&", "&IF(AD11<60,$AD$2,"-")&", "&IF(AE11="G",$AE$2,"-")&", "&IF(AE11="D",$AE$2&"(Devamsız)","-")&", "&IF(AE11<60,$AE$2,"-"),", -",""),"-,",""),"-",""))) | F11: =IF(OR(S11="D",S11="G"),-1,S11) -> 0 | G11: =IF(OR(T11="D",T11="G"),-1,T11) -> 0 | H11: =IF(OR(U11="D",U11="G"),-1,U11) -> 0 | I11: =IF(OR(V11="D",V11="G"),-1,V11) -> 0 | J11: =IF(OR(W11="D",W11="G"),-1,W11) -> 0 | K11: =IF(OR(X11="D",X11="G"),-1,X11) -> 0 | L11: =IF(OR(Y11="D",Y11="G"),-1,Y11) -> 0 | M11: =IF(OR(Z11="D",Z11="G"),-1,Z11) -> 0 | ... R11: =IF(OR(AE11="D",AE11="G"),-1,AE11) -> 0 | AF11: =IF(D11="","",IF(OR(S11="D",T11="D",U11="D",V11="D",W11="D",X11="D",Y11="D",Z11="D",AA11="D",AB11="D",AC11="D",AD11="D",AE11="D"),"D",IF(OR(S11="G",T11="G",U11="G",V11="G",W11="G",X11="G",Y11="G",Z11="G",AA11="G",AB11="G",AC11="G",AD11="G",AE11="G"),"G",IF(OR(S11<60,T11<60,U11<60,V11<60,W11<60,X11<60,Y11<60,Z11<60,AA11<60,AB11<60,AC11<60,AD11<60,AE11<60),11,(IF(S11>59,($S$1*S11),0)+IF(T11>59,($T$1*T11),0)+IF(U11>59,($U$1*U11),0)+IF(V11>59,($V$1*V11),0)+IF(W11>59,($W$1*W11),0)+IF(X11>59,($X$1*X11),0)+IF(Y11>59,($Y$1*Y11),0)+IF(Z11>59,($Z$1*Z11),0)+IF(AA11>59,($AA$1*AA11),0)+IF(AB11>59,($AB$1*AB11),0)+IF(AC11>59,($AC$1*AC11),0)+IF(AD11>59,($AD$1*AD11),0)+IF(AE11>59,($AE$1*AE11),0))/18)))) | AG11: =IF(AF11="D","Devamsız",IF(AF11="G","Girmedi",AF11))
A12: 10 | D12: =IFERROR(IF(COUNT(FIND(" ",C12,FIND(" ",C12)+1))>0,LEFT(C12,2)&REPT("*",FIND(" ",C12,1)-3)&MID(C12,FIND(" ",C12,1),3)&REPT("*",FIND(" ",C12,FIND(" ",C12)+1)-FIND(" ",C12,1)-3)&MID(C12,FIND(" ",C12,FIND(" ",C12)+1),3)&REPT("*",LEN(C12)-2-FIND(" ",C12,FIND(" ",C12)+1)),LEFT(C12,2)&REPT("*",FIND(" ",C12,1)-3)&MID(C12,FIND(" ",C12)+1,2)&REPT("*",LEN(C12)-2-FIND(" ",C12))),"") | E12: =IF(C12="","",TRIM(SUBSTITUTE(SUBSTITUTE(SUBSTITUTE(IF(S12="G",$S$2,"-")&", "&IF(S12="D",$S$2&"(Devamsız)","-")&", "&IF(S12<60,$S$2,"-")&", "&IF(T12="G",$T$2,"-")&", "&IF(T12="D",$T$2&"(Devamsız)","-")&", "&IF(T12<60,$T$2,"-")&", "&IF(U12="G",$U$2,"-")&", "&IF(U12="D",$U$2&"(Devamsız)","-")&", "&IF(U12<60,$U$2,"-")&", "&IF(V12="G",$V$2,"-")&", "&IF(V12="D",$V$2&"(Devamsız)","-")&", "&IF(V12<60,$V$2,"-")&", "&IF(W12="G",$W$2,"-")&", "&IF(W12="D",$W$2&"(Devamsız)","-")&", "&IF(W12<60,$W$2,"-")&", "&IF(X12="G",$X$2,"-")&", "&IF(X12="D",$X$2&"(Devamsız)","-")&", "&IF(X12<60,$X$2,"-")&", "&IF(Y12="G",$Y$2,"-")&", "&IF(Y12="D",$Y$2&"(Devamsız)","-")&", "&IF(Y12<60,$Y$2,"-")&", "&IF(Z12="G",$Z$2,"-")&", "&IF(Z12="D",$Z$2&"(Devamsız)","-")&", "&IF(Z12<60,$Z$2,"-")&", "&IF(AA12="G",$AA$2,"-")&", "&IF(AA12="D",$AA$2&"(Devamsız)","-")&", "&IF(AA12<60,$AA$2,"-")&", "&IF(AB12="G",$AB$2,"-")&", "&IF(AB12="D",$AB$2&"(Devamsız)","-")&", "&IF(AB12<60,$AB$2,"-")&", "&IF(AC12="G",$AC$2,"-")&", "&IF(AC12="D",$AC$2&"(Devamsız)","-")&", "&IF(AC12<60,$AC$2,"-")&", "&IF(AD12="G",$AD$2,"-")&", "&IF(AD12="D",$AD$2&"(Devamsız)","-")&", "&IF(AD12<60,$AD$2,"-")&", "&IF(AE12="G",$AE$2,"-")&", "&IF(AE12="D",$AE$2&"(Devamsız)","-")&", "&IF(AE12<60,$AE$2,"-"),", -",""),"-,",""),"-",""))) | F12: =IF(OR(S12="D",S12="G"),-1,S12) -> 0 | G12: =IF(OR(T12="D",T12="G"),-1,T12) -> 0 | H12: =IF(OR(U12="D",U12="G"),-1,U12) -> 0 | I12: =IF(OR(V12="D",V12="G"),-1,V12) -> 0 | J12: =IF(OR(W12="D",W12="G"),-1,W12) -> 0 | K12: =IF(OR(X12="D",X12="G"),-1,X12) -> 0 | L12: =IF(OR(Y12="D",Y12="G"),-1,Y12) -> 0 | M12: =IF(OR(Z12="D",Z12="G"),-1,Z12) -> 0 | ... R12: =IF(OR(AE12="D",AE12="G"),-1,AE12) -> 0 | AF12: =IF(D12="","",IF(OR(S12="D",T12="D",U12="D",V12="D",W12="D",X12="D",Y12="D",Z12="D",AA12="D",AB12="D",AC12="D",AD12="D",AE12="D"),"D",IF(OR(S12="G",T12="G",U12="G",V12="G",W12="G",X12="G",Y12="G",Z12="G",AA12="G",AB12="G",AC12="G",AD12="G",AE12="G"),"G",IF(OR(S12<60,T12<60,U12<60,V12<60,W12<60,X12<60,Y12<60,Z12<60,AA12<60,AB12<60,AC12<60,AD12<60,AE12<60),11,(IF(S12>59,($S$1*S12),0)+IF(T12>59,($T$1*T12),0)+IF(U12>59,($U$1*U12),0)+IF(V12>59,($V$1*V12),0)+IF(W12>59,($W$1*W12),0)+IF(X12>59,($X$1*X12),0)+IF(Y12>59,($Y$1*Y12),0)+IF(Z12>59,($Z$1*Z12),0)+IF(AA12>59,($AA$1*AA12),0)+IF(AB12>59,($AB$1*AB12),0)+IF(AC12>59,($AC$1*AC12),0)+IF(AD12>59,($AD$1*AD12),0)+IF(AE12>59,($AE$1*AE12),0))/18)))) | AG12: =IF(AF12="D","Devamsız",IF(AF12="G","Girmedi",AF12))
A13: 11 | D13: =IFERROR(IF(COUNT(FIND(" ",C13,FIND(" ",C13)+1))>0,LEFT(C13,2)&REPT("*",FIND(" ",C13,1)-3)&MID(C13,FIND(" ",C13,1),3)&REPT("*",FIND(" ",C13,FIND(" ",C13)+1)-FIND(" ",C13,1)-3)&MID(C13,FIND(" ",C13,FIND(" ",C13)+1),3)&REPT("*",LEN(C13)-2-FIND(" ",C13,FIND(" ",C13)+1)),LEFT(C13,2)&REPT("*",FIND(" ",C13,1)-3)&MID(C13,FIND(" ",C13)+1,2)&REPT("*",LEN(C13)-2-FIND(" ",C13))),"") | E13: =IF(C13="","",TRIM(SUBSTITUTE(SUBSTITUTE(SUBSTITUTE(IF(S13="G",$S$2,"-")&", "&IF(S13="D",$S$2&"(Devamsız)","-")&", "&IF(S13<60,$S$2,"-")&", "&IF(T13="G",$T$2,"-")&", "&IF(T13="D",$T$2&"(Devamsız)","-")&", "&IF(T13<60,$T$2,"-")&", "&IF(U13="G",$U$2,"-")&", "&IF(U13="D",$U$2&"(Devamsız)","-")&", "&IF(U13<60,$U$2,"-")&", "&IF(V13="G",$V$2,"-")&", "&IF(V13="D",$V$2&"(Devamsız)","-")&", "&IF(V13<60,$V$2,"-")&", "&IF(W13="G",$W$2,"-")&", "&IF(W13="D",$W$2&"(Devamsız)","-")&", "&IF(W13<60,$W$2,"-")&", "&IF(X13="G",$X$2,"-")&", "&IF(X13="D",$X$2&"(Devamsız)","-")&", "&IF(X13<60,$X$2,"-")&", "&IF(Y13="G",$Y$2,"-")&", "&IF(Y13="D",$Y$2&"(Devamsız)","-")&", "&IF(Y13<60,$Y$2,"-")&", "&IF(Z13="G",$Z$2,"-")&", "&IF(Z13="D",$Z$2&"(Devamsız)","-")&", "&IF(Z13<60,$Z$2,"-")&", "&IF(AA13="G",$AA$2,"-")&", "&IF(AA13="D",$AA$2&"(Devamsız)","-")&", "&IF(AA13<60,$AA$2,"-")&", "&IF(AB13="G",$AB$2,"-")&", "&IF(AB13="D",$AB$2&"(Devamsız)","-")&", "&IF(AB13<60,$AB$2,"-")&", "&IF(AC13="G",$AC$2,"-")&", "&IF(AC13="D",$AC$2&"(Devamsız)","-")&", "&IF(AC13<60,$AC$2,"-")&", "&IF(AD13="G",$AD$2,"-")&", "&IF(AD13="D",$AD$2&"(Devamsız)","-")&", "&IF(AD13<60,$AD$2,"-")&", "&IF(AE13="G",$AE$2,"-")&", "&IF(AE13="D",$AE$2&"(Devamsız)","-")&", "&IF(AE13<60,$AE$2,"-"),", -",""),"-,",""),"-",""))) | F13: =IF(OR(S13="D",S13="G"),-1,S13) -> 0 | G13: =IF(OR(T13="D",T13="G"),-1,T13) -> 0 | H13: =IF(OR(U13="D",U13="G"),-1,U13) -> 0 | I13: =IF(OR(V13="D",V13="G"),-1,V13) -> 0 | J13: =IF(OR(W13="D",W13="G"),-1,W13) -> 0 | K13: =IF(OR(X13="D",X13="G"),-1,X13) -> 0 | L13: =IF(OR(Y13="D",Y13="G"),-1,Y13) -> 0 | M13: =IF(OR(Z13="D",Z13="G"),-1,Z13) -> 0 | ... R13: =IF(OR(AE13="D",AE13="G"),-1,AE13) -> 0 | AF13: =IF(D13="","",IF(OR(S13="D",T13="D",U13="D",V13="D",W13="D",X13="D",Y13="D",Z13="D",AA13="D",AB13="D",AC13="D",AD13="D",AE13="D"),"D",IF(OR(S13="G",T13="G",U13="G",V13="G",W13="G",X13="G",Y13="G",Z13="G",AA13="G",AB13="G",AC13="G",AD13="G",AE13="G"),"G",IF(OR(S13<60,T13<60,U13<60,V13<60,W13<60,X13<60,Y13<60,Z13<60,AA13<60,AB13<60,AC13<60,AD13<60,AE13<60),11,(IF(S13>59,($S$1*S13),0)+IF(T13>59,($T$1*T13),0)+IF(U13>59,($U$1*U13),0)+IF(V13>59,($V$1*V13),0)+IF(W13>59,($W$1*W13),0)+IF(X13>59,($X$1*X13),0)+IF(Y13>59,($Y$1*Y13),0)+IF(Z13>59,($Z$1*Z13),0)+IF(AA13>59,($AA$1*AA13),0)+IF(AB13>59,($AB$1*AB13),0)+IF(AC13>59,($AC$1*AC13),0)+IF(AD13>59,($AD$1*AD13),0)+IF(AE13>59,($AE$1*AE13),0))/18)))) | AG13: =IF(AF13="D","Devamsız",IF(AF13="G","Girmedi",AF13))
A14: 12 | D14: =IFERROR(IF(COUNT(FIND(" ",C14,FIND(" ",C14)+1))>0,LEFT(C14,2)&REPT("*",FIND(" ",C14,1)-3)&MID(C14,FIND(" ",C14,1),3)&REPT("*",FIND(" ",C14,FIND(" ",C14)+1)-FIND(" ",C14,1)-3)&MID(C14,FIND(" ",C14,FIND(" ",C14)+1),3)&REPT("*",LEN(C14)-2-FIND(" ",C14,FIND(" ",C14)+1)),LEFT(C14,2)&REPT("*",FIND(" ",C14,1)-3)&MID(C14,FIND(" ",C14)+1,2)&REPT("*",LEN(C14)-2-FIND(" ",C14))),"") | E14: =IF(C14="","",TRIM(SUBSTITUTE(SUBSTITUTE(SUBSTITUTE(IF(S14="G",$S$2,"-")&", "&IF(S14="D",$S$2&"(Devamsız)","-")&", "&IF(S14<60,$S$2,"-")&", "&IF(T14="G",$T$2,"-")&", "&IF(T14="D",$T$2&"(Devamsız)","-")&", "&IF(T14<60,$T$2,"-")&", "&IF(U14="G",$U$2,"-")&", "&IF(U14="D",$U$2&"(Devamsız)","-")&", "&IF(U14<60,$U$2,"-")&", "&IF(V14="G",$V$2,"-")&", "&IF(V14="D",$V$2&"(Devamsız)","-")&", "&IF(V14<60,$V$2,"-")&", "&IF(W14="G",$W$2,"-")&", "&IF(W14="D",$W$2&"(Devamsız)","-")&", "&IF(W14<60,$W$2,"-")&", "&IF(X14="G",$X$2,"-")&", "&IF(X14="D",$X$2&"(Devamsız)","-")&", "&IF(X14<60,$X$2,"-")&", "&IF(Y14="G",$Y$2,"-")&", "&IF(Y14="D",$Y$2&"(Devamsız)","-")&", "&IF(Y14<60,$Y$2,"-")&", "&IF(Z14="G",$Z$2,"-")&", "&IF(Z14="D",$Z$2&"(Devamsız)","-")&", "&IF(Z14<60,$Z$2,"-")&", "&IF(AA14="G",$AA$2,"-")&", "&IF(AA14="D",$AA$2&"(Devamsız)","-")&", "&IF(AA14<60,$AA$2,"-")&", "&IF(AB14="G",$AB$2,"-")&", "&IF(AB14="D",$AB$2&"(Devamsız)","-")&", "&IF(AB14<60,$AB$2,"-")&", "&IF(AC14="G",$AC$2,"-")&", "&IF(AC14="D",$AC$2&"(Devamsız)","-")&", "&IF(AC14<60,$AC$2,"-")&", "&IF(AD14="G",$AD$2,"-")&", "&IF(AD14="D",$AD$2&"(Devamsız)","-")&", "&IF(AD14<60,$AD$2,"-")&", "&IF(AE14="G",$AE$2,"-")&", "&IF(AE14="D",$AE$2&"(Devamsız)","-")&", "&IF(AE14<60,$AE$2,"-"),", -",""),"-,",""),"-",""))) | F14: =IF(OR(S14="D",S14="G"),-1,S14) -> 0 | G14: =IF(OR(T14="D",T14="G"),-1,T14) -> 0 | H14: =IF(OR(U14="D",U14="G"),-1,U14) -> 0 | I14: =IF(OR(V14="D",V14="G"),-1,V14) -> 0 | J14: =IF(OR(W14="D",W14="G"),-1,W14) -> 0 | K14: =IF(OR(X14="D",X14="G"),-1,X14) -> 0 | L14: =IF(OR(Y14="D",Y14="G"),-1,Y14) -> 0 | M14: =IF(OR(Z14="D",Z14="G"),-1,Z14) -> 0 | ... R14: =IF(OR(AE14="D",AE14="G"),-1,AE14) -> 0 | AF14: =IF(D14="","",IF(OR(S14="D",T14="D",U14="D",V14="D",W14="D",X14="D",Y14="D",Z14="D",AA14="D",AB14="D",AC14="D",AD14="D",AE14="D"),"D",IF(OR(S14="G",T14="G",U14="G",V14="G",W14="G",X14="G",Y14="G",Z14="G",AA14="G",AB14="G",AC14="G",AD14="G",AE14="G"),"G",IF(OR(S14<60,T14<60,U14<60,V14<60,W14<60,X14<60,Y14<60,Z14<60,AA14<60,AB14<60,AC14<60,AD14<60,AE14<60),11,(IF(S14>59,($S$1*S14),0)+IF(T14>59,($T$1*T14),0)+IF(U14>59,($U$1*U14),0)+IF(V14>59,($V$1*V14),0)+IF(W14>59,($W$1*W14),0)+IF(X14>59,($X$1*X14),0)+IF(Y14>59,($Y$1*Y14),0)+IF(Z14>59,($Z$1*Z14),0)+IF(AA14>59,($AA$1*AA14),0)+IF(AB14>59,($AB$1*AB14),0)+IF(AC14>59,($AC$1*AC14),0)+IF(AD14>59,($AD$1*AD14),0)+IF(AE14>59,($AE$1*AE14),0))/18)))) | AG14: =IF(AF14="D","Devamsız",IF(AF14="G","Girmedi",AF14))
... A152: 150 | D152: =IFERROR(IF(COUNT(FIND(" ",C152,FIND(" ",C152)+1))>0,LEFT(C152,2)&REPT("*",FIND(" ",C152,1)-3)&MID(C152,FIND(" ",C152,1),3)&REPT("*",FIND(" ",C152,FIND(" ",C152)+1)-FIND(" ",C152,1)-3)&MID(C152,FIND(" ",C152,FIND(" ",C152)+1),3)&REPT("*",LEN(C152)-2-FIND(" ",C152,FIND(" ",C152)+1)),LEFT(C152,2)&REPT("*",FIND(" ",C152,1)-3)&MID(C152,FIND(" ",C152)+1,2)&REPT("*",LEN(C152)-2-FIND(" ",C152))),"") | E152: =IF(C152="","",TRIM(SUBSTITUTE(SUBSTITUTE(SUBSTITUTE(IF(S152="G",$S$2,"-")&", "&IF(S152="D",$S$2&"(Devamsız)","-")&", "&IF(S152<60,$S$2,"-")&", "&IF(T152="G",$T$2,"-")&", "&IF(T152="D",$T$2&"(Devamsız)","-")&", "&IF(T152<60,$T$2,"-")&", "&IF(U152="G",$U$2,"-")&", "&IF(U152="D",$U$2&"(Devamsız)","-")&", "&IF(U152<60,$U$2,"-")&", "&IF(V152="G",$V$2,"-")&", "&IF(V152="D",$V$2&"(Devamsız)","-")&", "&IF(V152<60,$V$2,"-")&", "&IF(W152="G",$W$2,"-")&", "&IF(W152="D",$W$2&"(Devamsız)","-")&", "&IF(W152<60,$W$2,"-")&", "&IF(X152="G",$X$2,"-")&", "&IF(X152="D",$X$2&"(Devamsız)","-")&", "&IF(X152<60,$X$2,"-")&", "&IF(Y152="G",$Y$2,"-")&", "&IF(Y152="D",$Y$2&"(Devamsız)","-")&", "&IF(Y152<60,$Y$2,"-")&", "&IF(Z152="G",$Z$2,"-")&", "&IF(Z152="D",$Z$2&"(Devamsız)","-")&", "&IF(Z152<60,$Z$2,"-")&", "&IF(AA152="G",$AA$2,"-")&", "&IF(AA152="D",$AA$2&"(Devamsız)","-")&", "&IF(AA152<60,$AA$2,"-")&", "&IF(AB152="G",$AB$2,"-")&", "&IF(AB152="D",$AB$2&"(Devamsız)","-")&", "&IF(AB152<60,$AB$2,"-")&", "&IF(AC152="G",$AC$2,"-")&", "&IF(AC152="D",$AC$2&"(Devamsız)","-")&", "&IF(AC152<60,$AC$2,"-")&", "&IF(AD152="G",$AD$2,"-")&", "&IF(AD152="D",$AD$2&"(Devamsız)","-")&", "&IF(AD152<60,$AD$2,"-")&", "&IF(AE152="G",$AE$2,"-")&", "&IF(AE152="D",$AE$2&"(Devamsız)","-")&", "&IF(AE152<60,$AE$2,"-"),", -",""),"-,",""),"-",""))) | F152: =IF(OR(S152="D",S152="G"),-1,S152) -> 0 | G152: =IF(OR(T152="D",T152="G"),-1,T152) -> 0 | H152: =IF(OR(U152="D",U152="G"),-1,U152) -> 0 | I152: =IF(OR(V152="D",V152="G"),-1,V152) -> 0 | J152: =IF(OR(W152="D",W152="G"),-1,W152) -> 0 | K152: =IF(OR(X152="D",X152="G"),-1,X152) -> 0 | L152: =IF(OR(Y152="D",Y152="G"),-1,Y152) -> 0 | M152: =IF(OR(Z152="D",Z152="G"),-1,Z152) -> 0 | ... R152: =IF(OR(AE152="D",AE152="G"),-1,AE152) -> 0 | AF152: =IF(D152="","",IF(OR(S152="D",T152="D",U152="D",V152="D",W152="D",X152="D",Y152="D",Z152="D",AA152="D",AB152="D",AC152="D",AD152="D",AE152="D"),"D",IF(OR(S152="G",T152="G",U152="G",V152="G",W152="G",X152="G",Y152="G",Z152="G",AA152="G",AB152="G",AC152="G",AD152="G",AE152="G"),"G",IF(OR(S152<60,T152<60,U152<60,V152<60,W152<60,X152<60,Y152<60,Z152<60,AA152<60,AB152<60,AC152<60,AD152<60,AE152<60),11,(IF(S152>59,($S$1*S152),0)+IF(T152>59,($T$1*T152),0)+IF(U152>59,($U$1*U152),0)+IF(V152>59,($V$1*V152),0)+IF(W152>59,($W$1*W152),0)+IF(X152>59,($X$1*X152),0)+IF(Y152>59,($Y$1*Y152),0)+IF(Z152>59,($Z$1*Z152),0)+IF(AA152>59,($AA$1*AA152),0)+IF(AB152>59,($AB$1*AB152),0)+IF(AC152>59,($AC$1*AC152),0)+IF(AD152>59,($AD$1*AD152),0)+IF(AE152>59,($AE$1*AE152),0))/18)))) | AG152: =IF(AF152="D","Devamsız",IF(AF152="G","Girmedi",AF152))

Sheet Ders-Öğrenci
A2: SN | B2: =FinalSonucu!S2 -> Cerrahi | C2: =FinalSonucu!T2 -> İç Hastalıkları | D2: =FinalSonucu!U2 -> Doğum ve Jinekoloji | E2: =FinalSonucu!V2 -> Patoloji | F2: =FinalSonucu!W2 -> Dölerme ve Suni Tohumlama | G2: =FinalSonucu!X2 -> Farmakoloji ve Toksikoloji | H2: =FinalSonucu!Y2 -> Hayvan Besleme ve Beslenme Hastalıkları | I2: =FinalSonucu!Z2 -> Zootekni | ... N2: =FinalSonucu!AE2 -> Veteriner Hekimlik tarihi ve Deontoloji
A3: 1 | B3: {=IFERROR(INDEX(FinalSonucu!$C$3:$C$152,SMALL(IF(FinalSonucu!F$3:F$152<60,ROW(FinalSonucu!$C$3:$C$152)-ROW(FinalSonucu!$C$3)+1),ROWS(B$3:B3))),"")} -> 0 | C3: {=IFERROR(INDEX(FinalSonucu!$C$3:$C$152,SMALL(IF(FinalSonucu!G$3:G$152<60,ROW(FinalSonucu!$C$3:$C$152)-ROW(FinalSonucu!$C$3)+1),ROWS(C$3:C3))),"")} -> 0 | D3: {=IFERROR(INDEX(FinalSonucu!$C$3:$C$152,SMALL(IF(FinalSonucu!H$3:H$152<60,ROW(FinalSonucu!$C$3:$C$152)-ROW(FinalSonucu!$C$3)+1),ROWS(D$3:D3))),"")} -> 0 | E3: {=IFERROR(INDEX(FinalSonucu!$C$3:$C$152,SMALL(IF(FinalSonucu!I$3:I$152<60,ROW(FinalSonucu!$C$3:$C$152)-ROW(FinalSonucu!$C$3)+1),ROWS(E$3:E3))),"")} -> 0 | F3: {=IFERROR(INDEX(FinalSonucu!$C$3:$C$152,SMALL(IF(FinalSonucu!J$3:J$152<60,ROW(FinalSonucu!$C$3:$C$152)-ROW(FinalSonucu!$C$3)+1),ROWS(F$3:F3))),"")} -> 0 | G3: {=IFERROR(INDEX(FinalSonucu!$C$3:$C$152,SMALL(IF(FinalSonucu!K$3:K$152<60,ROW(FinalSonucu!$C$3:$C$152)-ROW(FinalSonucu!$C$3)+1),ROWS(G$3:G3))),"")} -> 0 | H3: {=IFERROR(INDEX(FinalSonucu!$C$3:$C$152,SMALL(IF(FinalSonucu!L$3:L$152<60,ROW(FinalSonucu!$C$3:$C$152)-ROW(FinalSonucu!$C$3)+1),ROWS(H$3:H3))),"")} -> 0 | I3: {=IFERROR(INDEX(FinalSonucu!$C$3:$C$152,SMALL(IF(FinalSonucu!M$3:M$152<60,ROW(FinalSonucu!$C$3:$C$152)-ROW(FinalSonucu!$C$3)+1),ROWS(I$3:I3))),"")} -> 0 | ... N3: {=IFERROR(INDEX(FinalSonucu!$C$3:$C$152,SMALL(IF(FinalSonucu!R$3:R$152<60,ROW(FinalSonucu!$C$3:$C$152)-ROW(FinalSonucu!$C$3)+1),ROWS(N$3:N3))),"")} -> 0
A4: 2 | B4: {=IFERROR(INDEX(FinalSonucu!$C$3:$C$152,SMALL(IF(FinalSonucu!F$3:F$152<60,ROW(FinalSonucu!$C$3:$C$152)-ROW(FinalSonucu!$C$3)+1),ROWS(B$3:B4))),"")} -> 0 | C4: {=IFERROR(INDEX(FinalSonucu!$C$3:$C$152,SMALL(IF(FinalSonucu!G$3:G$152<60,ROW(FinalSonucu!$C$3:$C$152)-ROW(FinalSonucu!$C$3)+1),ROWS(C$3:C4))),"")} -> 0 | D4: {=IFERROR(INDEX(FinalSonucu!$C$3:$C$152,SMALL(IF(FinalSonucu!H$3:H$152<60,ROW(FinalSonucu!$C$3:$C$152)-ROW(FinalSonucu!$C$3)+1),ROWS(D$3:D4))),"")} -> 0 | E4: {=IFERROR(INDEX(FinalSonucu!$C$3:$C$152,SMALL(IF(FinalSonucu!I$3:I$152<60,ROW(FinalSonucu!$C$3:$C$152)-ROW(FinalSonucu!$C$3)+1),ROWS(E$3:E4))),"")} -> 0 | F4: {=IFERROR(INDEX(FinalSonucu!$C$3:$C$152,SMALL(IF(FinalSonucu!J$3:J$152<60,ROW(FinalSonucu!$C$3:$C$152)-ROW(FinalSonucu!$C$3)+1),ROWS(F$3:F4))),"")} -> 0 | G4: {=IFERROR(INDEX(FinalSonucu!$C$3:$C$152,SMALL(IF(FinalSonucu!K$3:K$152<60,ROW(FinalSonucu!$C$3:$C$152)-ROW(FinalSonucu!$C$3)+1),ROWS(G$3:G4))),"")} -> 0 | H4: {=IFERROR(INDEX(FinalSonucu!$C$3:$C$152,SMALL(IF(FinalSonucu!L$3:L$152<60,ROW(FinalSonucu!$C$3:$C$152)-ROW(FinalSonucu!$C$3)+1),ROWS(H$3:H4))),"")} -> 0 | I4: {=IFERROR(INDEX(FinalSonucu!$C$3:$C$152,SMALL(IF(FinalSonucu!M$3:M$152<60,ROW(FinalSonucu!$C$3:$C$152)-ROW(FinalSonucu!$C$3)+1),ROWS(I$3:I4))),"")} -> 0 | ... N4: {=IFERROR(INDEX(FinalSonucu!$C$3:$C$152,SMALL(IF(FinalSonucu!R$3:R$152<60,ROW(FinalSonucu!$C$3:$C$152)-ROW(FinalSonucu!$C$3)+1),ROWS(N$3:N4))),"")} -> 0
A5: 3 | B5: {=IFERROR(INDEX(FinalSonucu!$C$3:$C$152,SMALL(IF(FinalSonucu!F$3:F$152<60,ROW(FinalSonucu!$C$3:$C$152)-ROW(FinalSonucu!$C$3)+1),ROWS(B$3:B5))),"")} -> 0 | C5: {=IFERROR(INDEX(FinalSonucu!$C$3:$C$152,SMALL(IF(FinalSonucu!G$3:G$152<60,ROW(FinalSonucu!$C$3:$C$152)-ROW(FinalSonucu!$C$3)+1),ROWS(C$3:C5))),"")} -> 0 | D5: {=IFERROR(INDEX(FinalSonucu!$C$3:$C$152,SMALL(IF(FinalSonucu!H$3:H$152<60,ROW(FinalSonucu!$C$3:$C$152)-ROW(FinalSonucu!$C$3)+1),ROWS(D$3:D5))),"")} -> 0 | E5: {=IFERROR(INDEX(FinalSonucu!$C$3:$C$152,SMALL(IF(FinalSonucu!I$3:I$152<60,ROW(FinalSonucu!$C$3:$C$152)-ROW(FinalSonucu!$C$3)+1),ROWS(E$3:E5))),"")} -> 0 | F5: {=IFERROR(INDEX(FinalSonucu!$C$3:$C$152,SMALL(IF(FinalSonucu!J$3:J$152<60,ROW(FinalSonucu!$C$3:$C$152)-ROW(FinalSonucu!$C$3)+1),ROWS(F$3:F5))),"")} -> 0 | G5: {=IFERROR(INDEX(FinalSonucu!$C$3:$C$152,SMALL(IF(FinalSonucu!K$3:K$152<60,ROW(FinalSonucu!$C$3:$C$152)-ROW(FinalSonucu!$C$3)+1),ROWS(G$3:G5))),"")} -> 0 | H5: {=IFERROR(INDEX(FinalSonucu!$C$3:$C$152,SMALL(IF(FinalSonucu!L$3:L$152<60,ROW(FinalSonucu!$C$3:$C$152)-ROW(FinalSonucu!$C$3)+1),ROWS(H$3:H5))),"")} -> 0 | I5: {=IFERROR(INDEX(FinalSonucu!$C$3:$C$152,SMALL(IF(FinalSonucu!M$3:M$152<60,ROW(FinalSonucu!$C$3:$C$152)-ROW(FinalSonucu!$C$3)+1),ROWS(I$3:I5))),"")} -> 0 | ... N5: {=IFERROR(INDEX(FinalSonucu!$C$3:$C$152,SMALL(IF(FinalSonucu!R$3:R$152<60,ROW(FinalSonucu!$C$3:$C$152)-ROW(FinalSonucu!$C$3)+1),ROWS(N$3:N5))),"")} -> 0
A6: 4 | B6: {=IFERROR(INDEX(FinalSonucu!$C$3:$C$152,SMALL(IF(FinalSonucu!F$3:F$152<60,ROW(FinalSonucu!$C$3:$C$152)-ROW(FinalSonucu!$C$3)+1),ROWS(B$3:B6))),"")} -> 0 | C6: {=IFERROR(INDEX(FinalSonucu!$C$3:$C$152,SMALL(IF(FinalSonucu!G$3:G$152<60,ROW(FinalSonucu!$C$3:$C$152)-ROW(FinalSonucu!$C$3)+1),ROWS(C$3:C6))),"")} -> 0 | D6: {=IFERROR(INDEX(FinalSonucu!$C$3:$C$152,SMALL(IF(FinalSonucu!H$3:H$152<60,ROW(FinalSonucu!$C$3:$C$152)-ROW(FinalSonucu!$C$3)+1),ROWS(D$3:D6))),"")} -> 0 | E6: {=IFERROR(INDEX(FinalSonucu!$C$3:$C$152,SMALL(IF(FinalSonucu!I$3:I$152<60,ROW(FinalSonucu!$C$3:$C$152)-ROW(FinalSonucu!$C$3)+1),ROWS(E$3:E6))),"")} -> 0 | F6: {=IFERROR(INDEX(FinalSonucu!$C$3:$C$152,SMALL(IF(FinalSonucu!J$3:J$152<60,ROW(FinalSonucu!$C$3:$C$152)-ROW(FinalSonucu!$C$3)+1),ROWS(F$3:F6))),"")} -> 0 | G6: {=IFERROR(INDEX(FinalSonucu!$C$3:$C$152,SMALL(IF(FinalSonucu!K$3:K$152<60,ROW(FinalSonucu!$C$3:$C$152)-ROW(FinalSonucu!$C$3)+1),ROWS(G$3:G6))),"")} -> 0 | H6: {=IFERROR(INDEX(FinalSonucu!$C$3:$C$152,SMALL(IF(FinalSonucu!L$3:L$152<60,ROW(FinalSonucu!$C$3:$C$152)-ROW(FinalSonucu!$C$3)+1),ROWS(H$3:H6))),"")} -> 0 | I6: {=IFERROR(INDEX(FinalSonucu!$C$3:$C$152,SMALL(IF(FinalSonucu!M$3:M$152<60,ROW(FinalSonucu!$C$3:$C$152)-ROW(FinalSonucu!$C$3)+1),ROWS(I$3:I6))),"")} -> 0 | ... N6: {=IFERROR(INDEX(FinalSonucu!$C$3:$C$152,SMALL(IF(FinalSonucu!R$3:R$152<60,ROW(FinalSonucu!$C$3:$C$152)-ROW(FinalSonucu!$C$3)+1),ROWS(N$3:N6))),"")} -> 0
A7: 5 | B7: {=IFERROR(INDEX(FinalSonucu!$C$3:$C$152,SMALL(IF(FinalSonucu!F$3:F$152<60,ROW(FinalSonucu!$C$3:$C$152)-ROW(FinalSonucu!$C$3)+1),ROWS(B$3:B7))),"")} -> 0 | C7: {=IFERROR(INDEX(FinalSonucu!$C$3:$C$152,SMALL(IF(FinalSonucu!G$3:G$152<60,ROW(FinalSonucu!$C$3:$C$152)-ROW(FinalSonucu!$C$3)+1),ROWS(C$3:C7))),"")} -> 0 | D7: {=IFERROR(INDEX(FinalSonucu!$C$3:$C$152,SMALL(IF(FinalSonucu!H$3:H$152<60,ROW(FinalSonucu!$C$3:$C$152)-ROW(FinalSonucu!$C$3)+1),ROWS(D$3:D7))),"")} -> 0 | E7: {=IFERROR(INDEX(FinalSonucu!$C$3:$C$152,SMALL(IF(FinalSonucu!I$3:I$152<60,ROW(FinalSonucu!$C$3:$C$152)-ROW(FinalSonucu!$C$3)+1),ROWS(E$3:E7))),"")} -> 0 | F7: {=IFERROR(INDEX(FinalSonucu!$C$3:$C$152,SMALL(IF(FinalSonucu!J$3:J$152<60,ROW(FinalSonucu!$C$3:$C$152)-ROW(FinalSonucu!$C$3)+1),ROWS(F$3:F7))),"")} -> 0 | G7: {=IFERROR(INDEX(FinalSonucu!$C$3:$C$152,SMALL(IF(FinalSonucu!K$3:K$152<60,ROW(FinalSonucu!$C$3:$C$152)-ROW(FinalSonucu!$C$3)+1),ROWS(G$3:G7))),"")} -> 0 | H7: {=IFERROR(INDEX(FinalSonucu!$C$3:$C$152,SMALL(IF(FinalSonucu!L$3:L$152<60,ROW(FinalSonucu!$C$3:$C$152)-ROW(FinalSonucu!$C$3)+1),ROWS(H$3:H7))),"")} -> 0 | I7: {=IFERROR(INDEX(FinalSonucu!$C$3:$C$152,SMALL(IF(FinalSonucu!M$3:M$152<60,ROW(FinalSonucu!$C$3:$C$152)-ROW(FinalSonucu!$C$3)+1),ROWS(I$3:I7))),"")} -> 0 | ... N7: {=IFERROR(INDEX(FinalSonucu!$C$3:$C$152,SMALL(IF(FinalSonucu!R$3:R$152<60,ROW(FinalSonucu!$C$3:$C$152)-ROW(FinalSonucu!$C$3)+1),ROWS(N$3:N7))),"")} -> 0
A8: 6 | B8: {=IFERROR(INDEX(FinalSonucu!$C$3:$C$152,SMALL(IF(FinalSonucu!F$3:F$152<60,ROW(FinalSonucu!$C$3:$C$152)-ROW(FinalSonucu!$C$3)+1),ROWS(B$3:B8))),"")} -> 0 | C8: {=IFERROR(INDEX(FinalSonucu!$C$3:$C$152,SMALL(IF(FinalSonucu!G$3:G$152<60,ROW(FinalSonucu!$C$3:$C$152)-ROW(FinalSonucu!$C$3)+1),ROWS(C$3:C8))),"")} -> 0 | D8: {=IFERROR(INDEX(FinalSonucu!$C$3:$C$152,SMALL(IF(FinalSonucu!H$3:H$152<60,ROW(FinalSonucu!$C$3:$C$152)-ROW(FinalSonucu!$C$3)+1),ROWS(D$3:D8))),"")} -> 0 | E8: {=IFERROR(INDEX(FinalSonucu!$C$3:$C$152,SMALL(IF(FinalSonucu!I$3:I$152<60,ROW(FinalSonucu!$C$3:$C$152)-ROW(FinalSonucu!$C$3)+1),ROWS(E$3:E8))),"")} -> 0 | F8: {=IFERROR(INDEX(FinalSonucu!$C$3:$C$152,SMALL(IF(FinalSonucu!J$3:J$152<60,ROW(FinalSonucu!$C$3:$C$152)-ROW(FinalSonucu!$C$3)+1),ROWS(F$3:F8))),"")} -> 0 | G8: {=IFERROR(INDEX(FinalSonucu!$C$3:$C$152,SMALL(IF(FinalSonucu!K$3:K$152<60,ROW(FinalSonucu!$C$3:$C$152)-ROW(FinalSonucu!$C$3)+1),ROWS(G$3:G8))),"")} -> 0 | H8: {=IFERROR(INDEX(FinalSonucu!$C$3:$C$152,SMALL(IF(FinalSonucu!L$3:L$152<60,ROW(FinalSonucu!$C$3:$C$152)-ROW(FinalSonucu!$C$3)+1),ROWS(H$3:H8))),"")} -> 0 | I8: {=IFERROR(INDEX(FinalSonucu!$C$3:$C$152,SMALL(IF(FinalSonucu!M$3:M$152<60,ROW(FinalSonucu!$C$3:$C$152)-ROW(FinalSonucu!$C$3)+1),ROWS(I$3:I8))),"")} -> 0 | ... N8: {=IFERROR(INDEX(FinalSonucu!$C$3:$C$152,SMALL(IF(FinalSonucu!R$3:R$152<60,ROW(FinalSonucu!$C$3:$C$152)-ROW(FinalSonucu!$C$3)+1),ROWS(N$3:N8))),"")} -> 0
A9: 7 | B9: {=IFERROR(INDEX(FinalSonucu!$C$3:$C$152,SMALL(IF(FinalSonucu!F$3:F$152<60,ROW(FinalSonucu!$C$3:$C$152)-ROW(FinalSonucu!$C$3)+1),ROWS(B$3:B9))),"")} -> 0 | C9: {=IFERROR(INDEX(FinalSonucu!$C$3:$C$152,SMALL(IF(FinalSonucu!G$3:G$152<60,ROW(FinalSonucu!$C$3:$C$152)-ROW(FinalSonucu!$C$3)+1),ROWS(C$3:C9))),"")} -> 0 | D9: {=IFERROR(INDEX(FinalSonucu!$C$3:$C$152,SMALL(IF(FinalSonucu!H$3:H$152<60,ROW(FinalSonucu!$C$3:$C$152)-ROW(FinalSonucu!$C$3)+1),ROWS(D$3:D9))),"")} -> 0 | E9: {=IFERROR(INDEX(FinalSonucu!$C$3:$C$152,SMALL(IF(FinalSonucu!I$3:I$152<60,ROW(FinalSonucu!$C$3:$C$152)-ROW(FinalSonucu!$C$3)+1),ROWS(E$3:E9))),"")} -> 0 | F9: {=IFERROR(INDEX(FinalSonucu!$C$3:$C$152,SMALL(IF(FinalSonucu!J$3:J$152<60,ROW(FinalSonucu!$C$3:$C$152)-ROW(FinalSonucu!$C$3)+1),ROWS(F$3:F9))),"")} -> 0 | G9: {=IFERROR(INDEX(FinalSonucu!$C$3:$C$152,SMALL(IF(FinalSonucu!K$3:K$152<60,ROW(FinalSonucu!$C$3:$C$152)-ROW(FinalSonucu!$C$3)+1),ROWS(G$3:G9))),"")} -> 0 | H9: {=IFERROR(INDEX(FinalSonucu!$C$3:$C$152,SMALL(IF(FinalSonucu!L$3:L$152<60,ROW(FinalSonucu!$C$3:$C$152)-ROW(FinalSonucu!$C$3)+1),ROWS(H$3:H9))),"")} -> 0 | I9: {=IFERROR(INDEX(FinalSonucu!$C$3:$C$152,SMALL(IF(FinalSonucu!M$3:M$152<60,ROW(FinalSonucu!$C$3:$C$152)-ROW(FinalSonucu!$C$3)+1),ROWS(I$3:I9))),"")} -> 0 | ... N9: {=IFERROR(INDEX(FinalSonucu!$C$3:$C$152,SMALL(IF(FinalSonucu!R$3:R$152<60,ROW(FinalSonucu!$C$3:$C$152)-ROW(FinalSonucu!$C$3)+1),ROWS(N$3:N9))),"")} -> 0
A10: 8 | B10: {=IFERROR(INDEX(FinalSonucu!$C$3:$C$152,SMALL(IF(FinalSonucu!F$3:F$152<60,ROW(FinalSonucu!$C$3:$C$152)-ROW(FinalSonucu!$C$3)+1),ROWS(B$3:B10))),"")} -> 0 | C10: {=IFERROR(INDEX(FinalSonucu!$C$3:$C$152,SMALL(IF(FinalSonucu!G$3:G$152<60,ROW(FinalSonucu!$C$3:$C$152)-ROW(FinalSonucu!$C$3)+1),ROWS(C$3:C10))),"")} -> 0 | D10: {=IFERROR(INDEX(FinalSonucu!$C$3:$C$152,SMALL(IF(FinalSonucu!H$3:H$152<60,ROW(FinalSonucu!$C$3:$C$152)-ROW(FinalSonucu!$C$3)+1),ROWS(D$3:D10))),"")} -> 0 | E10: {=IFERROR(INDEX(FinalSonucu!$C$3:$C$152,SMALL(IF(FinalSonucu!I$3:I$152<60,ROW(FinalSonucu!$C$3:$C$152)-ROW(FinalSonucu!$C$3)+1),ROWS(E$3:E10))),"")} -> 0 | F10: {=IFERROR(INDEX(FinalSonucu!$C$3:$C$152,SMALL(IF(FinalSonucu!J$3:J$152<60,ROW(FinalSonucu!$C$3:$C$152)-ROW(FinalSonucu!$C$3)+1),ROWS(F$3:F10))),"")} -> 0 | G10: {=IFERROR(INDEX(FinalSonucu!$C$3:$C$152,SMALL(IF(FinalSonucu!K$3:K$152<60,ROW(FinalSonucu!$C$3:$C$152)-ROW(FinalSonucu!$C$3)+1),ROWS(G$3:G10))),"")} -> 0 | H10: {=IFERROR(INDEX(FinalSonucu!$C$3:$C$152,SMALL(IF(FinalSonucu!L$3:L$152<60,ROW(FinalSonucu!$C$3:$C$152)-ROW(FinalSonucu!$C$3)+1),ROWS(H$3:H10))),"")} -> 0 | I10: {=IFERROR(INDEX(FinalSonucu!$C$3:$C$152,SMALL(IF(FinalSonucu!M$3:M$152<60,ROW(FinalSonucu!$C$3:$C$152)-ROW(FinalSonucu!$C$3)+1),ROWS(I$3:I10))),"")} -> 0 | ... N10: {=IFERROR(INDEX(FinalSonucu!$C$3:$C$152,SMALL(IF(FinalSonucu!R$3:R$152<60,ROW(FinalSonucu!$C$3:$C$152)-ROW(FinalSonucu!$C$3)+1),ROWS(N$3:N10))),"")} -> 0
A11: 9 | B11: {=IFERROR(INDEX(FinalSonucu!$C$3:$C$152,SMALL(IF(FinalSonucu!F$3:F$152<60,ROW(FinalSonucu!$C$3:$C$152)-ROW(FinalSonucu!$C$3)+1),ROWS(B$3:B11))),"")} -> 0 | C11: {=IFERROR(INDEX(FinalSonucu!$C$3:$C$152,SMALL(IF(FinalSonucu!G$3:G$152<60,ROW(FinalSonucu!$C$3:$C$152)-ROW(FinalSonucu!$C$3)+1),ROWS(C$3:C11))),"")} -> 0 | D11: {=IFERROR(INDEX(FinalSonucu!$C$3:$C$152,SMALL(IF(FinalSonucu!H$3:H$152<60,ROW(FinalSonucu!$C$3:$C$152)-ROW(FinalSonucu!$C$3)+1),ROWS(D$3:D11))),"")} -> 0 | E11: {=IFERROR(INDEX(FinalSonucu!$C$3:$C$152,SMALL(IF(FinalSonucu!I$3:I$152<60,ROW(FinalSonucu!$C$3:$C$152)-ROW(FinalSonucu!$C$3)+1),ROWS(E$3:E11))),"")} -> 0 | F11: {=IFERROR(INDEX(FinalSonucu!$C$3:$C$152,SMALL(IF(FinalSonucu!J$3:J$152<60,ROW(FinalSonucu!$C$3:$C$152)-ROW(FinalSonucu!$C$3)+1),ROWS(F$3:F11))),"")} -> 0 | G11: {=IFERROR(INDEX(FinalSonucu!$C$3:$C$152,SMALL(IF(FinalSonucu!K$3:K$152<60,ROW(FinalSonucu!$C$3:$C$152)-ROW(FinalSonucu!$C$3)+1),ROWS(G$3:G11))),"")} -> 0 | H11: {=IFERROR(INDEX(FinalSonucu!$C$3:$C$152,SMALL(IF(FinalSonucu!L$3:L$152<60,ROW(FinalSonucu!$C$3:$C$152)-ROW(FinalSonucu!$C$3)+1),ROWS(H$3:H11))),"")} -> 0 | I11: {=IFERROR(INDEX(FinalSonucu!$C$3:$C$152,SMALL(IF(FinalSonucu!M$3:M$152<60,ROW(FinalSonucu!$C$3:$C$152)-ROW(FinalSonucu!$C$3)+1),ROWS(I$3:I11))),"")} -> 0 | ... N11: {=IFERROR(INDEX(FinalSonucu!$C$3:$C$152,SMALL(IF(FinalSonucu!R$3:R$152<60,ROW(FinalSonucu!$C$3:$C$152)-ROW(FinalSonucu!$C$3)+1),ROWS(N$3:N11))),"")} -> 0
A12: 10 | B12: {=IFERROR(INDEX(FinalSonucu!$C$3:$C$152,SMALL(IF(FinalSonucu!F$3:F$152<60,ROW(FinalSonucu!$C$3:$C$152)-ROW(FinalSonucu!$C$3)+1),ROWS(B$3:B12))),"")} -> 0 | C12: {=IFERROR(INDEX(FinalSonucu!$C$3:$C$152,SMALL(IF(FinalSonucu!G$3:G$152<60,ROW(FinalSonucu!$C$3:$C$152)-ROW(FinalSonucu!$C$3)+1),ROWS(C$3:C12))),"")} -> 0 | D12: {=IFERROR(INDEX(FinalSonucu!$C$3:$C$152,SMALL(IF(FinalSonucu!H$3:H$152<60,ROW(FinalSonucu!$C$3:$C$152)-ROW(FinalSonucu!$C$3)+1),ROWS(D$3:D12))),"")} -> 0 | E12: {=IFERROR(INDEX(FinalSonucu!$C$3:$C$152,SMALL(IF(FinalSonucu!I$3:I$152<60,ROW(FinalSonucu!$C$3:$C$152)-ROW(FinalSonucu!$C$3)+1),ROWS(E$3:E12))),"")} -> 0 | F12: {=IFERROR(INDEX(FinalSonucu!$C$3:$C$152,SMALL(IF(FinalSonucu!J$3:J$152<60,ROW(FinalSonucu!$C$3:$C$152)-ROW(FinalSonucu!$C$3)+1),ROWS(F$3:F12))),"")} -> 0 | G12: {=IFERROR(INDEX(FinalSonucu!$C$3:$C$152,SMALL(IF(FinalSonucu!K$3:K$152<60,ROW(FinalSonucu!$C$3:$C$152)-ROW(FinalSonucu!$C$3)+1),ROWS(G$3:G12))),"")} -> 0 | H12: {=IFERROR(INDEX(FinalSonucu!$C$3:$C$152,SMALL(IF(FinalSonucu!L$3:L$152<60,ROW(FinalSonucu!$C$3:$C$152)-ROW(FinalSonucu!$C$3)+1),ROWS(H$3:H12))),"")} -> 0 | I12: {=IFERROR(INDEX(FinalSonucu!$C$3:$C$152,SMALL(IF(FinalSonucu!M$3:M$152<60,ROW(FinalSonucu!$C$3:$C$152)-ROW(FinalSonucu!$C$3)+1),ROWS(I$3:I12))),"")} -> 0 | ... N12: {=IFERROR(INDEX(FinalSonucu!$C$3:$C$152,SMALL(IF(FinalSonucu!R$3:R$152<60,ROW(FinalSonucu!$C$3:$C$152)-ROW(FinalSonucu!$C$3)+1),ROWS(N$3:N12))),"")} -> 0
A13: 11 | B13: {=IFERROR(INDEX(FinalSonucu!$C$3:$C$152,SMALL(IF(FinalSonucu!F$3:F$152<60,ROW(FinalSonucu!$C$3:$C$152)-ROW(FinalSonucu!$C$3)+1),ROWS(B$3:B13))),"")} -> 0 | C13: {=IFERROR(INDEX(FinalSonucu!$C$3:$C$152,SMALL(IF(FinalSonucu!G$3:G$152<60,ROW(FinalSonucu!$C$3:$C$152)-ROW(FinalSonucu!$C$3)+1),ROWS(C$3:C13))),"")} -> 0 | D13: {=IFERROR(INDEX(FinalSonucu!$C$3:$C$152,SMALL(IF(FinalSonucu!H$3:H$152<60,ROW(FinalSonucu!$C$3:$C$152)-ROW(FinalSonucu!$C$3)+1),ROWS(D$3:D13))),"")} -> 0 | E13: {=IFERROR(INDEX(FinalSonucu!$C$3:$C$152,SMALL(IF(FinalSonucu!I$3:I$152<60,ROW(FinalSonucu!$C$3:$C$152)-ROW(FinalSonucu!$C$3)+1),ROWS(E$3:E13))),"")} -> 0 | F13: {=IFERROR(INDEX(FinalSonucu!$C$3:$C$152,SMALL(IF(FinalSonucu!J$3:J$152<60,ROW(FinalSonucu!$C$3:$C$152)-ROW(FinalSonucu!$C$3)+1),ROWS(F$3:F13))),"")} -> 0 | G13: {=IFERROR(INDEX(FinalSonucu!$C$3:$C$152,SMALL(IF(FinalSonucu!K$3:K$152<60,ROW(FinalSonucu!$C$3:$C$152)-ROW(FinalSonucu!$C$3)+1),ROWS(G$3:G13))),"")} -> 0 | H13: {=IFERROR(INDEX(FinalSonucu!$C$3:$C$152,SMALL(IF(FinalSonucu!L$3:L$152<60,ROW(FinalSonucu!$C$3:$C$152)-ROW(FinalSonucu!$C$3)+1),ROWS(H$3:H13))),"")} -> 0 | I13: {=IFERROR(INDEX(FinalSonucu!$C$3:$C$152,SMALL(IF(FinalSonucu!M$3:M$152<60,ROW(FinalSonucu!$C$3:$C$152)-ROW(FinalSonucu!$C$3)+1),ROWS(I$3:I13))),"")} -> 0 | ... N13: {=IFERROR(INDEX(FinalSonucu!$C$3:$C$152,SMALL(IF(FinalSonucu!R$3:R$152<60,ROW(FinalSonucu!$C$3:$C$152)-ROW(FinalSonucu!$C$3)+1),ROWS(N$3:N13))),"")} -> 0
A14: 12 | B14: {=IFERROR(INDEX(FinalSonucu!$C$3:$C$152,SMALL(IF(FinalSonucu!F$3:F$152<60,ROW(FinalSonucu!$C$3:$C$152)-ROW(FinalSonucu!$C$3)+1),ROWS(B$3:B14))),"")} -> 0 | C14: {=IFERROR(INDEX(FinalSonucu!$C$3:$C$152,SMALL(IF(FinalSonucu!G$3:G$152<60,ROW(FinalSonucu!$C$3:$C$152)-ROW(FinalSonucu!$C$3)+1),ROWS(C$3:C14))),"")} -> 0 | D14: {=IFERROR(INDEX(FinalSonucu!$C$3:$C$152,SMALL(IF(FinalSonucu!H$3:H$152<60,ROW(FinalSonucu!$C$3:$C$152)-ROW(FinalSonucu!$C$3)+1),ROWS(D$3:D14))),"")} -> 0 | E14: {=IFERROR(INDEX(FinalSonucu!$C$3:$C$152,SMALL(IF(FinalSonucu!I$3:I$152<60,ROW(FinalSonucu!$C$3:$C$152)-ROW(FinalSonucu!$C$3)+1),ROWS(E$3:E14))),"")} -> 0 | F14: {=IFERROR(INDEX(FinalSonucu!$C$3:$C$152,SMALL(IF(FinalSonucu!J$3:J$152<60,ROW(FinalSonucu!$C$3:$C$152)-ROW(FinalSonucu!$C$3)+1),ROWS(F$3:F14))),"")} -> 0 | G14: {=IFERROR(INDEX(FinalSonucu!$C$3:$C$152,SMALL(IF(FinalSonucu!K$3:K$152<60,ROW(FinalSonucu!$C$3:$C$152)-ROW(FinalSonucu!$C$3)+1),ROWS(G$3:G14))),"")} -> 0 | H14: {=IFERROR(INDEX(FinalSonucu!$C$3:$C$152,SMALL(IF(FinalSonucu!L$3:L$152<60,ROW(FinalSonucu!$C$3:$C$152)-ROW(FinalSonucu!$C$3)+1),ROWS(H$3:H14))),"")} -> 0 | I14: {=IFERROR(INDEX(FinalSonucu!$C$3:$C$152,SMALL(IF(FinalSonucu!M$3:M$152<60,ROW(FinalSonucu!$C$3:$C$152)-ROW(FinalSonucu!$C$3)+1),ROWS(I$3:I14))),"")} -> 0 | ... N14: {=IFERROR(INDEX(FinalSonucu!$C$3:$C$152,SMALL(IF(FinalSonucu!R$3:R$152<60,ROW(FinalSonucu!$C$3:$C$152)-ROW(FinalSonucu!$C$3)+1),ROWS(N$3:N14))),"")} -> 0
... A152: 150 | B152: {=IFERROR(INDEX(FinalSonucu!$C$3:$C$152,SMALL(IF(FinalSonucu!F$3:F$152<60,ROW(FinalSonucu!$C$3:$C$152)-ROW(FinalSonucu!$C$3)+1),ROWS(B$3:B152))),"")} -> 0 | C152: {=IFERROR(INDEX(FinalSonucu!$C$3:$C$152,SMALL(IF(FinalSonucu!G$3:G$152<60,ROW(FinalSonucu!$C$3:$C$152)-ROW(FinalSonucu!$C$3)+1),ROWS(C$3:C152))),"")} -> 0 | D152: {=IFERROR(INDEX(FinalSonucu!$C$3:$C$152,SMALL(IF(FinalSonucu!H$3:H$152<60,ROW(FinalSonucu!$C$3:$C$152)-ROW(FinalSonucu!$C$3)+1),ROWS(D$3:D152))),"")} -> 0 | E152: {=IFERROR(INDEX(FinalSonucu!$C$3:$C$152,SMALL(IF(FinalSonucu!I$3:I$152<60,ROW(FinalSonucu!$C$3:$C$152)-ROW(FinalSonucu!$C$3)+1),ROWS(E$3:E152))),"")} -> 0 | F152: {=IFERROR(INDEX(FinalSonucu!$C$3:$C$152,SMALL(IF(FinalSonucu!J$3:J$152<60,ROW(FinalSonucu!$C$3:$C$152)-ROW(FinalSonucu!$C$3)+1),ROWS(F$3:F152))),"")} -> 0 | G152: {=IFERROR(INDEX(FinalSonucu!$C$3:$C$152,SMALL(IF(FinalSonucu!K$3:K$152<60,ROW(FinalSonucu!$C$3:$C$152)-ROW(FinalSonucu!$C$3)+1),ROWS(G$3:G152))),"")} -> 0 | H152: {=IFERROR(INDEX(FinalSonucu!$C$3:$C$152,SMALL(IF(FinalSonucu!L$3:L$152<60,ROW(FinalSonucu!$C$3:$C$152)-ROW(FinalSonucu!$C$3)+1),ROWS(H$3:H152))),"")} -> 0 | I152: {=IFERROR(INDEX(FinalSonucu!$C$3:$C$152,SMALL(IF(FinalSonucu!M$3:M$152<60,ROW(FinalSonucu!$C$3:$C$152)-ROW(FinalSonucu!$C$3)+1),ROWS(I$3:I152))),"")} -> 0 | ... N152: {=IFERROR(INDEX(FinalSonucu!$C$3:$C$152,SMALL(IF(FinalSonucu!R$3:R$152<60,ROW(FinalSonucu!$C$3:$C$152)-ROW(FinalSonucu!$C$3)+1),ROWS(N$3:N152))),"")} -> 0

Sheet Ders-Öğrenci(YILDIZ)
A2: SN | B2: =FinalSonucu!S2 -> Cerrahi | C2: =FinalSonucu!T2 -> İç Hastalıkları | D2: =FinalSonucu!U2 -> Doğum ve Jinekoloji | E2: =FinalSonucu!V2 -> Patoloji | F2: =FinalSonucu!W2 -> Dölerme ve Suni Tohumlama | G2: =FinalSonucu!X2 -> Farmakoloji ve Toksikoloji | H2: =FinalSonucu!Y2 -> Hayvan Besleme ve Beslenme Hastalıkları | I2: =FinalSonucu!Z2 -> Zootekni | ... N2: =FinalSonucu!AE2 -> Veteriner Hekimlik tarihi ve Deontoloji
