Workbook

Sheet FinalSonucu
P1: 9 | Q1: 1 | R1: 1 | S1: 1 | T1: 1 | U1: 1 | V1: 1 | W1: 1 | X1: 1 | Y1: 1 | Z1: Kat Sayılar: | AA1: =SUM(P1:Y1) -> 18 | AC1: D:Devamsız
A2: SN | B2: Öğrenci No | C2: Adı Soyadı | D2: Adı Soyadı | E2: Kalan Dersler | F2: Gıda Hijyeni ve Teknolojisi | G2: Farmakoloji ve Toksikoloji | H2: Mikrobiyoloji | I2: Zootekni | J2: Parazitoloji | K2: Hayvan Besleme ve Beslenme Hastalıkları | L2: Genetik | M2: Viroloji | N2: Anatomi | O2: Histoloji | P2: Gıda Hijyeni ve Teknolojisi | Q2: Farmakoloji ve Toksikoloji | R2: Mikrobiyoloji | S2: Zootekni | T2: Parazitoloji | U2: Hayvan Besleme ve Beslenme Hastalıkları | V2: Genetik | W2: Viroloji | X2: Anatomi | Y2: Histoloji | Z2: Sonuç | AA2: Sisteme Gireliecek | AC2: G:Girmedi
A3: 1 | D3: =IFERROR(IF(COUNT(FIND(" ",C3,FIND(" ",C3)+1))>0,LEFT(C3,2)&REPT("*",FIND(" ",C3,1)-3)&MID(C3,FIND(" ",C3,1),3)&REPT("*",FIND(" ",C3,FIND(" ",C3)+1)-FIND(" ",C3,1)-3)&MID(C3,FIND(" ",C3,FIND(" ",C3)+1),3)&REPT("*",LEN(C3)-2-FIND(" ",C3,FIND(" ",C3)+1)),LEFT(C3,2)&REPT("*",FIND(" ",C3,1)-3)&MID(C3,FIND(" ",C3)+1,2)&REPT("*",LEN(C3)-2-FIND(" ",C3))),"") | E3: =IF(C3="","",TRIM(SUBSTITUTE(SUBSTITUTE(SUBSTITUTE( IF(P3="G",$P$2,"-")&", "&IF(P3="D",$P$2&"(Devamsız)","-")&", "&IF(P3<60,$P$2,"-")&", "& IF(Q3="G",$Q$2,"-")&", "&IF(Q3="D",$Q$2&"(Devamsız)","-")&", "&IF(Q3<60,$Q$2,"-")&", "& IF(R3="G",$R$2,"-")&", "&IF(R3="D",$R$2&"(Devamsız)","-")&", "&IF(R3<60,$R$2,"-")&", "& IF(S3="G",$S$2,"-")&", "&IF(S3="D",$S$2&"(Devamsız)","-")&", "&IF(S3<60,$S$2,"-")&", "& IF(T3="G",$T$2,"-")&", "&IF(T3="D",$T$2&"(Devamsız)","-")&", "&IF(T3<60,$T$2,"-")&", "& IF(U3="G",$U$2,"-")&", "&IF(U3="D",$U$2&"(Devamsız)","-")&", "&IF(U3<60,$U$2,"-")&", "& IF(V3="G",$V$2,"-")&", "&IF(V3="D",$V$2&"(Devamsız)","-")&", "&IF(V3<60,$V$2,"-")&", "& IF(W3="G",$W$2,"-")&", "&IF(W3="D",$W$2&"(Devamsız)","-")&", "&IF(W3<60,$W$2,"-")&", "& IF(X3="G",$X$2,"-")&", "&IF(X3="D",$X$2&"(Devamsız)","-")&", "&IF(X3<60,$X$2,"-")&", "& IF(Y3="G",$Y$2,"-")&", "&IF(Y3="D",$Y$2&"(Devamsız)","-")&", "&IF(Y3<60,$Y$2,"-"),", -",""),"-,",""),"-",""))) | F3: =IF(OR(P3="D",P3="G"),-1,P3) -> 0 | G3: =IF(OR(Q3="D",Q3="G"),-1,Q3) -> 0 | H3: =IF(OR(R3="D",R3="G"),-1,R3) -> 0 | I3: =IF(OR(S3="D",S3="G"),-1,S3) -> 0 | J3: =IF(OR(T3="D",T3="G"),-1,T3) -> 0 | K3: =IF(OR(U3="D",U3="G"),-1,U3) -> 0 | L3: =IF(OR(V3="D",V3="G"),-1,V3) -> 0 | M3: =IF(OR(W3="D",W3="G"),-1,W3) -> 0 | ... O3: =IF(OR(Y3="D",Y3="G"),-1,Y3) -> 0 | Z3: =IF(D3="","",IF(OR(P3="D",Q3="D",R3="D",S3="D",T3="D",U3="D",V3="D",W3="D",X3="D",Y3="D"),"D",IF(OR(P3="G",Q3="G",R3="G",S3="G",T3="G",U3="G",V3="G",W3="G",X3="G",Y3="G"),"G",IF(OR(P3<60,Q3<60,R3<60,S3<60,T3<60,U3<60,V3<60,W3<60,X3<60,Y3<60),11,(IF(P3>59,($P$1*P3),0)+IF(Q3>59,($Q$1*Q3),0)+IF(R3>59,($R$1*R3),0)+IF(S3>59,($S$1*S3),0)+IF(T3>59,($T$1*T3),0)+IF(U3>59,($U$1*U3),0)+IF(V3>59,($V$1*V3),0)+IF(W3>59,($W$1*W3),0)+IF(X3>59,($X$1*X3),0)+IF(Y3>59,($Y$1*Y3),0))/18)))) | AA3: =IF(Z3="D","Devamsız",IF(Z3="G","Girmedi",Z3))
A4: 2 | D4: =IFERROR(IF(COUNT(FIND(" ",C4,FIND(" ",C4)+1))>0,LEFT(C4,2)&REPT("*",FIND(" ",C4,1)-3)&MID(C4,FIND(" ",C4,1),3)&REPT("*",FIND(" ",C4,FIND(" ",C4)+1)-FIND(" ",C4,1)-3)&MID(C4,FIND(" ",C4,FIND(" ",C4)+1),3)&REPT("*",LEN(C4)-2-FIND(" ",C4,FIND(" ",C4)+1)),LEFT(C4,2)&REPT("*",FIND(" ",C4,1)-3)&MID(C4,FIND(" ",C4)+1,2)&REPT("*",LEN(C4)-2-FIND(" ",C4))),"") | E4: =IF(C4="","",TRIM(SUBSTITUTE(SUBSTITUTE(SUBSTITUTE( IF(P4="G",$P$2,"-")&", "&IF(P4="D",$P$2&"(Devamsız)","-")&", "&IF(P4<60,$P$2,"-")&", "& IF(Q4="G",$Q$2,"-")&", "&IF(Q4="D",$Q$2&"(Devamsız)","-")&", "&IF(Q4<60,$Q$2,"-")&", "& IF(R4="G",$R$2,"-")&", "&IF(R4="D",$R$2&"(Devamsız)","-")&", "&IF(R4<60,$R$2,"-")&", "& IF(S4="G",$S$2,"-")&", "&IF(S4="D",$S$2&"(Devamsız)","-")&", "&IF(S4<60,$S$2,"-")&", "& IF(T4="G",$T$2,"-")&", "&IF(T4="D",$T$2&"(Devamsız)","-")&", "&IF(T4<60,$T$2,"-")&", "& IF(U4="G",$U$2,"-")&", "&IF(U4="D",$U$2&"(Devamsız)","-")&", "&IF(U4<60,$U$2,"-")&", "& IF(V4="G",$V$2,"-")&", "&IF(V4="D",$V$2&"(Devamsız)","-")&", "&IF(V4<60,$V$2,"-")&", "& IF(W4="G",$W$2,"-")&", "&IF(W4="D",$W$2&"(Devamsız)","-")&", "&IF(W4<60,$W$2,"-")&", "& IF(X4="G",$X$2,"-")&", "&IF(X4="D",$X$2&"(Devamsız)","-")&", "&IF(X4<60,$X$2,"-")&", "& IF(Y4="G",$Y$2,"-")&", "&IF(Y4="D",$Y$2&"(Devamsız)","-")&", "&IF(Y4<60,$Y$2,"-"),", -",""),"-,",""),"-",""))) | F4: =IF(OR(P4="D",P4="G"),-1,P4) -> 0 | G4: =IF(OR(Q4="D",Q4="G"),-1,Q4) -> 0 | H4: =IF(OR(R4="D",R4="G"),-1,R4) -> 0 | I4: =IF(OR(S4="D",S4="G"),-1,S4) -> 0 | J4: =IF(OR(T4="D",T4="G"),-1,T4) -> 0 | K4: =IF(OR(U4="D",U4="G"),-1,U4) -> 0 | L4: =IF(OR(V4="D",V4="G"),-1,V4) -> 0 | M4: =IF(OR(W4="D",W4="G"),-1,W4) -> 0 | ... O4: =IF(OR(Y4="D",Y4="G"),-1,Y4) -> 0 | Z4: =IF(D4="","",IF(OR(P4="D",Q4="D",R4="D",S4="D",T4="D",U4="D",V4="D",W4="D",X4="D",Y4="D"),"D",IF(OR(P4="G",Q4="G",R4="G",S4="G",T4="G",U4="G",V4="G",W4="G",X4="G",Y4="G"),"G",IF(OR(P4<60,Q4<60,R4<60,S4<60,T4<60,U4<60,V4<60,W4<60,X4<60,Y4<60),11,(IF(P4>59,($P$1*P4),0)+IF(Q4>59,($Q$1*Q4),0)+IF(R4>59,($R$1*R4),0)+IF(S4>59,($S$1*S4),0)+IF(T4>59,($T$1*T4),0)+IF(U4>59,($U$1*U4),0)+IF(V4>59,($V$1*V4),0)+IF(W4>59,($W$1*W4),0)+IF(X4>59,($X$1*X4),0)+IF(Y4>59,($Y$1*Y4),0))/18)))) | AA4: =IF(Z4="D","Devamsız",IF(Z4="G","Girmedi",Z4))
A5: 3 | D5: =IFERROR(IF(COUNT(FIND(" ",C5,FIND(" ",C5)+1))>0,LEFT(C5,2)&REPT("*",FIND(" ",C5,1)-3)&MID(C5,FIND(" ",C5,1),3)&REPT("*",FIND(" ",C5,FIND(" ",C5)+1)-FIND(" ",C5,1)-3)&MID(C5,FIND(" ",C5,FIND(" ",C5)+1),3)&REPT("*",LEN(C5)-2-FIND(" ",C5,FIND(" ",C5)+1)),LEFT(C5,2)&REPT("*",FIND(" ",C5,1)-3)&MID(C5,FIND(" ",C5)+1,2)&REPT("*",LEN(C5)-2-FIND(" ",C5))),"") | E5: =IF(C5="","",TRIM(SUBSTITUTE(SUBSTITUTE(SUBSTITUTE( IF(P5="G",$P$2,"-")&", "&IF(P5="D",$P$2&"(Devamsız)","-")&", "&IF(P5<60,$P$2,"-")&", "& IF(Q5="G",$Q$2,"-")&", "&IF(Q5="D",$Q$2&"(Devamsız)","-")&", "&IF(Q5<60,$Q$2,"-")&", "& IF(R5="G",$R$2,"-")&", "&IF(R5="D",$R$2&"(Devamsız)","-")&", "&IF(R5<60,$R$2,"-")&", "& IF(S5="G",$S$2,"-")&", "&IF(S5="D",$S$2&"(Devamsız)","-")&", "&IF(S5<60,$S$2,"-")&", "& IF(T5="G",$T$2,"-")&", "&IF(T5="D",$T$2&"(Devamsız)","-")&", "&IF(T5<60,$T$2,"-")&", "& IF(U5="G",$U$2,"-")&", "&IF(U5="D",$U$2&"(Devamsız)","-")&", "&IF(U5<60,$U$2,"-")&", "& IF(V5="G",$V$2,"-")&", "&IF(V5="D",$V$2&"(Devamsız)","-")&", "&IF(V5<60,$V$2,"-")&", "& IF(W5="G",$W$2,"-")&", "&IF(W5="D",$W$2&"(Devamsız)","-")&", "&IF(W5<60,$W$2,"-")&", "& IF(X5="G",$X$2,"-")&", "&IF(X5="D",$X$2&"(Devamsız)","-")&", "&IF(X5<60,$X$2,"-")&", "& IF(Y5="G",$Y$2,"-")&", "&IF(Y5="D",$Y$2&"(Devamsız)","-")&", "&IF(Y5<60,$Y$2,"-"),", -",""),"-,",""),"-",""))) | F5: =IF(OR(P5="D",P5="G"),-1,P5) -> 0 | G5: =IF(OR(Q5="D",Q5="G"),-1,Q5) -> 0 | H5: =IF(OR(R5="D",R5="G"),-1,R5) -> 0 | I5: =IF(OR(S5="D",S5="G"),-1,S5) -> 0 | J5: =IF(OR(T5="D",T5="G"),-1,T5) -> 0 | K5: =IF(OR(U5="D",U5="G"),-1,U5) -> 0 | L5: =IF(OR(V5="D",V5="G"),-1,V5) -> 0 | M5: =IF(OR(W5="D",W5="G"),-1,W5) -> 0 | ... O5: =IF(OR(Y5="D",Y5="G"),-1,Y5) -> 0 | Z5: =IF(D5="","",IF(OR(P5="D",Q5="D",R5="D",S5="D",T5="D",U5="D",V5="D",W5="D",X5="D",Y5="D"),"D",IF(OR(P5="G",Q5="G",R5="G",S5="G",T5="G",U5="G",V5="G",W5="G",X5="G",Y5="G"),"G",IF(OR(P5<60,Q5<60,R5<60,S5<60,T5<60,U5<60,V5<60,W5<60,X5<60,Y5<60),11,(IF(P5>59,($P$1*P5),0)+IF(Q5>59,($Q$1*Q5),0)+IF(R5>59,($R$1*R5),0)+IF(S5>59,($S$1*S5),0)+IF(T5>59,($T$1*T5),0)+IF(U5>59,($U$1*U5),0)+IF(V5>59,($V$1*V5),0)+IF(W5>59,($W$1*W5),0)+IF(X5>59,($X$1*X5),0)+IF(Y5>59,($Y$1*Y5),0))/18)))) | AA5: =IF(Z5="D","Devamsız",IF(Z5="G","Girmedi",Z5))
A6: 4 | D6: =IFERROR(IF(COUNT(FIND(" ",C6,FIND(" ",C6)+1))>0,LEFT(C6,2)&REPT("*",FIND(" ",C6,1)-3)&MID(C6,FIND(" ",C6,1),3)&REPT("*",FIND(" ",C6,FIND(" ",C6)+1)-FIND(" ",C6,1)-3)&MID(C6,FIND(" ",C6,FIND(" ",C6)+1),3)&REPT("*",LEN(C6)-2-FIND(" ",C6,FIND(" ",C6)+1)),LEFT(C6,2)&REPT("*",FIND(" ",C6,1)-3)&MID(C6,FIND(" ",C6)+1,2)&REPT("*",LEN(C6)-2-FIND(" ",C6))),"") | E6: =IF(C6="","",TRIM(SUBSTITUTE(SUBSTITUTE(SUBSTITUTE( IF(P6="G",$P$2,"-")&", "&IF(P6="D",$P$2&"(Devamsız)","-")&", "&IF(P6<60,$P$2,"-")&", "& IF(Q6="G",$Q$2,"-")&", "&IF(Q6="D",$Q$2&"(Devamsız)","-")&", "&IF(Q6<60,$Q$2,"-")&", "& IF(R6="G",$R$2,"-")&", "&IF(R6="D",$R$2&"(Devamsız)","-")&", "&IF(R6<60,$R$2,"-")&", "& IF(S6="G",$S$2,"-")&", "&IF(S6="D",$S$2&"(Devamsız)","-")&", "&IF(S6<60,$S$2,"-")&", "& IF(T6="G",$T$2,"-")&", "&IF(T6="D",$T$2&"(Devamsız)","-")&", "&IF(T6<60,$T$2,"-")&", "& IF(U6="G",$U$2,"-")&", "&IF(U6="D",$U$2&"(Devamsız)","-")&", "&IF(U6<60,$U$2,"-")&", "& IF(V6="G",$V$2,"-")&", "&IF(V6="D",$V$2&"(Devamsız)","-")&", "&IF(V6<60,$V$2,"-")&", "& IF(W6="G",$W$2,"-")&", "&IF(W6="D",$W$2&"(Devamsız)","-")&", "&IF(W6<60,$W$2,"-")&", "& IF(X6="G",$X$2,"-")&", "&IF(X6="D",$X$2&"(Devamsız)","-")&", "&IF(X6<60,$X$2,"-")&", "& IF(Y6="G",$Y$2,"-")&", "&IF(Y6="D",$Y$2&"(Devamsız)","-")&", "&IF(Y6<60,$Y$2,"-"),", -",""),"-,",""),"-",""))) | F6: =IF(OR(P6="D",P6="G"),-1,P6) -> 0 | G6: =IF(OR(Q6="D",Q6="G"),-1,Q6) -> 0 | H6: =IF(OR(R6="D",R6="G"),-1,R6) -> 0 | I6: =IF(OR(S6="D",S6="G"),-1,S6) -> 0 | J6: =IF(OR(T6="D",T6="G"),-1,T6) -> 0 | K6: =IF(OR(U6="D",U6="G"),-1,U6) -> 0 | L6: =IF(OR(V6="D",V6="G"),-1,V6) -> 0 | M6: =IF(OR(W6="D",W6="G"),-1,W6) -> 0 | ... O6: =IF(OR(Y6="D",Y6="G"),-1,Y6) -> 0 | Z6: =IF(D6="","",IF(OR(P6="D",Q6="D",R6="D",S6="D",T6="D",U6="D",V6="D",W6="D",X6="D",Y6="D"),"D",IF(OR(P6="G",Q6="G",R6="G",S6="G",T6="G",U6="G",V6="G",W6="G",X6="G",Y6="G"),"G",IF(OR(P6<60,Q6<60,R6<60,S6<60,T6<60,U6<60,V6<60,W6<60,X6<60,Y6<60),11,(IF(P6>59,($P$1*P6),0)+IF(Q6>59,($Q$1*Q6),0)+IF(R6>59,($R$1*R6),0)+IF(S6>59,($S$1*S6),0)+IF(T6>59,($T$1*T6),0)+IF(U6>59,($U$1*U6),0)+IF(V6>59,($V$1*V6),0)+IF(W6>59,($W$1*W6),0)+IF(X6>59,($X$1*X6),0)+IF(Y6>59,($Y$1*Y6),0))/18)))) | AA6: =IF(Z6="D","Devamsız",IF(Z6="G","Girmedi",Z6))
A7: 5 | D7: =IFERROR(IF(COUNT(FIND(" ",C7,FIND(" ",C7)+1))>0,LEFT(C7,2)&REPT("*",FIND(" ",C7,1)-3)&MID(C7,FIND(" ",C7,1),3)&REPT("*",FIND(" ",C7,FIND(" ",C7)+1)-FIND(" ",C7,1)-3)&MID(C7,FIND(" ",C7,FIND(" ",C7)+1),3)&REPT("*",LEN(C7)-2-FIND(" ",C7,FIND(" ",C7)+1)),LEFT(C7,2)&REPT("*",FIND(" ",C7,1)-3)&MID(C7,FIND(" ",C7)+1,2)&REPT("*",LEN(C7)-2-FIND(" ",C7))),"") | E7: =IF(C7="","",TRIM(SUBSTITUTE(SUBSTITUTE(SUBSTITUTE( IF(P7="G",$P$2,"-")&", "&IF(P7="D",$P$2&"(Devamsız)","-")&", "&IF(P7<60,$P$2,"-")&", "& IF(Q7="G",$Q$2,"-")&", "&IF(Q7="D",$Q$2&"(Devamsız)","-")&", "&IF(Q7<60,$Q$2,"-")&", "& IF(R7="G",$R$2,"-")&", "&IF(R7="D",$R$2&"(Devamsız)","-")&", "&IF(R7<60,$R$2,"-")&", "& IF(S7="G",$S$2,"-")&", "&IF(S7="D",$S$2&"(Devamsız)","-")&", "&IF(S7<60,$S$2,"-")&", "& IF(T7="G",$T$2,"-")&", "&IF(T7="D",$T$2&"(Devamsız)","-")&", "&IF(T7<60,$T$2,"-")&", "& IF(U7="G",$U$2,"-")&", "&IF(U7="D",$U$2&"(Devamsız)","-")&", "&IF(U7<60,$U$2,"-")&", "& IF(V7="G",$V$2,"-")&", "&IF(V7="D",$V$2&"(Devamsız)","-")&", "&IF(V7<60,$V$2,"-")&", "& IF(W7="G",$W$2,"-")&", "&IF(W7="D",$W$2&"(Devamsız)","-")&", "&IF(W7<60,$W$2,"-")&", "& IF(X7="G",$X$2,"-")&", "&IF(X7="D",$X$2&"(Devamsız)","-")&", "&IF(X7<60,$X$2,"-")&", "& IF(Y7="G",$Y$2,"-")&", "&IF(Y7="D",$Y$2&"(Devamsız)","-")&", "&IF(Y7<60,$Y$2,"-"),", -",""),"-,",""),"-",""))) | F7: =IF(OR(P7="D",P7="G"),-1,P7) -> 0 | G7: =IF(OR(Q7="D",Q7="G"),-1,Q7) -> 0 | H7: =IF(OR(R7="D",R7="G"),-1,R7) -> 0 | I7: =IF(OR(S7="D",S7="G"),-1,S7) -> 0 | J7: =IF(OR(T7="D",T7="G"),-1,T7) -> 0 | K7: =IF(OR(U7="D",U7="G"),-1,U7) -> 0 | L7: =IF(OR(V7="D",V7="G"),-1,V7) -> 0 | M7: =IF(OR(W7="D",W7="G"),-1,W7) -> 0 | ... O7: =IF(OR(Y7="D",Y7="G"),-1,Y7) -> 0 | Z7: =IF(D7="","",IF(OR(P7="D",Q7="D",R7="D",S7="D",T7="D",U7="D",V7="D",W7="D",X7="D",Y7="D"),"D",IF(OR(P7="G",Q7="G",R7="G",S7="G",T7="G",U7="G",V7="G",W7="G",X7="G",Y7="G"),"G",IF(OR(P7<60,Q7<60,R7<60,S7<60,T7<60,U7<60,V7<60,W7<60,X7<60,Y7<60),11,(IF(P7>59,($P$1*P7),0)+IF(Q7>59,($Q$1*Q7),0)+IF(R7>59,($R$1*R7),0)+IF(S7>59,($S$1*S7),0)+IF(T7>59,($T$1*T7),0)+IF(U7>59,($U$1*U7),0)+IF(V7>59,($V$1*V7),0)+IF(W7>59,($W$1*W7),0)+IF(X7>59,($X$1*X7),0)+IF(Y7>59,($Y$1*Y7),0))/18)))) | AA7: =IF(Z7="D","Devamsız",IF(Z7="G","Girmedi",Z7))
A8: 6 | D8: =IFERROR(IF(COUNT(FIND(" ",C8,FIND(" ",C8)+1))>0,LEFT(C8,2)&REPT("*",FIND(" ",C8,1)-3)&MID(C8,FIND(" ",C8,1),3)&REPT("*",FIND(" ",C8,FIND(" ",C8)+1)-FIND(" ",C8,1)-3)&MID(C8,FIND(" ",C8,FIND(" ",C8)+1),3)&REPT("*",LEN(C8)-2-FIND(" ",C8,FIND(" ",C8)+1)),LEFT(C8,2)&REPT("*",FIND(" ",C8,1)-3)&MID(C8,FIND(" ",C8)+1,2)&REPT("*",LEN(C8)-2-FIND(" ",C8))),"") | E8: =IF(C8="","",TRIM(SUBSTITUTE(SUBSTITUTE(SUBSTITUTE( IF(P8="G",$P$2,"-")&", "&IF(P8="D",$P$2&"(Devamsız)","-")&", "&IF(P8<60,$P$2,"-")&", "& IF(Q8="G",$Q$2,"-")&", "&IF(Q8="D",$Q$2&"(Devamsız)","-")&", "&IF(Q8<60,$Q$2,"-")&", "& IF(R8="G",$R$2,"-")&", "&IF(R8="D",$R$2&"(Devamsız)","-")&", "&IF(R8<60,$R$2,"-")&", "& IF(S8="G",$S$2,"-")&", "&IF(S8="D",$S$2&"(Devamsız)","-")&", "&IF(S8<60,$S$2,"-")&", "& IF(T8="G",$T$2,"-")&", "&IF(T8="D",$T$2&"(Devamsız)","-")&", "&IF(T8<60,$T$2,"-")&", "& IF(U8="G",$U$2,"-")&", "&IF(U8="D",$U$2&"(Devamsız)","-")&", "&IF(U8<60,$U$2,"-")&", "& IF(V8="G",$V$2,"-")&", "&IF(V8="D",$V$2&"(Devamsız)","-")&", "&IF(V8<60,$V$2,"-")&", "& IF(W8="G",$W$2,"-")&", "&IF(W8="D",$W$2&"(Devamsız)","-")&", "&IF(W8<60,$W$2,"-")&", "& IF(X8="G",$X$2,"-")&", "&IF(X8="D",$X$2&"(Devamsız)","-")&", "&IF(X8<60,$X$2,"-")&", "& IF(Y8="G",$Y$2,"-")&", "&IF(Y8="D",$Y$2&"(Devamsız)","-")&", "&IF(Y8<60,$Y$2,"-"),", -",""),"-,",""),"-",""))) | F8: =IF(OR(P8="D",P8="G"),-1,P8) -> 0 | G8: =IF(OR(Q8="D",Q8="G"),-1,Q8) -> 0 | H8: =IF(OR(R8="D",R8="G"),-1,R8) -> 0 | I8: =IF(OR(S8="D",S8="G"),-1,S8) -> 0 | J8: =IF(OR(T8="D",T8="G"),-1,T8) -> 0 | K8: =IF(OR(U8="D",U8="G"),-1,U8) -> 0 | L8: =IF(OR(V8="D",V8="G"),-1,V8) -> 0 | M8: =IF(OR(W8="D",W8="G"),-1,W8) -> 0 | ... O8: =IF(OR(Y8="D",Y8="G"),-1,Y8) -> 0 | Z8: =IF(D8="","",IF(OR(P8="D",Q8="D",R8="D",S8="D",T8="D",U8="D",V8="D",W8="D",X8="D",Y8="D"),"D",IF(OR(P8="G",Q8="G",R8="G",S8="G",T8="G",U8="G",V8="G",W8="G",X8="G",Y8="G"),"G",IF(OR(P8<60,Q8<60,R8<60,S8<60,T8<60,U8<60,V8<60,W8<60,X8<60,Y8<60),11,(IF(P8>59,($P$1*P8),0)+IF(Q8>59,($Q$1*Q8),0)+IF(R8>59,($R$1*R8),0)+IF(S8>59,($S$1*S8),0)+IF(T8>59,($T$1*T8),0)+IF(U8>59,($U$1*U8),0)+IF(V8>59,($V$1*V8),0)+IF(W8>59,($W$1*W8),0)+IF(X8>59,($X$1*X8),0)+IF(Y8>59,($Y$1*Y8),0))/18)))) | AA8: =IF(Z8="D","Devamsız",IF(Z8="G","Girmedi",Z8))
A9: 7 | D9: =IFERROR(IF(COUNT(FIND(" ",C9,FIND(" ",C9)+1))>0,LEFT(C9,2)&REPT("*",FIND(" ",C9,1)-3)&MID(C9,FIND(" ",C9,1),3)&REPT("*",FIND(" ",C9,FIND(" ",C9)+1)-FIND(" ",C9,1)-3)&MID(C9,FIND(" ",C9,FIND(" ",C9)+1),3)&REPT("*",LEN(C9)-2-FIND(" ",C9,FIND(" ",C9)+1)),LEFT(C9,2)&REPT("*",FIND(" ",C9,1)-3)&MID(C9,FIND(" ",C9)+1,2)&REPT("*",LEN(C9)-2-FIND(" ",C9))),"") | E9: =IF(C9="","",TRIM(SUBSTITUTE(SUBSTITUTE(SUBSTITUTE( IF(P9="G",$P$2,"-")&", "&IF(P9="D",$P$2&"(Devamsız)","-")&", "&IF(P9<60,$P$2,"-")&", "& IF(Q9="G",$Q$2,"-")&", "&IF(Q9="D",$Q$2&"(Devamsız)","-")&", "&IF(Q9<60,$Q$2,"-")&", "& IF(R9="G",$R$2,"-")&", "&IF(R9="D",$R$2&"(Devamsız)","-")&", "&IF(R9<60,$R$2,"-")&", "& IF(S9="G",$S$2,"-")&", "&IF(S9="D",$S$2&"(Devamsız)","-")&", "&IF(S9<60,$S$2,"-")&", "& IF(T9="G",$T$2,"-")&", "&IF(T9="D",$T$2&"(Devamsız)","-")&", "&IF(T9<60,$T$2,"-")&", "& IF(U9="G",$U$2,"-")&", "&IF(U9="D",$U$2&"(Devamsız)","-")&", "&IF(U9<60,$U$2,"-")&", "& IF(V9="G",$V$2,"-")&", "&IF(V9="D",$V$2&"(Devamsız)","-")&", "&IF(V9<60,$V$2,"-")&", "& IF(W9="G",$W$2,"-")&", "&IF(W9="D",$W$2&"(Devamsız)","-")&", "&IF(W9<60,$W$2,"-")&", "& IF(X9="G",$X$2,"-")&", "&IF(X9="D",$X$2&"(Devamsız)","-")&", "&IF(X9<60,$X$2,"-")&", "& IF(Y9="G",$Y$2,"-")&", "&IF(Y9="D",$Y$2&"(Devamsız)","-")&", "&IF(Y9<60,$Y$2,"-"),", -",""),"-,",""),"-",""))) | F9: =IF(OR(P9="D",P9="G"),-1,P9) -> 0 | G9: =IF(OR(Q9="D",Q9="G"),-1,Q9) -> 0 | H9: =IF(OR(R9="D",R9="G"),-1,R9) -> 0 | I9: =IF(OR(S9="D",S9="G"),-1,S9) -> 0 | J9: =IF(OR(T9="D",T9="G"),-1,T9) -> 0 | K9: =IF(OR(U9="D",U9="G"),-1,U9) -> 0 | L9: =IF(OR(V9="D",V9="G"),-1,V9) -> 0 | M9: =IF(OR(W9="D",W9="G"),-1,W9) -> 0 | ... O9: =IF(OR(Y9="D",Y9="G"),-1,Y9) -> 0 | Z9: =IF(D9="","",IF(OR(P9="D",Q9="D",R9="D",S9="D",T9="D",U9="D",V9="D",W9="D",X9="D",Y9="D"),"D",IF(OR(P9="G",Q9="G",R9="G",S9="G",T9="G",U9="G",V9="G",W9="G",X9="G",Y9="G"),"G",IF(OR(P9<60,Q9<60,R9<60,S9<60,T9<60,U9<60,V9<60,W9<60,X9<60,Y9<60),11,(IF(P9>59,($P$1*P9),0)+IF(Q9>59,($Q$1*Q9),0)+IF(R9>59,($R$1*R9),0)+IF(S9>59,($S$1*S9),0)+IF(T9>59,($T$1*T9),0)+IF(U9>59,($U$1*U9),0)+IF(V9>59,($V$1*V9),0)+IF(W9>59,($W$1*W9),0)+IF(X9>59,($X$1*X9),0)+IF(Y9>59,($Y$1*Y9),0))/18)))) | AA9: =IF(Z9="D","Devamsız",IF(Z9="G","Girmedi",Z9))
A10: 8 | D10: =IFERROR(IF(COUNT(FIND(" ",C10,FIND(" ",C10)+1))>0,LEFT(C10,2)&REPT("*",FIND(" ",C10,1)-3)&MID(C10,FIND(" ",C10,1),3)&REPT("*",FIND(" ",C10,FIND(" ",C10)+1)-FIND(" ",C10,1)-3)&MID(C10,FIND(" ",C10,FIND(" ",C10)+1),3)&REPT("*",LEN(C10)-2-FIND(" ",C10,FIND(" ",C10)+1)),LEFT(C10,2)&REPT("*",FIND(" ",C10,1)-3)&MID(C10,FIND(" ",C10)+1,2)&REPT("*",LEN(C10)-2-FIND(" ",C10))),"") | E10: =IF(C10="","",TRIM(SUBSTITUTE(SUBSTITUTE(SUBSTITUTE( IF(P10="G",$P$2,"-")&", "&IF(P10="D",$P$2&"(Devamsız)","-")&", "&IF(P10<60,$P$2,"-")&", "& IF(Q10="G",$Q$2,"-")&", "&IF(Q10="D",$Q$2&"(Devamsız)","-")&", "&IF(Q10<60,$Q$2,"-")&", "& IF(R10="G",$R$2,"-")&", "&IF(R10="D",$R$2&"(Devamsız)","-")&", "&IF(R10<60,$R$2,"-")&", "& IF(S10="G",$S$2,"-")&", "&IF(S10="D",$S$2&"(Devamsız)","-")&", "&IF(S10<60,$S$2,"-")&", "& IF(T10="G",$T$2,"-")&", "&IF(T10="D",$T$2&"(Devamsız)","-")&", "&IF(T10<60,$T$2,"-")&", "& IF(U10="G",$U$2,"-")&", "&IF(U10="D",$U$2&"(Devamsız)","-")&", "&IF(U10<60,$U$2,"-")&", "& IF(V10="G",$V$2,"-")&", "&IF(V10="D",$V$2&"(Devamsız)","-")&", "&IF(V10<60,$V$2,"-")&", "& IF(W10="G",$W$2,"-")&", "&IF(W10="D",$W$2&"(Devamsız)","-")&", "&IF(W10<60,$W$2,"-")&", "& IF(X10="G",$X$2,"-")&", "&IF(X10="D",$X$2&"(Devamsız)","-")&", "&IF(X10<60,$X$2,"-")&", "& IF(Y10="G",$Y$2,"-")&", "&IF(Y10="D",$Y$2&"(Devamsız)","-")&", "&IF(Y10<60,$Y$2,"-"),", -",""),"-,",""),"-",""))) | F10: =IF(OR(P10="D",P10="G"),-1,P10) -> 0 | G10: =IF(OR(Q10="D",Q10="G"),-1,Q10) -> 0 | H10: =IF(OR(R10="D",R10="G"),-1,R10) -> 0 | I10: =IF(OR(S10="D",S10="G"),-1,S10) -> 0 | J10: =IF(OR(T10="D",T10="G"),-1,T10) -> 0 | K10: =IF(OR(U10="D",U10="G"),-1,U10) -> 0 | L10: =IF(OR(V10="D",V10="G"),-1,V10) -> 0 | M10: =IF(OR(W10="D",W10="G"),-1,W10) -> 0 | ... O10: =IF(OR(Y10="D",Y10="G"),-1,Y10) -> 0 | Z10: =IF(D10="","",IF(OR(P10="D",Q10="D",R10="D",S10="D",T10="D",U10="D",V10="D",W10="D",X10="D",Y10="D"),"D",IF(OR(P10="G",Q10="G",R10="G",S10="G",T10="G",U10="G",V10="G",W10="G",X10="G",Y10="G"),"G",IF(OR(P10<60,Q10<60,R10<60,S10<60,T10<60,U10<60,V10<60,W10<60,X10<60,Y10<60),11,(IF(P10>59,($P$1*P10),0)+IF(Q10>59,($Q$1*Q10),0)+IF(R10>59,($R$1*R10),0)+IF(S10>59,($S$1*S10),0)+IF(T10>59,($T$1*T10),0)+IF(U10>59,($U$1*U10),0)+IF(V10>59,($V$1*V10),0)+IF(W10>59,($W$1*W10),0)+IF(X10>59,($X$1*X10),0)+IF(Y10>59,($Y$1*Y10),0))/18)))) | AA10: =IF(Z10="D","Devamsız",IF(Z10="G","Girmedi",Z10))
A11: 9 | D11: =IFERROR(IF(COUNT(FIND(" ",C11,FIND(" ",C11)+1))>0,LEFT(C11,2)&REPT("*",FIND(" ",C11,1)-3)&MID(C11,FIND(" ",C11,1),3)&REPT("*",FIND(" ",C11,FIND(" ",C11)+1)-FIND(" ",C11,1)-3)&MID(C11,FIND(" ",C11,FIND(" ",C11)+1),3)&REPT("*",LEN(C11)-2-FIND(" ",C11,FIND(" ",C11)+1)),LEFT(C11,2)&REPT("*",FIND(" ",C11,1)-3)&MID(C11,FIND(" ",C11)+1,2)&REPT("*",LEN(C11)-2-FIND(" ",C11))),"") | E11: =IF(C11="","",TRIM(SUBSTITUTE(SUBSTITUTE(SUBSTITUTE( IF(P11="G",$P$2,"-")&", "&IF(P11="D",$P$2&"(Devamsız)","-")&", "&IF(P11<60,$P$2,"-")&", "& IF(Q11="G",$Q$2,"-")&", "&IF(Q11="D",$Q$2&"(Devamsız)","-")&", "&IF(Q11<60,$Q$2,"-")&", "& IF(R11="G",$R$2,"-")&", "&IF(R11="D",$R$2&"(Devamsız)","-")&", "&IF(R11<60,$R$2,"-")&", "& IF(S11="G",$S$2,"-")&", "&IF(S11="D",$S$2&"(Devamsız)","-")&", "&IF(S11<60,$S$2,"-")&", "& IF(T11="G",$T$2,"-")&", "&IF(T11="D",$T$2&"(Devamsız)","-")&", "&IF(T11<60,$T$2,"-")&", "& IF(U11="G",$U$2,"-")&", "&IF(U11="D",$U$2&"(Devamsız)","-")&", "&IF(U11<60,$U$2,"-")&", "& IF(V11="G",$V$2,"-")&", "&IF(V11="D",$V$2&"(Devamsız)","-")&", "&IF(V11<60,$V$2,"-")&", "& IF(W11="G",$W$2,"-")&", "&IF(W11="D",$W$2&"(Devamsız)","-")&", "&IF(W11<60,$W$2,"-")&", "& IF(X11="G",$X$2,"-")&", "&IF(X11="D",$X$2&"(Devamsız)","-")&", "&IF(X11<60,$X$2,"-")&", "& IF(Y11="G",$Y$2,"-")&", "&IF(Y11="D",$Y$2&"(Devamsız)","-")&", "&IF(Y11<60,$Y$2,"-"),", -",""),"-,",""),"-",""))) | F11: =IF(OR(P11="D",P11="G"),-1,P11) -> 0 | G11: =IF(OR(Q11="D",Q11="G"),-1,Q11) -> 0 | H11: =IF(OR(R11="D",R11="G"),-1,R11) -> 0 | I11: =IF(OR(S11="D",S11="G"),-1,S11) -> 0 | J11: =IF(OR(T11="D",T11="G"),-1,T11) -> 0 | K11: =IF(OR(U11="D",U11="G"),-1,U11) -> 0 | L11: =IF(OR(V11="D",V11="G"),-1,V11) -> 0 | M11: =IF(OR(W11="D",W11="G"),-1,W11) -> 0 | ... O11: =IF(OR(Y11="D",Y11="G"),-1,Y11) -> 0 | Z11: =IF(D11="","",IF(OR(P11="D",Q11="D",R11="D",S11="D",T11="D",U11="D",V11="D",W11="D",X11="D",Y11="D"),"D",IF(OR(P11="G",Q11="G",R11="G",S11="G",T11="G",U11="G",V11="G",W11="G",X11="G",Y11="G"),"G",IF(OR(P11<60,Q11<60,R11<60,S11<60,T11<60,U11<60,V11<60,W11<60,X11<60,Y11<60),11,(IF(P11>59,($P$1*P11),0)+IF(Q11>59,($Q$1*Q11),0)+IF(R11>59,($R$1*R11),0)+IF(S11>59,($S$1*S11),0)+IF(T11>59,($T$1*T11),0)+IF(U11>59,($U$1*U11),0)+IF(V11>59,($V$1*V11),0)+IF(W11>59,($W$1*W11),0)+IF(X11>59,($X$1*X11),0)+IF(Y11>59,($Y$1*Y11),0))/18)))) | AA11: =IF(Z11="D","Devamsız",IF(Z11="G","Girmedi",Z11))
A12: 10 | D12: =IFERROR(IF(COUNT(FIND(" ",C12,FIND(" ",C12)+1))>0,LEFT(C12,2)&REPT("*",FIND(" ",C12,1)-3)&MID(C12,FIND(" ",C12,1),3)&REPT("*",FIND(" ",C12,FIND(" ",C12)+1)-FIND(" ",C12,1)-3)&MID(C12,FIND(" ",C12,FIND(" ",C12)+1),3)&REPT("*",LEN(C12)-2-FIND(" ",C12,FIND(" ",C12)+1)),LEFT(C12,2)&REPT("*",FIND(" ",C12,1)-3)&MID(C12,FIND(" ",C12)+1,2)&REPT("*",LEN(C12)-2-FIND(" ",C12))),"") | E12: =IF(C12="","",TRIM(SUBSTITUTE(SUBSTITUTE(SUBSTITUTE( IF(P12="G",$P$2,"-")&", "&IF(P12="D",$P$2&"(Devamsız)","-")&", "&IF(P12<60,$P$2,"-")&", "& IF(Q12="G",$Q$2,"-")&", "&IF(Q12="D",$Q$2&"(Devamsız)","-")&", "&IF(Q12<60,$Q$2,"-")&", "& IF(R12="G",$R$2,"-")&", "&IF(R12="D",$R$2&"(Devamsız)","-")&", "&IF(R12<60,$R$2,"-")&", "& IF(S12="G",$S$2,"-")&", "&IF(S12="D",$S$2&"(Devamsız)","-")&", "&IF(S12<60,$S$2,"-")&", "& IF(T12="G",$T$2,"-")&", "&IF(T12="D",$T$2&"(Devamsız)","-")&", "&IF(T12<60,$T$2,"-")&", "& IF(U12="G",$U$2,"-")&", "&IF(U12="D",$U$2&"(Devamsız)","-")&", "&IF(U12<60,$U$2,"-")&", "& IF(V12="G",$V$2,"-")&", "&IF(V12="D",$V$2&"(Devamsız)","-")&", "&IF(V12<60,$V$2,"-")&", "& IF(W12="G",$W$2,"-")&", "&IF(W12="D",$W$2&"(Devamsız)","-")&", "&IF(W12<60,$W$2,"-")&", "& IF(X12="G",$X$2,"-")&", "&IF(X12="D",$X$2&"(Devamsız)","-")&", "&IF(X12<60,$X$2,"-")&", "& IF(Y12="G",$Y$2,"-")&", "&IF(Y12="D",$Y$2&"(Devamsız)","-")&", "&IF(Y12<60,$Y$2,"-"),", -",""),"-,",""),"-",""))) | F12: =IF(OR(P12="D",P12="G"),-1,P12) -> 0 | G12: =IF(OR(Q12="D",Q12="G"),-1,Q12) -> 0 | H12: =IF(OR(R12="D",R12="G"),-1,R12) -> 0 | I12: =IF(OR(S12="D",S12="G"),-1,S12) -> 0 | J12: =IF(OR(T12="D",T12="G"),-1,T12) -> 0 | K12: =IF(OR(U12="D",U12="G"),-1,U12) -> 0 | L12: =IF(OR(V12="D",V12="G"),-1,V12) -> 0 | M12: =IF(OR(W12="D",W12="G"),-1,W12) -> 0 | ... O12: =IF(OR(Y12="D",Y12="G"),-1,Y12) -> 0 | Z12: =IF(D12="","",IF(OR(P12="D",Q12="D",R12="D",S12="D",T12="D",U12="D",V12="D",W12="D",X12="D",Y12="D"),"D",IF(OR(P12="G",Q12="G",R12="G",S12="G",T12="G",U12="G",V12="G",W12="G",X12="G",Y12="G"),"G",IF(OR(P12<60,Q12<60,R12<60,S12<60,T12<60,U12<60,V12<60,W12<60,X12<60,Y12<60),11,(IF(P12>59,($P$1*P12),0)+IF(Q12>59,($Q$1*Q12),0)+IF(R12>59,($R$1*R12),0)+IF(S12>59,($S$1*S12),0)+IF(T12>59,($T$1*T12),0)+IF(U12>59,($U$1*U12),0)+IF(V12>59,($V$1*V12),0)+IF(W12>59,($W$1*W12),0)+IF(X12>59,($X$1*X12),0)+IF(Y12>59,($Y$1*Y12),0))/18)))) | AA12: =IF(Z12="D","Devamsız",IF(Z12="G","Girmedi",Z12))
A13: 11 | D13: =IFERROR(IF(COUNT(FIND(" ",C13,FIND(" ",C13)+1))>0,LEFT(C13,2)&REPT("*",FIND(" ",C13,1)-3)&MID(C13,FIND(" ",C13,1),3)&REPT("*",FIND(" ",C13,FIND(" ",C13)+1)-FIND(" ",C13,1)-3)&MID(C13,FIND(" ",C13,FIND(" ",C13)+1),3)&REPT("*",LEN(C13)-2-FIND(" ",C13,FIND(" ",C13)+1)),LEFT(C13,2)&REPT("*",FIND(" ",C13,1)-3)&MID(C13,FIND(" ",C13)+1,2)&REPT("*",LEN(C13)-2-FIND(" ",C13))),"") | E13: =IF(C13="","",TRIM(SUBSTITUTE(SUBSTITUTE(SUBSTITUTE( IF(P13="G",$P$2,"-")&", "&IF(P13="D",$P$2&"(Devamsız)","-")&", "&IF(P13<60,$P$2,"-")&", "& IF(Q13="G",$Q$2,"-")&", "&IF(Q13="D",$Q$2&"(Devamsız)","-")&", "&IF(Q13<60,$Q$2,"-")&", "& IF(R13="G",$R$2,"-")&", "&IF(R13="D",$R$2&"(Devamsız)","-")&", "&IF(R13<60,$R$2,"-")&", "& IF(S13="G",$S$2,"-")&", "&IF(S13="D",$S$2&"(Devamsız)","-")&", "&IF(S13<60,$S$2,"-")&", "& IF(T13="G",$T$2,"-")&", "&IF(T13="D",$T$2&"(Devamsız)","-")&", "&IF(T13<60,$T$2,"-")&", "& IF(U13="G",$U$2,"-")&", "&IF(U13="D",$U$2&"(Devamsız)","-")&", "&IF(U13<60,$U$2,"-")&", "& IF(V13="G",$V$2,"-")&", "&IF(V13="D",$V$2&"(Devamsız)","-")&", "&IF(V13<60,$V$2,"-")&", "& IF(W13="G",$W$2,"-")&", "&IF(W13="D",$W$2&"(Devamsız)","-")&", "&IF(W13<60,$W$2,"-")&", "& IF(X13="G",$X$2,"-")&", "&IF(X13="D",$X$2&"(Devamsız)","-")&", "&IF(X13<60,$X$2,"-")&", "& IF(Y13="G",$Y$2,"-")&", "&IF(Y13="D",$Y$2&"(Devamsız)","-")&", "&IF(Y13<60,$Y$2,"-"),", -",""),"-,",""),"-",""))) | F13: =IF(OR(P13="D",P13="G"),-1,P13) -> 0 | G13: =IF(OR(Q13="D",Q13="G"),-1,Q13) -> 0 | H13: =IF(OR(R13="D",R13="G"),-1,R13) -> 0 | I13: =IF(OR(S13="D",S13="G"),-1,S13) -> 0 | J13: =IF(OR(T13="D",T13="G"),-1,T13) -> 0 | K13: =IF(OR(U13="D",U13="G"),-1,U13) -> 0 | L13: =IF(OR(V13="D",V13="G"),-1,V13) -> 0 | M13: =IF(OR(W13="D",W13="G"),-1,W13) -> 0 | ... O13: =IF(OR(Y13="D",Y13="G"),-1,Y13) -> 0 | Z13: =IF(D13="","",IF(OR(P13="D",Q13="D",R13="D",S13="D",T13="D",U13="D",V13="D",W13="D",X13="D",Y13="D"),"D",IF(OR(P13="G",Q13="G",R13="G",S13="G",T13="G",U13="G",V13="G",W13="G",X13="G",Y13="G"),"G",IF(OR(P13<60,Q13<60,R13<60,S13<60,T13<60,U13<60,V13<60,W13<60,X13<60,Y13<60),11,(IF(P13>59,($P$1*P13),0)+IF(Q13>59,($Q$1*Q13),0)+IF(R13>59,($R$1*R13),0)+IF(S13>59,($S$1*S13),0)+IF(T13>59,($T$1*T13),0)+IF(U13>59,($U$1*U13),0)+IF(V13>59,($V$1*V13),0)+IF(W13>59,($W$1*W13),0)+IF(X13>59,($X$1*X13),0)+IF(Y13>59,($Y$1*Y13),0))/18)))) | AA13: =IF(Z13="D","Devamsız",IF(Z13="G","Girmedi",Z13))
A14: 12 | D14: =IFERROR(IF(COUNT(FIND(" ",C14,FIND(" ",C14)+1))>0,LEFT(C14,2)&REPT("*",FIND(" ",C14,1)-3)&MID(C14,FIND(" ",C14,1),3)&REPT("*",FIND(" ",C14,FIND(" ",C14)+1)-FIND(" ",C14,1)-3)&MID(C14,FIND(" ",C14,FIND(" ",C14)+1),3)&REPT("*",LEN(C14)-2-FIND(" ",C14,FIND(" ",C14)+1)),LEFT(C14,2)&REPT("*",FIND(" ",C14,1)-3)&MID(C14,FIND(" ",C14)+1,2)&REPT("*",LEN(C14)-2-FIND(" ",C14))),"") | E14: =IF(C14="","",TRIM(SUBSTITUTE(SUBSTITUTE(SUBSTITUTE( IF(P14="G",$P$2,"-")&", "&IF(P14="D",$P$2&"(Devamsız)","-")&", "&IF(P14<60,$P$2,"-")&", "& IF(Q14="G",$Q$2,"-")&", "&IF(Q14="D",$Q$2&"(Devamsız)","-")&", "&IF(Q14<60,$Q$2,"-")&", "& IF(R14="G",$R$2,"-")&", "&IF(R14="D",$R$2&"(Devamsız)","-")&", "&IF(R14<60,$R$2,"-")&", "& IF(S14="G",$S$2,"-")&", "&IF(S14="D",$S$2&"(Devamsız)","-")&", "&IF(S14<60,$S$2,"-")&", "& IF(T14="G",$T$2,"-")&", "&IF(T14="D",$T$2&"(Devamsız)","-")&", "&IF(T14<60,$T$2,"-")&", "& IF(U14="G",$U$2,"-")&", "&IF(U14="D",$U$2&"(Devamsız)","-")&", "&IF(U14<60,$U$2,"-")&", "& IF(V14="G",$V$2,"-")&", "&IF(V14="D",$V$2&"(Devamsız)","-")&", "&IF(V14<60,$V$2,"-")&", "& IF(W14="G",$W$2,"-")&", "&IF(W14="D",$W$2&"(Devamsız)","-")&", "&IF(W14<60,$W$2,"-")&", "& IF(X14="G",$X$2,"-")&", "&IF(X14="D",$X$2&"(Devamsız)","-")&", "&IF(X14<60,$X$2,"-")&", "& IF(Y14="G",$Y$2,"-")&", "&IF(Y14="D",$Y$2&"(Devamsız)","-")&", "&IF(Y14<60,$Y$2,"-"),", -",""),"-,",""),"-",""))) | F14: =IF(OR(P14="D",P14="G"),-1,P14) -> 0 | G14: =IF(OR(Q14="D",Q14="G"),-1,Q14) -> 0 | H14: =IF(OR(R14="D",R14="G"),-1,R14) -> 0 | I14: =IF(OR(S14="D",S14="G"),-1,S14) -> 0 | J14: =IF(OR(T14="D",T14="G"),-1,T14) -> 0 | K14: =IF(OR(U14="D",U14="G"),-1,U14) -> 0 | L14: =IF(OR(V14="D",V14="G"),-1,V14) -> 0 | M14: =IF(OR(W14="D",W14="G"),-1,W14) -> 0 | ... O14: =IF(OR(Y14="D",Y14="G"),-1,Y14) -> 0 | Z14: =IF(D14="","",IF(OR(P14="D",Q14="D",R14="D",S14="D",T14="D",U14="D",V14="D",W14="D",X14="D",Y14="D"),"D",IF(OR(P14="G",Q14="G",R14="G",S14="G",T14="G",U14="G",V14="G",W14="G",X14="G",Y14="G"),"G",IF(OR(P14<60,Q14<60,R14<60,S14<60,T14<60,U14<60,V14<60,W14<60,X14<60,Y14<60),11,(IF(P14>59,($P$1*P14),0)+IF(Q14>59,($Q$1*Q14),0)+IF(R14>59,($R$1*R14),0)+IF(S14>59,($S$1*S14),0)+IF(T14>59,($T$1*T14),0)+IF(U14>59,($U$1*U14),0)+IF(V14>59,($V$1*V14),0)+IF(W14>59,($W$1*W14),0)+IF(X14>59,($X$1*X14),0)+IF(Y14>59,($Y$1*Y14),0))/18)))) | AA14: =IF(Z14="D","Devamsız",IF(Z14="G","Girmedi",Z14))
... A152: 150 | D152: =IFERROR(IF(COUNT(FIND(" ",C152,FIND(" ",C152)+1))>0,LEFT(C152,2)&REPT("*",FIND(" ",C152,1)-3)&MID(C152,FIND(" ",C152,1),3)&REPT("*",FIND(" ",C152,FIND(" ",C152)+1)-FIND(" ",C152,1)-3)&MID(C152,FIND(" ",C152,FIND(" ",C152)+1),3)&REPT("*",LEN(C152)-2-FIND(" ",C152,FIND(" ",C152)+1)),LEFT(C152,2)&REPT("*",FIND(" ",C152,1)-3)&MID(C152,FIND(" ",C152)+1,2)&REPT("*",LEN(C152)-2-FIND(" ",C152))),"") | E152: =IF(C152="","",TRIM(SUBSTITUTE(SUBSTITUTE(SUBSTITUTE( IF(P152="G",$P$2,"-")&", "&IF(P152="D",$P$2&"(Devamsız)","-")&", "&IF(P152<60,$P$2,"-")&", "& IF(Q152="G",$Q$2,"-")&", "&IF(Q152="D",$Q$2&"(Devamsız)","-")&", "&IF(Q152<60,$Q$2,"-")&", "& IF(R152="G",$R$2,"-")&", "&IF(R152="D",$R$2&"(Devamsız)","-")&", "&IF(R152<60,$R$2,"-")&", "& IF(S152="G",$S$2,"-")&", "&IF(S152="D",$S$2&"(Devamsız)","-")&", "&IF(S152<60,$S$2,"-")&", "& IF(T152="G",$T$2,"-")&", "&IF(T152="D",$T$2&"(Devamsız)","-")&", "&IF(T152<60,$T$2,"-")&", "& IF(U152="G",$U$2,"-")&", "&IF(U152="D",$U$2&"(Devamsız)","-")&", "&IF(U152<60,$U$2,"-")&", "& IF(V152="G",$V$2,"-")&", "&IF(V152="D",$V$2&"(Devamsız)","-")&", "&IF(V152<60,$V$2,"-")&", "& IF(W152="G",$W$2,"-")&", "&IF(W152="D",$W$2&"(Devamsız)","-")&", "&IF(W152<60,$W$2,"-")&", "& IF(X152="G",$X$2,"-")&", "&IF(X152="D",$X$2&"(Devamsız)","-")&", "&IF(X152<60,$X$2,"-")&", "& IF(Y152="G",$Y$2,"-")&", "&IF(Y152="D",$Y$2&"(Devamsız)","-")&", "&IF(Y152<60,$Y$2,"-"),", -",""),"-,",""),"-",""))) | F152: =IF(OR(P152="D",P152="G"),-1,P152) -> 0 | G152: =IF(OR(Q152="D",Q152="G"),-1,Q152) -> 0 | H152: =IF(OR(R152="D",R152="G"),-1,R152) -> 0 | I152: =IF(OR(S152="D",S152="G"),-1,S152) -> 0 | J152: =IF(OR(T152="D",T152="G"),-1,T152) -> 0 | K152: =IF(OR(U152="D",U152="G"),-1,U152) -> 0 | L152: =IF(OR(V152="D",V152="G"),-1,V152) -> 0 | M152: =IF(OR(W152="D",W152="G"),-1,W152) -> 0 | ... O152: =IF(OR(Y152="D",Y152="G"),-1,Y152) -> 0 | Z152: =IF(D152="","",IF(OR(P152="D",Q152="D",R152="D",S152="D",T152="D",U152="D",V152="D",W152="D",X152="D",Y152="D"),"D",IF(OR(P152="G",Q152="G",R152="G",S152="G",T152="G",U152="G",V152="G",W152="G",X152="G",Y152="G"),"G",IF(OR(P152<60,Q152<60,R152<60,S152<60,T152<60,U152<60,V152<60,W152<60,X152<60,Y152<60),11,(IF(P152>59,($P$1*P152),0)+IF(Q152>59,($Q$1*Q152),0)+IF(R152>59,($R$1*R152),0)+IF(S152>59,($S$1*S152),0)+IF(T152>59,($T$1*T152),0)+IF(U152>59,($U$1*U152),0)+IF(V152>59,($V$1*V152),0)+IF(W152>59,($W$1*W152),0)+IF(X152>59,($X$1*X152),0)+IF(Y152>59,($Y$1*Y152),0))/18)))) | AA152: =IF(Z152="D","Devamsız",IF(Z152="G","Girmedi",Z152))

Sheet Ders-Öğrenci
A2: SN | B2: =FinalSonucu!P2 -> Gıda Hijyeni ve Teknolojisi | C2: =FinalSonucu!Q2 -> Farmakoloji ve Toksikoloji | D2: =FinalSonucu!R2 -> Mikrobiyoloji | E2: =FinalSonucu!S2 -> Zootekni | F2: =FinalSonucu!T2 -> Parazitoloji | G2: =FinalSonucu!U2 -> Hayvan Besleme ve Beslenme Hastalıkları | H2: =FinalSonucu!V2 -> Genetik | I2: =FinalSonucu!W2 -> Viroloji | ... K2: =FinalSonucu!Y2 -> Histoloji
A3: 1 | B3: {=IFERROR(INDEX(FinalSonucu!$C$3:$C$152,SMALL(IF(FinalSonucu!F$3:F$152<60,ROW(FinalSonucu!$C$3:$C$152)-ROW(FinalSonucu!$C$3)+1),ROWS(B$3:B3))),"")} -> 0 | C3: {=IFERROR(INDEX(FinalSonucu!$C$3:$C$152,SMALL(IF(FinalSonucu!G$3:G$152<60,ROW(FinalSonucu!$C$3:$C$152)-ROW(FinalSonucu!$C$3)+1),ROWS(C$3:C3))),"")} -> 0 | D3: {=IFERROR(INDEX(FinalSonucu!$C$3:$C$152,SMALL(IF(FinalSonucu!H$3:H$152<60,ROW(FinalSonucu!$C$3:$C$152)-ROW(FinalSonucu!$C$3)+1),ROWS(D$3:D3))),"")} -> 0 | E3: {=IFERROR(INDEX(FinalSonucu!$C$3:$C$152,SMALL(IF(FinalSonucu!I$3:I$152<60,ROW(FinalSonucu!$C$3:$C$152)-ROW(FinalSonucu!$C$3)+1),ROWS(E$3:E3))),"")} -> 0 | F3: {=IFERROR(INDEX(FinalSonucu!$C$3:$C$152,SMALL(IF(FinalSonucu!J$3:J$152<60,ROW(FinalSonucu!$C$3:$C$152)-ROW(FinalSonucu!$C$3)+1),ROWS(F$3:F3))),"")} -> 0 | G3: {=IFERROR(INDEX(FinalSonucu!$C$3:$C$152,SMALL(IF(FinalSonucu!K$3:K$152<60,ROW(FinalSonucu!$C$3:$C$152)-ROW(FinalSonucu!$C$3)+1),ROWS(G$3:G3))),"")} -> 0 | H3: {=IFERROR(INDEX(FinalSonucu!$C$3:$C$152,SMALL(IF(FinalSonucu!L$3:L$152<60,ROW(FinalSonucu!$C$3:$C$152)-ROW(FinalSonucu!$C$3)+1),ROWS(H$3:H3))),"")} -> 0 | I3: {=IFERROR(INDEX(FinalSonucu!$C$3:$C$152,SMALL(IF(FinalSonucu!M$3:M$152<60,ROW(FinalSonucu!$C$3:$C$152)-ROW(FinalSonucu!$C$3)+1),ROWS(I$3:I3))),"")} -> 0 | ... K3: {=IFERROR(INDEX(FinalSonucu!$C$3:$C$152,SMALL(IF(FinalSonucu!O$3:O$152<60,ROW(FinalSonucu!$C$3:$C$152)-ROW(FinalSonucu!$C$3)+1),ROWS(K$3:K3))),"")} -> 0
A4: 2 | B4: {=IFERROR(INDEX(FinalSonucu!$C$3:$C$152,SMALL(IF(FinalSonucu!F$3:F$152<60,ROW(FinalSonucu!$C$3:$C$152)-ROW(FinalSonucu!$C$3)+1),ROWS(B$3:B4))),"")} -> 0 | C4: {=IFERROR(INDEX(FinalSonucu!$C$3:$C$152,SMALL(IF(FinalSonucu!G$3:G$152<60,ROW(FinalSonucu!$C$3:$C$152)-ROW(FinalSonucu!$C$3)+1),ROWS(C$3:C4))),"")} -> 0 | D4: {=IFERROR(INDEX(FinalSonucu!$C$3:$C$152,SMALL(IF(FinalSonucu!H$3:H$152<60,ROW(FinalSonucu!$C$3:$C$152)-ROW(FinalSonucu!$C$3)+1),ROWS(D$3:D4))),"")} -> 0 | E4: {=IFERROR(INDEX(FinalSonucu!$C$3:$C$152,SMALL(IF(FinalSonucu!I$3:I$152<60,ROW(FinalSonucu!$C$3:$C$152)-ROW(FinalSonucu!$C$3)+1),ROWS(E$3:E4))),"")} -> 0 | F4: {=IFERROR(INDEX(FinalSonucu!$C$3:$C$152,SMALL(IF(FinalSonucu!J$3:J$152<60,ROW(FinalSonucu!$C$3:$C$152)-ROW(FinalSonucu!$C$3)+1),ROWS(F$3:F4))),"")} -> 0 | G4: {=IFERROR(INDEX(FinalSonucu!$C$3:$C$152,SMALL(IF(FinalSonucu!K$3:K$152<60,ROW(FinalSonucu!$C$3:$C$152)-ROW(FinalSonucu!$C$3)+1),ROWS(G$3:G4))),"")} -> 0 | H4: {=IFERROR(INDEX(FinalSonucu!$C$3:$C$152,SMALL(IF(FinalSonucu!L$3:L$152<60,ROW(FinalSonucu!$C$3:$C$152)-ROW(FinalSonucu!$C$3)+1),ROWS(H$3:H4))),"")} -> 0 | I4: {=IFERROR(INDEX(FinalSonucu!$C$3:$C$152,SMALL(IF(FinalSonucu!M$3:M$152<60,ROW(FinalSonucu!$C$3:$C$152)-ROW(FinalSonucu!$C$3)+1),ROWS(I$3:I4))),"")} -> 0 | ... K4: {=IFERROR(INDEX(FinalSonucu!$C$3:$C$152,SMALL(IF(FinalSonucu!O$3:O$152<60,ROW(FinalSonucu!$C$3:$C$152)-ROW(FinalSonucu!$C$3)+1),ROWS(K$3:K4))),"")} -> 0
A5: 3 | B5: {=IFERROR(INDEX(FinalSonucu!$C$3:$C$152,SMALL(IF(FinalSonucu!F$3:F$152<60,ROW(FinalSonucu!$C$3:$C$152)-ROW(FinalSonucu!$C$3)+1),ROWS(B$3:B5))),"")} -> 0 | C5: {=IFERROR(INDEX(FinalSonucu!$C$3:$C$152,SMALL(IF(FinalSonucu!G$3:G$152<60,ROW(FinalSonucu!$C$3:$C$152)-ROW(FinalSonucu!$C$3)+1),ROWS(C$3:C5))),"")} -> 0 | D5: {=IFERROR(INDEX(FinalSonucu!$C$3:$C$152,SMALL(IF(FinalSonucu!H$3:H$152<60,ROW(FinalSonucu!$C$3:$C$152)-ROW(FinalSonucu!$C$3)+1),ROWS(D$3:D5))),"")} -> 0 | E5: {=IFERROR(INDEX(FinalSonucu!$C$3:$C$152,SMALL(IF(FinalSonucu!I$3:I$152<60,ROW(FinalSonucu!$C$3:$C$152)-ROW(FinalSonucu!$C$3)+1),ROWS(E$3:E5))),"")} -> 0 | F5: {=IFERROR(INDEX(FinalSonucu!$C$3:$C$152,SMALL(IF(FinalSonucu!J$3:J$152<60,ROW(FinalSonucu!$C$3:$C$152)-ROW(FinalSonucu!$C$3)+1),ROWS(F$3:F5))),"")} -> 0 | G5: {=IFERROR(INDEX(FinalSonucu!$C$3:$C$152,SMALL(IF(FinalSonucu!K$3:K$152<60,ROW(FinalSonucu!$C$3:$C$152)-ROW(FinalSonucu!$C$3)+1),ROWS(G$3:G5))),"")} -> 0 | H5: {=IFERROR(INDEX(FinalSonucu!$C$3:$C$152,SMALL(IF(FinalSonucu!L$3:L$152<60,ROW(FinalSonucu!$C$3:$C$152)-ROW(FinalSonucu!$C$3)+1),ROWS(H$3:H5))),"")} -> 0 | I5: {=IFERROR(INDEX(FinalSonucu!$C$3:$C$152,SMALL(IF(FinalSonucu!M$3:M$152<60,ROW(FinalSonucu!$C$3:$C$152)-ROW(FinalSonucu!$C$3)+1),ROWS(I$3:I5))),"")} -> 0 | ... K5: {=IFERROR(INDEX(FinalSonucu!$C$3:$C$152,SMALL(IF(FinalSonucu!O$3:O$152<60,ROW(FinalSonucu!$C$3:$C$152)-ROW(FinalSonucu!$C$3)+1),ROWS(K$3:K5))),"")} -> 0
A6: 4 | B6: {=IFERROR(INDEX(FinalSonucu!$C$3:$C$152,SMALL(IF(FinalSonucu!F$3:F$152<60,ROW(FinalSonucu!$C$3:$C$152)-ROW(FinalSonucu!$C$3)+1),ROWS(B$3:B6))),"")} -> 0 | C6: {=IFERROR(INDEX(FinalSonucu!$C$3:$C$152,SMALL(IF(FinalSonucu!G$3:G$152<60,ROW(FinalSonucu!$C$3:$C$152)-ROW(FinalSonucu!$C$3)+1),ROWS(C$3:C6))),"")} -> 0 | D6: {=IFERROR(INDEX(FinalSonucu!$C$3:$C$152,SMALL(IF(FinalSonucu!H$3:H$152<60,ROW(FinalSonucu!$C$3:$C$152)-ROW(FinalSonucu!$C$3)+1),ROWS(D$3:D6))),"")} -> 0 | E6: {=IFERROR(INDEX(FinalSonucu!$C$3:$C$152,SMALL(IF(FinalSonucu!I$3:I$152<60,ROW(FinalSonucu!$C$3:$C$152)-ROW(FinalSonucu!$C$3)+1),ROWS(E$3:E6))),"")} -> 0 | F6: {=IFERROR(INDEX(FinalSonucu!$C$3:$C$152,SMALL(IF(FinalSonucu!J$3:J$152<60,ROW(FinalSonucu!$C$3:$C$152)-ROW(FinalSonucu!$C$3)+1),ROWS(F$3:F6))),"")} -> 0 | G6: {=IFERROR(INDEX(FinalSonucu!$C$3:$C$152,SMALL(IF(FinalSonucu!K$3:K$152<60,ROW(FinalSonucu!$C$3:$C$152)-ROW(FinalSonucu!$C$3)+1),ROWS(G$3:G6))),"")} -> 0 | H6: {=IFERROR(INDEX(FinalSonucu!$C$3:$C$152,SMALL(IF(FinalSonucu!L$3:L$152<60,ROW(FinalSonucu!$C$3:$C$152)-ROW(FinalSonucu!$C$3)+1),ROWS(H$3:H6))),"")} -> 0 | I6: {=IFERROR(INDEX(FinalSonucu!$C$3:$C$152,SMALL(IF(FinalSonucu!M$3:M$152<60,ROW(FinalSonucu!$C$3:$C$152)-ROW(FinalSonucu!$C$3)+1),ROWS(I$3:I6))),"")} -> 0 | ... K6: {=IFERROR(INDEX(FinalSonucu!$C$3:$C$152,SMALL(IF(FinalSonucu!O$3:O$152<60,ROW(FinalSonucu!$C$3:$C$152)-ROW(FinalSonucu!$C$3)+1),ROWS(K$3:K6))),"")} -> 0
A7: 5 | B7: {=IFERROR(INDEX(FinalSonucu!$C$3:$C$152,SMALL(IF(FinalSonucu!F$3:F$152<60,ROW(FinalSonucu!$C$3:$C$152)-ROW(FinalSonucu!$C$3)+1),ROWS(B$3:B7))),"")} -> 0 | C7: {=IFERROR(INDEX(FinalSonucu!$C$3:$C$152,SMALL(IF(FinalSonucu!G$3:G$152<60,ROW(FinalSonucu!$C$3:$C$152)-ROW(FinalSonucu!$C$3)+1),ROWS(C$3:C7))),"")} -> 0 | D7: {=IFERROR(INDEX(FinalSonucu!$C$3:$C$152,SMALL(IF(FinalSonucu!H$3:H$152<60,ROW(FinalSonucu!$C$3:$C$152)-ROW(FinalSonucu!$C$3)+1),ROWS(D$3:D7))),"")} -> 0 | E7: {=IFERROR(INDEX(FinalSonucu!$C$3:$C$152,SMALL(IF(FinalSonucu!I$3:I$152<60,ROW(FinalSonucu!$C$3:$C$152)-ROW(FinalSonucu!$C$3)+1),ROWS(E$3:E7))),"")} -> 0 | F7: {=IFERROR(INDEX(FinalSonucu!$C$3:$C$152,SMALL(IF(FinalSonucu!J$3:J$152<60,ROW(FinalSonucu!$C$3:$C$152)-ROW(FinalSonucu!$C$3)+1),ROWS(F$3:F7))),"")} -> 0 | G7: {=IFERROR(INDEX(FinalSonucu!$C$3:$C$152,SMALL(IF(FinalSonucu!K$3:K$152<60,ROW(FinalSonucu!$C$3:$C$152)-ROW(FinalSonucu!$C$3)+1),ROWS(G$3:G7))),"")} -> 0 | H7: {=IFERROR(INDEX(FinalSonucu!$C$3:$C$152,SMALL(IF(FinalSonucu!L$3:L$152<60,ROW(FinalSonucu!$C$3:$C$152)-ROW(FinalSonucu!$C$3)+1),ROWS(H$3:H7))),"")} -> 0 | I7: {=IFERROR(INDEX(FinalSonucu!$C$3:$C$152,SMALL(IF(FinalSonucu!M$3:M$152<60,ROW(FinalSonucu!$C$3:$C$152)-ROW(FinalSonucu!$C$3)+1),ROWS(I$3:I7))),"")} -> 0 | ... K7: {=IFERROR(INDEX(FinalSonucu!$C$3:$C$152,SMALL(IF(FinalSonucu!O$3:O$152<60,ROW(FinalSonucu!$C$3:$C$152)-ROW(FinalSonucu!$C$3)+1),ROWS(K$3:K7))),"")} -> 0
A8: 6 | B8: {=IFERROR(INDEX(FinalSonucu!$C$3:$C$152,SMALL(IF(FinalSonucu!F$3:F$152<60,ROW(FinalSonucu!$C$3:$C$152)-ROW(FinalSonucu!$C$3)+1),ROWS(B$3:B8))),"")} -> 0 | C8: {=IFERROR(INDEX(FinalSonucu!$C$3:$C$152,SMALL(IF(FinalSonucu!G$3:G$152<60,ROW(FinalSonucu!$C$3:$C$152)-ROW(FinalSonucu!$C$3)+1),ROWS(C$3:C8))),"")} -> 0 | D8: {=IFERROR(INDEX(FinalSonucu!$C$3:$C$152,SMALL(IF(FinalSonucu!H$3:H$152<60,ROW(FinalSonucu!$C$3:$C$152)-ROW(FinalSonucu!$C$3)+1),ROWS(D$3:D8))),"")} -> 0 | E8: {=IFERROR(INDEX(FinalSonucu!$C$3:$C$152,SMALL(IF(FinalSonucu!I$3:I$152<60,ROW(FinalSonucu!$C$3:$C$152)-ROW(FinalSonucu!$C$3)+1),ROWS(E$3:E8))),"")} -> 0 | F8: {=IFERROR(INDEX(FinalSonucu!$C$3:$C$152,SMALL(IF(FinalSonucu!J$3:J$152<60,ROW(FinalSonucu!$C$3:$C$152)-ROW(FinalSonucu!$C$3)+1),ROWS(F$3:F8))),"")} -> 0 | G8: {=IFERROR(INDEX(FinalSonucu!$C$3:$C$152,SMALL(IF(FinalSonucu!K$3:K$152<60,ROW(FinalSonucu!$C$3:$C$152)-ROW(FinalSonucu!$C$3)+1),ROWS(G$3:G8))),"")} -> 0 | H8: {=IFERROR(INDEX(FinalSonucu!$C$3:$C$152,SMALL(IF(FinalSonucu!L$3:L$152<60,ROW(FinalSonucu!$C$3:$C$152)-ROW(FinalSonucu!$C$3)+1),ROWS(H$3:H8))),"")} -> 0 | I8: {=IFERROR(INDEX(FinalSonucu!$C$3:$C$152,SMALL(IF(FinalSonucu!M$3:M$152<60,ROW(FinalSonucu!$C$3:$C$152)-ROW(FinalSonucu!$C$3)+1),ROWS(I$3:I8))),"")} -> 0 | ... K8: {=IFERROR(INDEX(FinalSonucu!$C$3:$C$152,SMALL(IF(FinalSonucu!O$3:O$152<60,ROW(FinalSonucu!$C$3:$C$152)-ROW(FinalSonucu!$C$3)+1),ROWS(K$3:K8))),"")} -> 0
A9: 7 | B9: {=IFERROR(INDEX(FinalSonucu!$C$3:$C$152,SMALL(IF(FinalSonucu!F$3:F$152<60,ROW(FinalSonucu!$C$3:$C$152)-ROW(FinalSonucu!$C$3)+1),ROWS(B$3:B9))),"")} -> 0 | C9: {=IFERROR(INDEX(FinalSonucu!$C$3:$C$152,SMALL(IF(FinalSonucu!G$3:G$152<60,ROW(FinalSonucu!$C$3:$C$152)-ROW(FinalSonucu!$C$3)+1),ROWS(C$3:C9))),"")} -> 0 | D9: {=IFERROR(INDEX(FinalSonucu!$C$3:$C$152,SMALL(IF(FinalSonucu!H$3:H$152<60,ROW(FinalSonucu!$C$3:$C$152)-ROW(FinalSonucu!$C$3)+1),ROWS(D$3:D9))),"")} -> 0 | E9: {=IFERROR(INDEX(FinalSonucu!$C$3:$C$152,SMALL(IF(FinalSonucu!I$3:I$152<60,ROW(FinalSonucu!$C$3:$C$152)-ROW(FinalSonucu!$C$3)+1),ROWS(E$3:E9))),"")} -> 0 | F9: {=IFERROR(INDEX(FinalSonucu!$C$3:$C$152,SMALL(IF(FinalSonucu!J$3:J$152<60,ROW(FinalSonucu!$C$3:$C$152)-ROW(FinalSonucu!$C$3)+1),ROWS(F$3:F9))),"")} -> 0 | G9: {=IFERROR(INDEX(FinalSonucu!$C$3:$C$152,SMALL(IF(FinalSonucu!K$3:K$152<60,ROW(FinalSonucu!$C$3:$C$152)-ROW(FinalSonucu!$C$3)+1),ROWS(G$3:G9))),"")} -> 0 | H9: {=IFERROR(INDEX(FinalSonucu!$C$3:$C$152,SMALL(IF(FinalSonucu!L$3:L$152<60,ROW(FinalSonucu!$C$3:$C$152)-ROW(FinalSonucu!$C$3)+1),ROWS(H$3:H9))),"")} -> 0 | I9: {=IFERROR(INDEX(FinalSonucu!$C$3:$C$152,SMALL(IF(FinalSonucu!M$3:M$152<60,ROW(FinalSonucu!$C$3:$C$152)-ROW(FinalSonucu!$C$3)+1),ROWS(I$3:I9))),"")} -> 0 | ... K9: {=IFERROR(INDEX(FinalSonucu!$C$3:$C$152,SMALL(IF(FinalSonucu!O$3:O$152<60,ROW(FinalSonucu!$C$3:$C$152)-ROW(FinalSonucu!$C$3)+1),ROWS(K$3:K9))),"")} -> 0
A10: 8 | B10: {=IFERROR(INDEX(FinalSonucu!$C$3:$C$152,SMALL(IF(FinalSonucu!F$3:F$152<60,ROW(FinalSonucu!$C$3:$C$152)-ROW(FinalSonucu!$C$3)+1),ROWS(B$3:B10))),"")} -> 0 | C10: {=IFERROR(INDEX(FinalSonucu!$C$3:$C$152,SMALL(IF(FinalSonucu!G$3:G$152<60,ROW(FinalSonucu!$C$3:$C$152)-ROW(FinalSonucu!$C$3)+1),ROWS(C$3:C10))),"")} -> 0 | D10: {=IFERROR(INDEX(FinalSonucu!$C$3:$C$152,SMALL(IF(FinalSonucu!H$3:H$152<60,ROW(FinalSonucu!$C$3:$C$152)-ROW(FinalSonucu!$C$3)+1),ROWS(D$3:D10))),"")} -> 0 | E10: {=IFERROR(INDEX(FinalSonucu!$C$3:$C$152,SMALL(IF(FinalSonucu!I$3:I$152<60,ROW(FinalSonucu!$C$3:$C$152)-ROW(FinalSonucu!$C$3)+1),ROWS(E$3:E10))),"")} -> 0 | F10: {=IFERROR(INDEX(FinalSonucu!$C$3:$C$152,SMALL(IF(FinalSonucu!J$3:J$152<60,ROW(FinalSonucu!$C$3:$C$152)-ROW(FinalSonucu!$C$3)+1),ROWS(F$3:F10))),"")} -> 0 | G10: {=IFERROR(INDEX(FinalSonucu!$C$3:$C$152,SMALL(IF(FinalSonucu!K$3:K$152<60,ROW(FinalSonucu!$C$3:$C$152)-ROW(FinalSonucu!$C$3)+1),ROWS(G$3:G10))),"")} -> 0 | H10: {=IFERROR(INDEX(FinalSonucu!$C$3:$C$152,SMALL(IF(FinalSonucu!L$3:L$152<60,ROW(FinalSonucu!$C$3:$C$152)-ROW(FinalSonucu!$C$3)+1),ROWS(H$3:H10))),"")} -> 0 | I10: {=IFERROR(INDEX(FinalSonucu!$C$3:$C$152,SMALL(IF(FinalSonucu!M$3:M$152<60,ROW(FinalSonucu!$C$3:$C$152)-ROW(FinalSonucu!$C$3)+1),ROWS(I$3:I10))),"")} -> 0 | ... K10: {=IFERROR(INDEX(FinalSonucu!$C$3:$C$152,SMALL(IF(FinalSonucu!O$3:O$152<60,ROW(FinalSonucu!$C$3:$C$152)-ROW(FinalSonucu!$C$3)+1),ROWS(K$3:K10))),"")} -> 0
A11: 9 | B11: {=IFERROR(INDEX(FinalSonucu!$C$3:$C$152,SMALL(IF(FinalSonucu!F$3:F$152<60,ROW(FinalSonucu!$C$3:$C$152)-ROW(FinalSonucu!$C$3)+1),ROWS(B$3:B11))),"")} -> 0 | C11: {=IFERROR(INDEX(FinalSonucu!$C$3:$C$152,SMALL(IF(FinalSonucu!G$3:G$152<60,ROW(FinalSonucu!$C$3:$C$152)-ROW(FinalSonucu!$C$3)+1),ROWS(C$3:C11))),"")} -> 0 | D11: {=IFERROR(INDEX(FinalSonucu!$C$3:$C$152,SMALL(IF(FinalSonucu!H$3:H$152<60,ROW(FinalSonucu!$C$3:$C$152)-ROW(FinalSonucu!$C$3)+1),ROWS(D$3:D11))),"")} -> 0 | E11: {=IFERROR(INDEX(FinalSonucu!$C$3:$C$152,SMALL(IF(FinalSonucu!I$3:I$152<60,ROW(FinalSonucu!$C$3:$C$152)-ROW(FinalSonucu!$C$3)+1),ROWS(E$3:E11))),"")} -> 0 | F11: {=IFERROR(INDEX(FinalSonucu!$C$3:$C$152,SMALL(IF(FinalSonucu!J$3:J$152<60,ROW(FinalSonucu!$C$3:$C$152)-ROW(FinalSonucu!$C$3)+1),ROWS(F$3:F11))),"")} -> 0 | G11: {=IFERROR(INDEX(FinalSonucu!$C$3:$C$152,SMALL(IF(FinalSonucu!K$3:K$152<60,ROW(FinalSonucu!$C$3:$C$152)-ROW(FinalSonucu!$C$3)+1),ROWS(G$3:G11))),"")} -> 0 | H11: {=IFERROR(INDEX(FinalSonucu!$C$3:$C$152,SMALL(IF(FinalSonucu!L$3:L$152<60,ROW(FinalSonucu!$C$3:$C$152)-ROW(FinalSonucu!$C$3)+1),ROWS(H$3:H11))),"")} -> 0 | I11: {=IFERROR(INDEX(FinalSonucu!$C$3:$C$152,SMALL(IF(FinalSonucu!M$3:M$152<60,ROW(FinalSonucu!$C$3:$C$152)-ROW(FinalSonucu!$C$3)+1),ROWS(I$3:I11))),"")} -> 0 | ... K11: {=IFERROR(INDEX(FinalSonucu!$C$3:$C$152,SMALL(IF(FinalSonucu!O$3:O$152<60,ROW(FinalSonucu!$C$3:$C$152)-ROW(FinalSonucu!$C$3)+1),ROWS(K$3:K11))),"")} -> 0
A12: 10 | B12: {=IFERROR(INDEX(FinalSonucu!$C$3:$C$152,SMALL(IF(FinalSonucu!F$3:F$152<60,ROW(FinalSonucu!$C$3:$C$152)-ROW(FinalSonucu!$C$3)+1),ROWS(B$3:B12))),"")} -> 0 | C12: {=IFERROR(INDEX(FinalSonucu!$C$3:$C$152,SMALL(IF(FinalSonucu!G$3:G$152<60,ROW(FinalSonucu!$C$3:$C$152)-ROW(FinalSonucu!$C$3)+1),ROWS(C$3:C12))),"")} -> 0 | D12: {=IFERROR(INDEX(FinalSonucu!$C$3:$C$152,SMALL(IF(FinalSonucu!H$3:H$152<60,ROW(FinalSonucu!$C$3:$C$152)-ROW(FinalSonucu!$C$3)+1),ROWS(D$3:D12))),"")} -> 0 | E12: {=IFERROR(INDEX(FinalSonucu!$C$3:$C$152,SMALL(IF(FinalSonucu!I$3:I$152<60,ROW(FinalSonucu!$C$3:$C$152)-ROW(FinalSonucu!$C$3)+1),ROWS(E$3:E12))),"")} -> 0 | F12: {=IFERROR(INDEX(FinalSonucu!$C$3:$C$152,SMALL(IF(FinalSonucu!J$3:J$152<60,ROW(FinalSonucu!$C$3:$C$152)-ROW(FinalSonucu!$C$3)+1),ROWS(F$3:F12))),"")} -> 0 | G12: {=IFERROR(INDEX(FinalSonucu!$C$3:$C$152,SMALL(IF(FinalSonucu!K$3:K$152<60,ROW(FinalSonucu!$C$3:$C$152)-ROW(FinalSonucu!$C$3)+1),ROWS(G$3:G12))),"")} -> 0 | H12: {=IFERROR(INDEX(FinalSonucu!$C$3:$C$152,SMALL(IF(FinalSonucu!L$3:L$152<60,ROW(FinalSonucu!$C$3:$C$152)-ROW(FinalSonucu!$C$3)+1),ROWS(H$3:H12))),"")} -> 0 | I12: {=IFERROR(INDEX(FinalSonucu!$C$3:$C$152,SMALL(IF(FinalSonucu!M$3:M$152<60,ROW(FinalSonucu!$C$3:$C$152)-ROW(FinalSonucu!$C$3)+1),ROWS(I$3:I12))),"")} -> 0 | ... K12: {=IFERROR(INDEX(FinalSonucu!$C$3:$C$152,SMALL(IF(FinalSonucu!O$3:O$152<60,ROW(FinalSonucu!$C$3:$C$152)-ROW(FinalSonucu!$C$3)+1),ROWS(K$3:K12))),"")} -> 0
A13: 11 | B13: {=IFERROR(INDEX(FinalSonucu!$C$3:$C$152,SMALL(IF(FinalSonucu!F$3:F$152<60,ROW(FinalSonucu!$C$3:$C$152)-ROW(FinalSonucu!$C$3)+1),ROWS(B$3:B13))),"")} -> 0 | C13: {=IFERROR(INDEX(FinalSonucu!$C$3:$C$152,SMALL(IF(FinalSonucu!G$3:G$152<60,ROW(FinalSonucu!$C$3:$C$152)-ROW(FinalSonucu!$C$3)+1),ROWS(C$3:C13))),"")} -> 0 | D13: {=IFERROR(INDEX(FinalSonucu!$C$3:$C$152,SMALL(IF(FinalSonucu!H$3:H$152<60,ROW(FinalSonucu!$C$3:$C$152)-ROW(FinalSonucu!$C$3)+1),ROWS(D$3:D13))),"")} -> 0 | E13: {=IFERROR(INDEX(FinalSonucu!$C$3:$C$152,SMALL(IF(FinalSonucu!I$3:I$152<60,ROW(FinalSonucu!$C$3:$C$152)-ROW(FinalSonucu!$C$3)+1),ROWS(E$3:E13))),"")} -> 0 | F13: {=IFERROR(INDEX(FinalSonucu!$C$3:$C$152,SMALL(IF(FinalSonucu!J$3:J$152<60,ROW(FinalSonucu!$C$3:$C$152)-ROW(FinalSonucu!$C$3)+1),ROWS(F$3:F13))),"")} -> 0 | G13: {=IFERROR(INDEX(FinalSonucu!$C$3:$C$152,SMALL(IF(FinalSonucu!K$3:K$152<60,ROW(FinalSonucu!$C$3:$C$152)-ROW(FinalSonucu!$C$3)+1),ROWS(G$3:G13))),"")} -> 0 | H13: {=IFERROR(INDEX(FinalSonucu!$C$3:$C$152,SMALL(IF(FinalSonucu!L$3:L$152<60,ROW(FinalSonucu!$C$3:$C$152)-ROW(FinalSonucu!$C$3)+1),ROWS(H$3:H13))),"")} -> 0 | I13: {=IFERROR(INDEX(FinalSonucu!$C$3:$C$152,SMALL(IF(FinalSonucu!M$3:M$152<60,ROW(FinalSonucu!$C$3:$C$152)-ROW(FinalSonucu!$C$3)+1),ROWS(I$3:I13))),"")} -> 0 | ... K13: {=IFERROR(INDEX(FinalSonucu!$C$3:$C$152,SMALL(IF(FinalSonucu!O$3:O$152<60,ROW(FinalSonucu!$C$3:$C$152)-ROW(FinalSonucu!$C$3)+1),ROWS(K$3:K13))),"")} -> 0
A14: 12 | B14: {=IFERROR(INDEX(FinalSonucu!$C$3:$C$152,SMALL(IF(FinalSonucu!F$3:F$152<60,ROW(FinalSonucu!$C$3:$C$152)-ROW(FinalSonucu!$C$3)+1),ROWS(B$3:B14))),"")} -> 0 | C14: {=IFERROR(INDEX(FinalSonucu!$C$3:$C$152,SMALL(IF(FinalSonucu!G$3:G$152<60,ROW(FinalSonucu!$C$3:$C$152)-ROW(FinalSonucu!$C$3)+1),ROWS(C$3:C14))),"")} -> 0 | D14: {=IFERROR(INDEX(FinalSonucu!$C$3:$C$152,SMALL(IF(FinalSonucu!H$3:H$152<60,ROW(FinalSonucu!$C$3:$C$152)-ROW(FinalSonucu!$C$3)+1),ROWS(D$3:D14))),"")} -> 0 | E14: {=IFERROR(INDEX(FinalSonucu!$C$3:$C$152,SMALL(IF(FinalSonucu!I$3:I$152<60,ROW(FinalSonucu!$C$3:$C$152)-ROW(FinalSonucu!$C$3)+1),ROWS(E$3:E14))),"")} -> 0 | F14: {=IFERROR(INDEX(FinalSonucu!$C$3:$C$152,SMALL(IF(FinalSonucu!J$3:J$152<60,ROW(FinalSonucu!$C$3:$C$152)-ROW(FinalSonucu!$C$3)+1),ROWS(F$3:F14))),"")} -> 0 | G14: {=IFERROR(INDEX(FinalSonucu!$C$3:$C$152,SMALL(IF(FinalSonucu!K$3:K$152<60,ROW(FinalSonucu!$C$3:$C$152)-ROW(FinalSonucu!$C$3)+1),ROWS(G$3:G14))),"")} -> 0 | H14: {=IFERROR(INDEX(FinalSonucu!$C$3:$C$152,SMALL(IF(FinalSonucu!L$3:L$152<60,ROW(FinalSonucu!$C$3:$C$152)-ROW(FinalSonucu!$C$3)+1),ROWS(H$3:H14))),"")} -> 0 | I14: {=IFERROR(INDEX(FinalSonucu!$C$3:$C$152,SMALL(IF(FinalSonucu!M$3:M$152<60,ROW(FinalSonucu!$C$3:$C$152)-ROW(FinalSonucu!$C$3)+1),ROWS(I$3:I14))),"")} -> 0 | ... K14: {=IFERROR(INDEX(FinalSonucu!$C$3:$C$152,SMALL(IF(FinalSonucu!O$3:O$152<60,ROW(FinalSonucu!$C$3:$C$152)-ROW(FinalSonucu!$C$3)+1),ROWS(K$3:K14))),"")} -> 0
... A152: 150 | B152: {=IFERROR(INDEX(FinalSonucu!$C$3:$C$152,SMALL(IF(FinalSonucu!F$3:F$152<60,ROW(FinalSonucu!$C$3:$C$152)-ROW(FinalSonucu!$C$3)+1),ROWS(B$3:B152))),"")} -> 0 | C152: {=IFERROR(INDEX(FinalSonucu!$C$3:$C$152,SMALL(IF(FinalSonucu!G$3:G$152<60,ROW(FinalSonucu!$C$3:$C$152)-ROW(FinalSonucu!$C$3)+1),ROWS(C$3:C152))),"")} -> 0 | D152: {=IFERROR(INDEX(FinalSonucu!$C$3:$C$152,SMALL(IF(FinalSonucu!H$3:H$152<60,ROW(FinalSonucu!$C$3:$C$152)-ROW(FinalSonucu!$C$3)+1),ROWS(D$3:D152))),"")} -> 0 | E152: {=IFERROR(INDEX(FinalSonucu!$C$3:$C$152,SMALL(IF(FinalSonucu!I$3:I$152<60,ROW(FinalSonucu!$C$3:$C$152)-ROW(FinalSonucu!$C$3)+1),ROWS(E$3:E152))),"")} -> 0 | F152: {=IFERROR(INDEX(FinalSonucu!$C$3:$C$152,SMALL(IF(FinalSonucu!J$3:J$152<60,ROW(FinalSonucu!$C$3:$C$152)-ROW(FinalSonucu!$C$3)+1),ROWS(F$3:F152))),"")} -> 0 | G152: {=IFERROR(INDEX(FinalSonucu!$C$3:$C$152,SMALL(IF(FinalSonucu!K$3:K$152<60,ROW(FinalSonucu!$C$3:$C$152)-ROW(FinalSonucu!$C$3)+1),ROWS(G$3:G152))),"")} -> 0 | H152: {=IFERROR(INDEX(FinalSonucu!$C$3:$C$152,SMALL(IF(FinalSonucu!L$3:L$152<60,ROW(FinalSonucu!$C$3:$C$152)-ROW(FinalSonucu!$C$3)+1),ROWS(H$3:H152))),"")} -> 0 | I152: {=IFERROR(INDEX(FinalSonucu!$C$3:$C$152,SMALL(IF(FinalSonucu!M$3:M$152<60,ROW(FinalSonucu!$C$3:$C$152)-ROW(FinalSonucu!$C$3)+1),ROWS(I$3:I152))),"")} -> 0 | ... K152: {=IFERROR(INDEX(FinalSonucu!$C$3:$C$152,SMALL(IF(FinalSonucu!O$3:O$152<60,ROW(FinalSonucu!$C$3:$C$152)-ROW(FinalSonucu!$C$3)+1),ROWS(K$3:K152))),"")} -> 0

Sheet Ders-Öğrenci(YILDIZ)
A2: SN | B2: =FinalSonucu!P2 -> Gıda Hijyeni ve Teknolojisi | C2: =FinalSonucu!Q2 -> Farmakoloji ve Toksikoloji | D2: =FinalSonucu!R2 -> Mikrobiyoloji | E2: =FinalSonucu!S2 -> Zootekni | F2: =FinalSonucu!T2 -> Parazitoloji | G2: =FinalSonucu!U2 -> Hayvan Besleme ve Beslenme Hastalıkları | H2: =FinalSonucu!V2 -> Genetik | I2: =FinalSonucu!W2 -> Viroloji | ... K2: =FinalSonucu!Y2 -> Histoloji
A3: 1 | B3: =IFERROR(IF(COUNT(FIND(" ",'Ders-Öğrenci'!B3,FIND(" ",'Ders-Öğrenci'!B3)+1))>0,LEFT('Ders-Öğrenci'!B3,2)&REPT("*",FIND(" ",'Ders-Öğrenci'!B3,1)-3)&MID('Ders-Öğrenci'!B3,FIND(" ",'Ders-Öğrenci'!B3,1),3)&REPT("*",FIND(" ",'Ders-Öğrenci'!B3,FIND(" ",'Ders-Öğrenci'!B3)+1)-FIND(" ",'Ders-Öğrenci'!B3,1)-3)&MID('Ders-Öğrenci'!B3,FIND(" ",'Ders-Öğrenci'!B3,FIND(" ",'Ders-Öğrenci'!B3)+1),3)&REPT("*",LEN('Ders-Öğrenci'!B3)-2-FIND(" ",'Ders-Öğrenci'!B3,FIND(" ",'Ders-Öğrenci'!B3)+1)),LEFT('Ders-Öğrenci'!B3,2)&REPT("*",FIND(" ",'Ders-Öğrenci'!B3,1)-3)&MID('Ders-Öğrenci'!B3,FIND(" ",'Ders-Öğrenci'!B3)+1,2)&REPT("*",LEN('Ders-Öğrenci'!B3)-2-FIND(" ",'Ders-Öğrenci'!B3))),"") | C3: =IFERROR(IF(COUNT(FIND(" ",'Ders-Öğrenci'!C3,FIND(" ",'Ders-Öğrenci'!C3)+1))>0,LEFT('Ders-Öğrenci'!C3,2)&REPT("*",FIND(" ",'Ders-Öğrenci'!C3,1)-3)&MID('Ders-Öğrenci'!C3,FIND(" ",'Ders-Öğrenci'!C3,1),3)&REPT("*",FIND(" ",'Ders-Öğrenci'!C3,FIND(" ",'Ders-Öğrenci'!C3)+1)-FIND(" ",'Ders-Öğrenci'!C3,1)-3)&MID('Ders-Öğrenci'!C3,FIND(" ",'Ders-Öğrenci'!C3,FIND(" ",'Ders-Öğrenci'!C3)+1),3)&REPT("*",LEN('Ders-Öğrenci'!C3)-2-FIND(" ",'Ders-Öğrenci'!C3,FIND(" ",'Ders-Öğrenci'!C3)+1)),LEFT('Ders-Öğrenci'!C3,2)&REPT("*",FIND(" ",'Ders-Öğrenci'!C3,1)-3)&MID('Ders-Öğrenci'!C3,FIND(" ",'Ders-Öğrenci'!C3)+1,2)&REPT("*",LEN('Ders-Öğrenci'!C3)-2-FIND(" ",'Ders-Öğrenci'!C3))),"") | D3: =IFERROR(IF(COUNT(FIND(" ",'Ders-Öğrenci'!D3,FIND(" ",'Ders-Öğrenci'!D3)+1))>0,LEFT('Ders-Öğrenci'!D3,2)&REPT("*",FIND(" ",'Ders-Öğrenci'!D3,1)-3)&MID('Ders-Öğrenci'!D3,FIND(" ",'Ders-Öğrenci'!D3,1),3)&REPT("*",FIND(" ",'Ders-Öğrenci'!D3,FIND(" ",'Ders-Öğrenci'!D3)+1)-FIND(" ",'Ders-Öğrenci'!D3,1)-3)&MID('Ders-Öğrenci'!D3,FIND(" ",'Ders-Öğrenci'!D3,FIND(" ",'Ders-Öğrenci'!D3)+1),3)&REPT("*",LEN('Ders-Öğrenci'!D3)-2-FIND(" ",'Ders-Öğrenci'!D3,FIND(" ",'Ders-Öğrenci'!D3)+1)),LEFT('Ders-Öğrenci'!D3,2)&REPT("*",FIND(" ",'Ders-Öğrenci'!D3,1)-3)&MID('Ders-Öğrenci'!D3,FIND(" ",'Ders-Öğrenci'!D3)+1,2)&REPT("*",LEN('Ders-Öğrenci'!D3)-2-FIND(" ",'Ders-Öğrenci'!D3))),"") | E3: =IFERROR(IF(COUNT(FIND(" ",'Ders-Öğrenci'!E3,FIND(" ",'Ders-Öğrenci'!E3)+1))>0,LEFT('Ders-Öğrenci'!E3,2)&REPT("*",FIND(" ",'Ders-Öğrenci'!E3,1)-3)&MID('Ders-Öğrenci'!E3,FIND(" ",'Ders-Öğrenci'!E3,1),3)&REPT("*",FIND(" ",'Ders-Öğrenci'!E3,FIND(" ",'Ders-Öğrenci'!E3)+1)-FIND(" ",'Ders-Öğrenci'!E3,1)-3)&MID('Ders-Öğrenci'!E3,FIND(" ",'Ders-Öğrenci'!E3,FIND(" ",'Ders-Öğrenci'!E3)+1),3)&REPT("*",LEN('Ders-Öğrenci'!E3)-2-FIND(" ",'Ders-Öğrenci'!E3,FIND(" ",'Ders-Öğrenci'!E3)+1)),LEFT('Ders-Öğrenci'!E3,2)&REPT("*",FIND(" ",'Ders-Öğrenci'!E3,1)-3)&MID('Ders-Öğrenci'!E3,FIND(" ",'Ders-Öğrenci'!E3)+1,2)&REPT("*",LEN('Ders-Öğrenci'!E3)-2-FIND(" ",'Ders-Öğrenci'!E3))),"") | F3: =IFERROR(IF(COUNT(FIND(" ",'Ders-Öğrenci'!F3,FIND(" ",'Ders-Öğrenci'!F3)+1))>0,LEFT('Ders-Öğrenci'!F3,2)&REPT("*",FIND(" ",'Ders-Öğrenci'!F3,1)-3)&MID('Ders-Öğrenci'!F3,FIND(" ",'Ders-Öğrenci'!F3,1),3)&REPT("*",FIND(" ",'Ders-Öğrenci'!F3,FIND(" ",'Ders-Öğrenci'!F3)+1)-FIND(" ",'Ders-Öğrenci'!F3,1)-3)&MID('Ders-Öğrenci'!F3,FIND(" ",'Ders-Öğrenci'!F3,FIND(" ",'Ders-Öğrenci'!F3)+1),3)&REPT("*",LEN('Ders-Öğrenci'!F3)-2-FIND(" ",'Ders-Öğrenci'!F3,FIND(" ",'Ders-Öğrenci'!F3)+1)),LEFT('Ders-Öğrenci'!F3,2)&REPT("*",FIND(" ",'Ders-Öğrenci'!F3,1)-3)&MID('Ders-Öğrenci'!F3,FIND(" ",'Ders-Öğrenci'!F3)+1,2)&REPT("*",LEN('Ders-Öğrenci'!F3)-2-FIND(" ",'Ders-Öğrenci'!F3))),"") | G3: =IFERROR(IF(COUNT(FIND(" ",'Ders-Öğrenci'!G3,FIND(" ",'Ders-Öğrenci'!G3)+1))>0,LEFT('Ders-Öğrenci'!G3,2)&REPT("*",FIND(" ",'Ders-Öğrenci'!G3,1)-3)&MID('Ders-Öğrenci'!G3,FIND(" ",'Ders-Öğrenci'!G3,1),3)&REPT("*",FIND(" ",'Ders-Öğrenci'!G3,FIND(" ",'Ders-Öğrenci'!G3)+1)-FIND(" ",'Ders-Öğrenci'!G3,1)-3)&MID('Ders-Öğrenci'!G3,FIND(" ",'Ders-Öğrenci'!G3,FIND(" ",'Ders-Öğrenci'!G3)+1),3)&REPT("*",LEN('Ders-Öğrenci'!G3)-2-FIND(" ",'Ders-Öğrenci'!G3,FIND(" ",'Ders-Öğrenci'!G3)+1)),LEFT('Ders-Öğrenci'!G3,2)&REPT("*",FIND(" ",'Ders-Öğrenci'!G3,1)-3)&MID('Ders-Öğrenci'!G3,FIND(" ",'Ders-Öğrenci'!G3)+1,2)&REPT("*",LEN('Ders-Öğrenci'!G3)-2-FIND(" ",'Ders-Öğrenci'!G3))),"") | H3: =IFERROR(IF(COUNT(FIND(" ",'Ders-Öğrenci'!H3,FIND(" ",'Ders-Öğrenci'!H3)+1))>0,LEFT('Ders-Öğrenci'!H3,2)&REPT("*",FIND(" ",'Ders-Öğrenci'!H3,1)-3)&MID('Ders-Öğrenci'!H3,FIND(" ",'Ders-Öğrenci'!H3,1),3)&REPT("*",FIND(" ",'Ders-Öğrenci'!H3,FIND(" ",'Ders-Öğrenci'!H3)+1)-FIND(" ",'Ders-Öğrenci'!H3,1)-3)&MID('Ders-Öğrenci'!H3,FIND(" ",'Ders-Öğrenci'!H3,FIND(" ",'Ders-Öğrenci'!H3)+1),3)&REPT("*",LEN('Ders-Öğrenci'!H3)-2-FIND(" ",'Ders-Öğrenci'!H3,FIND(" ",'Ders-Öğrenci'!H3)+1)),LEFT('Ders-Öğrenci'!H3,2)&REPT("*",FIND(" ",'Ders-Öğrenci'!H3,1)-3)&MID('Ders-Öğrenci'!H3,FIND(" ",'Ders-Öğrenci'!H3)+1,2)&REPT("*",LEN('Ders-Öğrenci'!H3)-2-FIND(" ",'Ders-Öğrenci'!H3))),"") | I3: =IFERROR(IF(COUNT(FIND(" ",'Ders-Öğrenci'!I3,FIND(" ",'Ders-Öğrenci'!I3)+1))>0,LEFT('Ders-Öğrenci'!I3,2)&REPT("*",FIND(" ",'Ders-Öğrenci'!I3,1)-3)&MID('Ders-Öğrenci'!I3,FIND(" ",'Ders-Öğrenci'!I3,1),3)&REPT("*",FIND(" ",'Ders-Öğrenci'!I3,FIND(" ",'Ders-Öğrenci'!I3)+1)-FIND(" ",'Ders-Öğrenci'!I3,1)-3)&MID('Ders-Öğrenci'!I3,FIND(" ",'Ders-Öğrenci'!I3,FIND(" ",'Ders-Öğrenci'!I3)+1),3)&REPT("*",LEN('Ders-Öğrenci'!I3)-2-FIND(" ",'Ders-Öğrenci'!I3,FIND(" ",'Ders-Öğrenci'!I3)+1)),LEFT('Ders-Öğrenci'!I3,2)&REPT("*",FIND(" ",'Ders-Öğrenci'!I3,1)-3)&MID('Ders-Öğrenci'!I3,FIND(" ",'Ders-Öğrenci'!I3)+1,2)&REPT("*",LEN('Ders-Öğrenci'!I3)-2-FIND(" ",'Ders-Öğrenci'!I3))),"") | ... K3: =IFERROR(IF(COUNT(FIND(" ",'Ders-Öğrenci'!K3,FIND(" ",'Ders-Öğrenci'!K3)+1))>0,LEFT('Ders-Öğrenci'!K3,2)&REPT("*",FIND(" ",'Ders-Öğrenci'!K3,1)-3)&MID('Ders-Öğrenci'!K3,FIND(" ",'Ders-Öğrenci'!K3,1),3)&REPT("*",FIND(" ",'Ders-Öğrenci'!K3,FIND(" ",'Ders-Öğrenci'!K3)+1)-FIND(" ",'Ders-Öğrenci'!K3,1)-3)&MID('Ders-Öğrenci'!K3,FIND(" ",'Ders-Öğrenci'!K3,FIND(" ",'Ders-Öğrenci'!K3)+1),3)&REPT("*",LEN('Ders-Öğrenci'!K3)-2-FIND(" ",'Ders-Öğrenci'!K3,FIND(" ",'Ders-Öğrenci'!K3)+1)),LEFT('Ders-Öğrenci'!K3,2)&REPT("*",FIND(" ",'Ders-Öğrenci'!K3,1)-3)&MID('Ders-Öğrenci'!K3,FIND(" ",'Ders-Öğrenci'!K3)+1,2)&REPT("*",LEN('Ders-Öğrenci'!K3)-2-FIND(" ",'Ders-Öğrenci'!K3))),"")
